Workbook
Name Приложение2: пр4!$A$4:$G$94
Name Приложение2: пр5!$A$4:$H$94

Sheet пр.1
B2: Приложение № 1
B3: к решению "О бюджете
B4: Новофедоровского сельского поселения
B5: Старошйговского муниципального района
B6: на 2021 год и на плановый период 2022 и 2023 годов"
B7: от 22 апреля 2021 г.№42
B8: Доходы бюджета Новофедоровского сельского поселения Старошайговского муниципального района на 2021 год и на плановый период 2022 и 2023 годов
E10: (тыс. руб.)
A11: Код | C11: 2021 | D11: 2022 | E11: 2023 | F11: 2021 | G11: 2022 | H11: 2023
A12: 0 00 00000 00 0000 000 | B12: ВСЕГО ДОХОДОВ | C12: =C13+C30 -> 4077.1 | D12: =D13+D30 -> 3042 | E12: =E13+E30 -> 3130.9 | F12: =F13+F30 -> 3602.1 | G12: =G13+G30 -> 3042 | H12: =H13+H30 -> 3130.9 | I12: =C12-F12 -> 475 | J12: =D12-G12 -> 0 | K12: =E12-H12 -> 0
A13: 1 00 00000 00 0000 000 | B13: ДОХОДЫ | C13: =C14+C19+C21+C25+C28 -> 2501.7 | D13: =D14+D19+D21+D25+D28 -> 1539.4 | E13: =E14+E19+E21+E25+E28 -> 1582.8 | F13: =F14+F19+F21+F25+F28 -> 1496.2 | G13: =G14+G19+G21+G25+G28 -> 1539.4 | H13: =H14+H19+H21+H25+H28 -> 1582.8 | I13: =C13-F13 -> 1005.5 | J13: =D13-G13 -> 0 | K13: =E13-H13 -> 0
A14: 1 01 00000 00 0000 000 | B14: НАЛОГИ НА ПРИБЫЛЬ, ДОХОДЫ | C14: =C15 -> 28.6 | D14: =D15 -> 29.7 | E14: =E15 -> 30.9 | F14: =F15 -> 28.6 | G14: =G15 -> 29.7 | H14: =H15 -> 30.9 | I14: =C14-F14 -> 0 | J14: =D14-G14 -> 0 | K14: =E14-H14 -> 0
A15: 1 01 02000 01 0000 110 | B15: Налог на доходы физических лиц | C15: =SUM(C16:C18) -> 28.6 | D15: =SUM(D16:D18) -> 29.7 | E15: =SUM(E16:E18) -> 30.9 | F15: =SUM(F16:F18) -> 28.6 | G15: =SUM(G16:G18) -> 29.7 | H15: =SUM(H16:H18) -> 30.9 | I15: =C15-F15 -> 0 | J15: =D15-G15 -> 0 | K15: =E15-H15 -> 0
A16: 1 01 02010 01 0000 110 | B16: Налог на доходы физических лиц с доходов, источником которых является налоговый агент, за исключением доходов, в отношении которых исчисление и уплата налога осуществляются в соответствии со статьями 227, 227.1 и 228 Налогового кодекса Российской Федерации | C16: 24.6 | D16: 25.2 | E16: 25.4 | F16: 24.6 | G16: 25.2 | H16: 25.4 | I16: =C16-F16 -> 0 | J16: =D16-G16 -> 0 | K16: =E16-H16 -> 0
A17: 1 01 02020 01 0000 110 | B17: Налог на доходы физических лиц с доходов, полученных от осуществления деятельности физическими лицами, зарегистрированными в качестве индивидуальных предпринимателей, нотариусов, занимающихся частной практикой, адвокатов, учредивших адвокатские кабинеты, и других лиц, занимающихся частной практикой в соответствии со статьей 227 Налогового кодекса Российской Федерации | C17: 3 | D17: 3.5 | E17: 3.5 | F17: 3 | G17: 3.5 | H17: 3.5 | I17: =C17-F17 -> 0 | J17: =D17-G17 -> 0 | K17: =E17-H17 -> 0
A18: 1 01 02030 01 0000 110 | B18: Налог на доходы физических лиц с доходов, полученных физическими лицами в соответствии со статьей 228 Налогового кодекса Российской Федерации | C18: 1 | D18: 1 | E18: 2 | F18: 1 | G18: 1 | H18: 2 | I18: =C18-F18 -> 0 | J18: =D18-G18 -> 0 | K18: =E18-H18 -> 0
A19: 1 05 0000 00 0000 000 | B19: НАЛОГИ НА СОВОКУПНЫЙ ДОХОД | C19: =C20 -> 0 | D19: =D20 -> 0 | E19: =E20 -> 0 | F19: =F20 -> 0 | G19: =G20 -> 0 | H19: =H20 -> 0 | I19: =C19-F19 -> 0 | J19: =D19-G19 -> 0 | K19: =E19-H19 -> 0
A20: 1 05 03000 01 0000 110 | B20: Единый сельскохозяйственный налог | I20: =C20-F20 -> 0 | J20: =D20-G20 -> 0 | K20: =E20-H20 -> 0
A21: 1 06 00000 00 0000 000 | B21: НАЛОГИ НА ИМУЩЕСТВО | C21: =SUM(C22:C24) -> 1464 | D21: =SUM(D22:D24) -> 1506 | E21: =SUM(E22:E24) -> 1548 | F21: =SUM(F22:F24) -> 1464 | G21: =SUM(G22:G24) -> 1506 | H21: =SUM(H22:H24) -> 1548 | I21: =C21-F21 -> 0 | J21: =D21-G21 -> 0 | K21: =E21-H21 -> 0
A22: 1 06 01030 10 0000 110 | B22: Налог на имущество физических лиц, взимаемый по ставкам, применяемым к объектам налогообложения, расположенным в границах сельских поселений | C22: 69 | D22: 71 | E22: 72 | F22: 69 | G22: 71 | H22: 72 | I22: =C22-F22 -> 0 | J22: =D22-G22 -> 0 | K22: =E22-H22 -> 0
A23: 1 06 06033 10 0000 110 | B23: Земельный налог с организаций, обладающих земельным участком, расположенным в границах сельских поселений | C23: 444.2 | D23: 444.2 | E23: 525.2 | F23: 444.2 | G23: 444.2 | H23: 525.2 | I23: =C23-F23 -> 0 | J23: =D23-G23 -> 0 | K23: =E23-H23 -> 0
A24: 1 06 06043 10 0000 110 | B24: Земельный налог с физических лиц, обладающих земельным участком, расположенным в границах сельских поселений | C24: 950.8 | D24: 990.8 | E24: 950.8 | F24: 950.8 | G24: 990.8 | H24: 950.8 | I24: =C24-F24 -> 0 | J24: =D24-G24 -> 0 | K24: =E24-H24 -> 0
A25: 1 11 00000 00 0000 000 | B25: ДОХОДЫ ОТ ИСПОЛЬЗОВАНИЯ ИМУЩЕСТВА, НАХОДЯЩЕГОСЯ В ГОСУДАРСТВЕННОЙ И МУНИЦИПАЛЬНОЙ СОБСТВЕННОСТИ | C25: =SUM(C26:C27) -> 3.6 | D25: =SUM(D26:D27) -> 3.7 | E25: =SUM(E26:E27) -> 3.9 | F25: =SUM(F26:F27) -> 3.6 | G25: =SUM(G26:G27) -> 3.7 | H25: =SUM(H26:H27) -> 3.9 | I25: =C25-F25 -> 0 | J25: =D25-G25 -> 0 | K25: =E25-H25 -> 0
A26: 1 11 05035 10 0000 120 | B26: Доходы от сдачи в аренду имущества, находящегося в оперативном управлении органов управления сельских поселений и созданных ими учреждений (за исключением имущества муниципальных бюджетных и автономных учреждений) | C26: 3.6 | D26: 3.7 | E26: 3.9 | F26: 3.6 | G26: 3.7 | H26: 3.9 | I26: =C26-F26 -> 0 | J26: =D26-G26 -> 0 | K26: =E26-H26 -> 0
A27: 1 11 09045 1 00000 100 | B27: Прочие поступления от использования имущества, находящегося в собственности сельских поселений (за исключением имущества муниципальных бюджетных и автономных учреждений, а также имущества муниципальных унитарных предприятий, в том числе казенных) | I27: =C27-F27 -> 0 | J27: =D27-G27 -> 0 | K27: =E27-H27 -> 0
A28: 1 14 00000 00 0000 000 | B28: ПРОЧИЕ НЕНАЛОГОВЫЕ ДОХОДЫ | C28: 1005.5 | D28: 0 | E28: 0 | F28: 0 | G28: 0 | H28: 0 | I28: =C28-F28 -> 1005.5 | J28: =D28-G28 -> 0 | K28: =E28-H28 -> 0
A29: 1 14 06025 10 0000 430 | B29: Продажа земли | C29: 1005.5 | I29: =C29-F29 -> 1005.5 | J29: =D29-G29 -> 0 | K29: =E29-H29 -> 0
A30: 2 00 00000 00 0000 000 | B30: БЕЗВОЗМЕЗДНЫЕ ПОСТУПЛЕНИЯ | C30: =C31 -> 1575.4 | D30: =D31 -> 1502.6 | E30: =E31 -> 1548.1 | F30: =F31 -> 2105.9 | G30: =G31 -> 1502.6 | H30: =H31 -> 1548.1 | I30: =C30-F30 -> -530.5 | J30: =D30-G30 -> 0 | K30: =E30-H30 -> 0
A31: 2 02 00000 00 0000 000 | B31: Безвозмездные поступления от других бюджетов бюджетной системы Российской Федерации | C31: =C32+C43+C46+C41 -> 1575.4 | D31: =D32+D43+D46 -> 1502.6 | E31: =E32+E43+E46 -> 1548.1 | F31: =F32+F43+F46+F41 -> 2105.9 | G31: =G32+G43+G46 -> 1502.6 | H31: =H32+H43+H46 -> 1548.1 | I31: =C31-F31 -> -530.5 | J31: =D31-G31 -> 0 | K31: =E31-H31 -> 0
A32: 2 02 10000 00 0000 150 | B32: Дотации бюджетам бюджетной системы Российской Федерации | C32: =C33+C40 -> 395.7 | D32: =D33 -> 0 | E32: =E33 -> 0 | F32: =F33+F40 -> 395.6 | G32: =G33 -> 0 | H32: =H33 -> 0 | I32: =C32-F32 -> 0.1 | J32: =D32-G32 -> 0 | K32: =E32-H32 -> 0
A33: 2 02 15001 00 0000 150 | B33: Дотации на выравнивание бюджетной обеспеченности | C33: =C34 -> 0 | D33: =D34 -> 0 | E33: =E34 -> 0 | F33: =F34 -> 0 | G33: =G34 -> 0 | H33: =H34 -> 0 | I33: =C33-F33 -> 0 | J33: =D33-G33 -> 0 | K33: =E33-H33 -> 0
A34: 2 02 15001 10 0000 150 | B34: Дотации бюджетам сельских поселений на выравнивание бюджетной обеспеченности | I34: =C34-F34 -> 0 | J34: =D34-G34 -> 0 | K34: =E34-H34 -> 0
A35: 2 02 20000 00 0000 150 | B35: Субсидии бюджетам бюджетной системы Российской Федерации (межбюджетные субсидии) | C35: =C38 -> 0 | D35: =D38 -> 0 | E35: =E38 -> 0 | F35: =F38 -> 0 | G35: =G38 -> 0 | H35: =H38 -> 0 | I35: =C35-F35 -> 0 | J35: =D35-G35 -> 0 | K35: =E35-H35 -> 0
A36: 2 02 29999 10 0000 150 | B36: Прочие субсидии бюджетам сельских поселений | C36: =C38 -> 0 | D36: =D38 -> 0 | E36: =E38 -> 0 | F36: =F38 -> 0 | G36: =G38 -> 0 | H36: =H38 -> 0 | I36: =C36-F36 -> 0 | J36: =D36-G36 -> 0 | K36: =E36-H36 -> 0
A37: в том числе: | I37: =C37-F37 -> 0 | J37: =D37-G37 -> 0 | K37: =E37-H37 -> 0
A38: 2 02 29999 10 0000 150 | B38: Субсидии для софинансирование расходных обязательств сельских поселений по финансовому обеспечению деятельности муниципальных казенных учреждений и финансовому обеспечению выполнения муниципального задания бюджетными и автономными муниципальными учреждениями | C38: =2179.7-2179.7 -> 0 | D38: =2179.7-2179.7 -> 0 | E38: =2179.7-2179.7 -> 0 | F38: =2179.7-2179.7 -> 0 | G38: =2179.7-2179.7 -> 0 | H38: =2179.7-2179.7 -> 0 | I38: =C38-F38 -> 0 | J38: =D38-G38 -> 0 | K38: =E38-H38 -> 0
A39: 2 02 25555 10 0000 150 | B39: Субсидии бюджетам сельских поселений на реализацию программ формирования современной городской среды | I39: =C39-F39 -> 0 | J39: =D39-G39 -> 0 | K39: =E39-H39 -> 0
A40: 2 02 15002 10 0000 150 | B40: Дотации бюджетам сельских поселений на поддержку мер по обеспечению сбалансированности бюджетов | C40: 395.7 | F40: 395.6 | I40: =C40-F40 -> 0.1 | J40: =D40-G40 -> 0 | K40: =E40-H40 -> 0
B41: Субсидии | C41: =C42 -> 296.7 | D41: =D42 -> 0 | E41: =E42 -> 0 | F41: =F42 -> 296.7 | G41: =G42 -> 0 | H41: =H42 -> 0 | I41: =C41-F41 -> 0 | J41: =D41-G41 -> 0 | K41: =E41-H41 -> 0
A42: 2 02 49999 10 0000 150 | B42: Субсидии на софинансирование расходных обязательств по финансовому обеспечению деятельности органов местного самоуправления и муниципальных учреждений | C42: 296.7 | F42: 296.7 | I42: =C42-F42 -> 0 | J42: =D42-G42 -> 0 | K42: =E42-H42 -> 0
...

Sheet пр.2
C2: Приложение №2
C3: к решению "О бюджете
C4: Старошайговского сельского поселения
C5: Старошйговского муниципального района
C6: на 2019 год"
C7: от декабря 2018г.№
A8: Главные распорядители средств бюджета муниципального образования - Администраторы доходов бюджета Старошайговского сельского поселения
A10: Код бюджетной классификации РФ | C10: Наименование
A11: администратора доходов | B11: дохода местного бюджета
A12: 1 | B12: 2 | C12: 3
A13: 929 | C13: Администрация Старошайговского поселения Старошайговского муниципального района Республики Мордовия
A15: 929 | B15: 1 11 03050 10 0000 120 | C15: Проценты, полученные от предоставления бюджетных кредитов внутри страны за счет средств бюджетов поселений
A16: 929 | B16: 1 11 05035 10 0000 120 | C16: Доходы от сдачи в аренду имущества, находящегося в оперативном управлении органов управления поселений и созданных ими учреждений (за исключением имущества муниципальных бюджетных и автономных учреждений)
A17: 929 | B17: 1 11 05075 10 0000 120 | C17: Доходы от сдачи в аренду имущества, составляющего казну поселений (за исключением земельных участков)
A18: 929 | B18: 1 11 08050 10 0000 120 | C18: Средства, получаемые от передачи имущества, находящегося в собственности поселений (за исключением имущества муниципальных бюджетных и автономных учреждений, а также имущества муниципальных унитарных предприятий, в том числе казенных), в залог, в доверительное управление
A19: 929 | B19: 1 11 09045 10 0000 120 | C19: Прочие поступления от использования имущества, находящегося в собственности поселений (за исключением имущества муниципальных бюджетных и автономных учреждений, а также имущества муниципальных унитарных предприятий, в том числе казенных)
A20: 929 | B20: 1 13 01995 10 0000 130 | C20: Прочие доходы от оказания платных услуг (работ) получателями средств бюджетов поселений
A21: 929 | B21: 1 13 02995 10 0000 130 | C21: Прочие доходы от компенсации затрат бюджетов поселений
A22: 929 | B22: 1 13 02995 10 0001 130 | C22: Прочие доходы от компенсации затрат бюджетов поселений, источником которого являются межбюджетные трансферты федерального бюджета
A23: 929 | B23: 1 13 02995 10 0002 130 | C23: Прочие доходы от компенсации затрат бюджетов поселений, источником которого являются средства республиканского бюджета
A24: 929 | B24: 1 13 02995 10 0004 130 | C24: Прочие доходы от компенсации затрат бюджетов поселений, источником которого являются средства муниципального бюджета
A25: 929 | B25: 1 13 02995 10 0005 130 | C25: Прочие доходы от компенсации затрат бюджетов поселений, источником которого являются средства поселений
A26: 929 | B26: 1 14 02053 10 0000 410 | C26: Доходы от реализации иного имущества, находящегося в собственности поселений (за исключением имущества муниципальных бюджетных и автономных учреждений, а также имущества муниципальных унитарных предприятий, в том числе казенных), в части реализации основных средств по указанному имуществу
... A47: 929 | B47: 2 08 05000 10 0000 150 | C47: Перечисления из бюджетов сельских поселений (в бюджеты поселений) для осуществления возврата (зачета) излишне уплаченных или излишне взысканных сумм налогов, сборов и иных платежей, а также сумм процентов за несвоевременное осуществление такого возврата и процентов, начисленных на излишне взысканные суммы

Sheet пр.3
C1: Приложение 3 к решению сессии "О бюджете Старошайговского сельского поселения Старошайговского муниципального района РМ на 2019 год" от декабря 2018 г.№
A2: ПЕРЕЧЕНЬ ГЛАВНЫХ АДМИНИСТРАТОРОВ ИСТОЧНИКОВ ФИНАНСИРОВАНИЯ ДЕФИЦИТА БЮДЖЕТА СТАРОШАЙГОВСКОГО СЕЛЬСКОГО ПОСЕЛЕНИЯ СТАРОШАЙГОВСКОГО МУНИЦИПАЛЬНОГО РАЙОНА
A3: Код бюджетной классификации Российской Федерации | C3: Наименование главного администратора источников финансирования дефицита бюджета
A4: администратора | B4: источников внутреннего финансирования дефицита районного бюджета
A8: 1 | B8: 2 | C8: 3
A10: 1 | C10: Администрация Старошайговского сельского поселения
A11: 929 | B11: 01 02 00 00 00 0000 000 | C11: Кредиты кредитных организаций в валюте Российской Федерации
A12: 929 | B12: 01 02 00 00 00 0000 800 | C12: Погашение кредитов, предоставленных кредитными организациями в валюте Российской Федерации
A13: 929 | B13: 01 02 00 00 10 0000 810 | C13: Погашение бюджетами сельских поселений кредитов от кредитных организаций в валюте Российской Федерации
A14: 929 | B14: 01 03 00 00 00 0000 700 | C14: Получение бюджетных кредитов от других Бюджетов бюджетной системы Российской Федерации в валюте Российской Федерации
A15: 929 | B15: 01 03 01 00 10 0000 710 | C15: Получение кредитов от других бюджетов бюджетной системы Российской Федерации бюджетами сельских поселений в валюте Российской Федерации
A16: 929 | B16: 01 03 00 00 00 0000 800 | C16: Погашение бюджетных кредитов, полученных от других бюджетов бюджетной системы Российской Федерации в валюте Российской Федерации
A17: 929 | B17: 01 03 01 00 10 0000 810 | C17: Погашение бюджетами сельких поселений кредитов от других бюджетов бюджетной системы Российской Федерации в валюте Российской Федерации
A18: 929 | B18: 01 06 05 00 00 0000 000 | C18: Бюджетные кредиты, предоставленные внутри страны в валюте Российской Федерации
A19: 929 | B19: 01 06 05 00 00 0000 600 | C19: Возврат бюджетных кредитов, предоставленных внутри страны в валюте Российской Федерации
A20: 929 | B20: 01 06 05 02 00 0000 640 | C20: Возврат бюджетных кредитов, предоставленных другим бюджетам бюджетной системы Российской Федерации в валюте Российской Федерации
A21: 929 | B21: 01 06 05 02 10 0000 640 | C21: Возврат бюджетных кредитов, предоставленных другим бюджетам бюджетной системы Российской Федерации из бюджетов сельских поселений в валюте Российской Федерации

Sheet пр 2
C2: Приложение № 2
C3: к решению "О бюджете
C4: Новофедоровского сельского поселения
C5: Старошйговского муниципального района
C6: на 2021 год и на плановый период 2022 и 2023 годов"
C7: от 22 апреля 2021 г.№42
A8: Главные распорядители средств бюджета муниципального образования - Администраторы доходов бюджета Новофедоровского сельского поселения
A10: Код бюджетной классификации РФ | C10: Наименование
A11: администратора доходов | B11: дохода местного бюджета
A12: 1 | B12: 2 | C12: 3
A13: 926 | C13: Администрация Новофедоровского поселения Старошайговского муниципального района Республики Мордовия
A15: 926 | B15: 1 11 03050 10 0000 120 | C15: Проценты, полученные от предоставления бюджетных кредитов внутри страны за счет средств бюджетов поселений
A16: 926 | B16: 1 11 05035 10 0000 120 | C16: Доходы от сдачи в аренду имущества, находящегося в оперативном управлении органов управления поселений и созданных ими учреждений (за исключением имущества муниципальных бюджетных и автономных учреждений)
A17: 926 | B17: 1 11 05075 10 0000 120 | C17: Доходы от сдачи в аренду имущества, составляющего казну поселений (за исключением земельных участков)
A18: 926 | B18: 1 11 08050 10 0000 120 | C18: Средства, получаемые от передачи имущества, находящегося в собственности поселений (за исключением имущества муниципальных бюджетных и автономных учреждений, а также имущества муниципальных унитарных предприятий, в том числе казенных), в залог, в доверительное управление
A19: 926 | B19: 1 11 09045 10 0000 120 | C19: Прочие поступления от использования имущества, находящегося в собственности поселений (за исключением имущества муниципальных бюджетных и автономных учреждений, а также имущества муниципальных унитарных предприятий, в том числе казенных)
A20: 926 | B20: 1 13 01995 10 0000 130 | C20: Прочие доходы от оказания платных услуг (работ) получателями средств бюджетов поселений
A21: 926 | B21: 1 13 02995 10 0000 130 | C21: Прочие доходы от компенсации затрат бюджетов поселений
A22: 926 | B22: 1 13 02995 10 0001 130 | C22: Прочие доходы от компенсации затрат бюджетов поселений, источником которого являются межбюджетные трансферты федерального бюджета
A23: 926 | B23: 1 13 02995 10 0002 130 | C23: Прочие доходы от компенсации затрат бюджетов поселений, источником которого являются средства республиканского бюджета
A24: 926 | B24: 1 13 02995 10 0004 130 | C24: Прочие доходы от компенсации затрат бюджетов поселений, источником которого являются средства муниципального бюджета
A25: 926 | B25: 1 13 02995 10 0005 130 | C25: Прочие доходы от компенсации затрат бюджетов поселений, источником которого являются средства поселений
A26: 926 | B26: 1 14 02053 10 0000 410 | C26: Доходы от реализации иного имущества, находящегося в собственности поселений (за исключением имущества муниципальных бюджетных и автономных учреждений, а также имущества муниципальных унитарных предприятий, в том числе казенных), в части реализации основных средств по указанному имуществу
... A37: 926 | B37: 2 02 02051 10 0000 150 | C37: Субсидии бюджетам поселений на реализацию федеральных целевых программ
A38: 926 | B38: 2.0204053e+16 | C38: Субсидии бюджетам поселений на софинансирование капитальных вложений в объекты муниципальной собственности
A39: 926 | B39: 2 02 02088 10 0001 150 | C39: Субсидии бюджетам поселений на обеспечение мероприятий по капитальному ремонту многоквартирных домов за счет средств, поступивших от государственной корпорации - Фонда содействия реформированию жилищно-коммунального хозяйства
A40: 926 | B40: 2 02 02088 10 0002 150 | C40: Субсидии бюджетам поселений на обеспечение мероприятий по переселению граждан из аварийного жилищного фонда за счет средств, поступивших от государственной корпорации - Фонда содействия реформированию жилищно-коммунального хозяйства
A41: 926 | B41: 2 02 02089 10 0001 150 | C41: Субсидии бюджетам поселений на обеспечение мероприятий по капитальному ремонту многоквартирных домов за счет средств бюджетов
A42: 926 | B42: 2 02 02089 10 0002 150 | C42: Субсидии бюджетам поселений на обеспечение мероприятий по переселению граждан из аварийного жилищного фонда за счет средств бюджетов
A43: 926 | B43: 2 02 02145 10 0000 150 | C43: Субсидии бюджетам поселений на модернизацию региональных систем общего образования
A44: 926 | B44: 2 02 02150 10 0000 150 | C44: Субсидии бюджетам поселений на реализацию программы энергосбережения и повышения энергетической эффективности на период до 2020 года
A45: 926 | B45: 2 02 02999 10 0000 150 | C45: Прочие субсидии бюджетам поселений
A46: 926 | B46: 2 02 35118 10 0000 150 | C46: Субвенции бюджетам поселений на осуществление первичного воинского учета на территориях, где отсутствуют военные комиссариаты
A47: 926 | B47: 2 02 30024 10 0000 150 | C47: Субвенции бюджетам поселений на выполнение передаваемых полномочий субъектов Российской Федерации
A48: 926 | B48: 2 02 03999 10 0000 150 | C48: Прочие субвенции бюджетам поселений
A49: 926 | B49: 2 02 04012 10 0000 150 | C49: Межбюджетные трансферты, передаваемые бюджетам поселений для компенсации дополнительных расходов, возникших в результате решений, принятых органами власти другого уровня
A50: 926 | B50: 2 02 40014 10 0000 150 | C50: Межбюджетные трансферты, передаваемые бюджетам поселений из бюджетов муниципальных районов на осуществление части полномочий по решению вопросов местного значения в соответствии с заключенными соглашениями
... A57: 926 | B57: 2 19 05000 10 0000 150 | C57: Возврат остатков субсидий, субвенций и иных межбюджетных трансфертов, имеющих целевое назначение, прошлых лет из бюджетов поселений

Sheet пр3
C1: Приложение 3 к решению сессии "О бюджете Новофедоровского сельского поселения Старошайговского муниципального района РМ на 2021 год и на плановый период 2022 и 2023 годов" от 22 апреля 2021 г.№ 42
A2: ПЕРЕЧЕНЬ ГЛАВНЫХ АДМИНИСТРАТОРОВ ИСТОЧНИКОВ ФИНАНСИРОВАНИЯ ДЕФИЦИТА БЮДЖЕТА НОВОФЕДОРОВСКОГО СЕЛЬСКОГО ПОСЕЛЕНИЯ СТАРОШАЙГОВСКОГО МУНИЦИПАЛЬНОГО РАЙОНА
A3: Код бюджетной классификации Российской Федерации | C3: Наименование главного администратора источников финансирования дефицита бюджета
A4: администратора | B4: источников внутреннего финансирования дефицита районного бюджета
A8: 1 | B8: 2 | C8: 3
A10: 1 | C10: Администрация Новофедоровского сельского поселения
A11: 926 | B11: 01 02 00 00 00 0000 000 | C11: Кредиты кредитных организаций в валюте Российской Федерации
A12: 926 | B12: 01 02 00 00 00 0000 800 | C12: Получение кредитов от кредитных организаций в валюте Российской Федерации
A13: 926 | B13: 01 02 00 00 10 0000 810 | C13: Получение кредитов от кредитных организаций бюджетами сельских поселений в валюте Российской Федерации
A14: 926 | B14: 01 03 00 00 00 0000 000 | C14: Бюджетные кредиты из других бюджетов бюджетной системы Российской Федерации
A15: 926 | B15: 01 03 00 00 00 0000 700 | C15: Получение бюджетных кредитов от других Бюджетов бюджетной системы Российской Федерации в валюте Российской Федерации
A16: 926 | B16: 01 03 01 00 10 0000 710 | C16: Получение кредитов от других бюджетов бюджетной системы Российской Федерации бюджетами сельских поселений в валюте Российской Федерации
A17: 926 | B17: 01 03 00 00 00 0000 800 | C17: Погашение бюджетных кредитов, полученных от других бюджетов бюджетной системы Российской Федерации в валюте Российской Федерации
A18: 926 | B18: 01 03 01 00 10 0000 810 | C18: Погашение бюджетами сельких поселений кредитов от других бюджетов бюджетной системы Российской Федерации в валюте Российской Федерации

Sheet пр4
B1: Приложение 4 к решению сессии "О бюджете Новофедоровского сельского поселения Старошайговского муниципального района РМ на 2021 год и на плановый период 2022 и 2023 годов" от 22 апреля 2021 г.№ 42
A3: Распределение расходов бюджета Новофедоровского сельского поселения Старошайговского муниципального района на 2021 год и на плановый период 2022 и 2023 годов по разделам, подразделам, целевым статьям и видам расходов функциональной классификации расходов бюджетов Российской Федерации
K4: тыс.руб
A5: Наименование | B5: Рз | C5: ПРз | D5: ЦСР | H5: ВР | I5: 2021 | J5: 2022 | K5: 2023
A6: ВСЕГО | I6: =I7+I55+I64+I73+I88 -> 4151.9 | J6: =J7+J55+J64+J73+J88+J95 -> 3119 | K6: =K7+K55+K64+K73+K88+K95 -> 3210
A7: Общегосударственные вопросы | B7: 01 | I7: =I8+I17+I43+I48 -> 2522.2 | J7: =J8+J17+J43+J48 -> 1134.3 | K7: =K8+K17+K43+K48 -> 1319.7 | N7: =J6-пр.1!D41-пр.1!D43-пр.1!D46 -> 1616.4 | O7: =K6-пр.1!E41-пр.1!E43-пр.1!E46 -> 1661.9
A8: Функционирование высшего должностного лица субъекта Российской Федерации и муниципального образования | B8: 01 | C8: 02 | I8: =I11+I14 -> 430.3 | J8: =J11+J14 -> 331.3 | K8: =K11+K14 -> 331.3 | N8: =N7*2.5% -> 40.41 | O8: =O7*5% -> 83.095
A9: Непрограммные расходы главных распорядителей бюджетных средств Республики Мордовия | B9: 01 | C9: 02 | D9: 89 | E9: 0 | I9: =I11 -> 330.3 | J9: =J11 -> 331.3 | K9: =K11 -> 331.3
A10: Непрограммные расходы в рамках обеспечения деятельности главных распорядителей бюджетных средств Республики Мордовия | B10: 01 | C10: 02 | D10: 89 | E10: 1 | I10: =I11 -> 330.3 | J10: =J11 -> 331.3 | K10: =K11 -> 331.3
A11: Расходы на выплаты по оплате труда высшего должностного лица | B11: 01 | C11: 02 | D11: 89 | E11: 1 | F11: 00 | G11: 41150 | I11: =I12 -> 330.3 | J11: =J12 -> 331.3 | K11: =K12 -> 331.3
A12: Расходы на выплаты персоналу в целях обеспечения выполнения функций государственными (муниципальными) органами, казенными учреждениями, органами управления государственными внебюджетными фондами | B12: 01 | C12: 02 | D12: 89 | E12: 1 | F12: 00 | G12: 41150 | H12: 100 | I12: =I13 -> 330.3 | J12: =J13 -> 331.3 | K12: =K13 -> 331.3
A13: Расходы на выплаты персоналу государственных (муниципальных) органов | B13: 01 | C13: 02 | D13: 89 | E13: 1 | F13: 00 | G13: 41150 | H13: 120 | I13: 330.3 | J13: 331.3 | K13: 331.3
A14: Софинансирование расходных обязательств по финансовому обеспечению деятельности органов местного самоуправления и муниципальных учреждений | B14: 01 | C14: 02 | D14: 89 | E14: 1 | F14: 00 | G14: 44205 | I14: =I15 -> 100 | J14: =J15 -> 0 | K14: =K15 -> 0
A15: Расходы на выплаты персоналу в целях обеспечения выполнения функций государственными (муниципальными) органами, казенными учреждениями, органами управления государственными внебюджетными фондами | B15: 01 | C15: 02 | D15: 89 | E15: 1 | F15: 00 | G15: 44205 | H15: 100 | I15: =I16 -> 100 | J15: =J16 -> 0 | K15: =K16 -> 0
A16: Расходы на выплаты персоналу государственных (муниципальных) органов | B16: 01 | C16: 02 | D16: 89 | E16: 1 | F16: 00 | G16: 44205 | H16: 120 | I16: 100
A17: Функционирование Правительства Российской Федерации, высших исполнительных органов государственной власти субъектов Российской Федерации, местных администраций | B17: 01 | C17: 04 | I17: =I20+I25+I40+I32 -> 2017.1 | J17: =J20+J25+J40+J32 -> 728.2 | K17: =K20+K25+K40+K32 -> 913.6
A18: Непрограммные расходы главных распорядителей бюджетных средств Республики Мордовия | B18: 01 | C18: 04 | D18: 89 | E18: 0 | I18: =I20 -> 1117.5 | J18: =J20 -> 591 | K18: =K20 -> 770.7
A19: Непрограммные расходы в рамках обеспечения деятельности главных распорядителей бюджетных средств Республики Мордовия | B19: 01 | C19: 04 | D19: 89 | E19: 1 | I19: =I20 -> 1117.5 | J19: =J20 -> 591 | K19: =K20 -> 770.7
A20: Расходы на выплаты по оплате труда работников органов местного | B20: 01 | C20: 04 | D20: 89 | E20: 1 | F20: 00 | G20: 41110 | I20: =I21 -> 1117.5 | J20: =J21 -> 591 | K20: =K21 -> 770.7
A21: Расходы на выплаты персоналу в целях обеспечения выполнения функций государственными (муниципальными) органами, казенными учреждениями, органами управления государственными внебюджетными фондами | B21: 01 | C21: 04 | D21: 89 | E21: 1 | F21: 00 | G21: 41110 | H21: 100 | I21: =I22 -> 1117.5 | J21: =J22 -> 591 | K21: =K22 -> 770.7
A22: Расходы на выплаты персоналу государственных (муниципальных) органов | B22: 01 | C22: 04 | D22: 89 | E22: 1 | F22: 00 | G22: 41110 | H22: 120 | I22: 1117.5 | J22: =631.5-40.5 -> 591 | K22: =853.9-83.2 -> 770.7
A23: Функционирование Правительства Российской Федерации, высших исполнительных органов государственной власти субъектов Российской Федерации, местных администраций | B23: 01 | C23: 04 | D23: 89 | E23: 0 | I23: =I25 -> 702.6 | J23: =J25 -> 136.9 | K23: =K25 -> 142.6
A24: Непрограммные расходы в рамках обеспечения деятельности главных распорядителей бюджетных средств Республики Мордовия | B24: 01 | C24: 04 | D24: 89 | E24: 1 | I24: =I25 -> 702.6 | J24: =J25 -> 136.9 | K24: =K25 -> 142.6
A25: Расходы на обеспечение функций органов местного самоуправления Республики Мордовия | B25: 01 | C25: 04 | D25: 89 | E25: 1 | F25: 00 | G25: 41120 | I25: =I28+I26+I30 -> 702.6 | J25: =J28+J26+J30 -> 136.9 | K25: =K28+K26+K30 -> 142.6
A26: Расходы на выплаты персоналу в целях обеспечения выполнения функций государственными (муниципальными) органами, казенными учреждениями, органами управления государственными внебюджетными фондами | B26: 01 | C26: 04 | D26: 89 | E26: 1 | F26: 00 | G26: 41120 | H26: 100 | I26: =I27 -> 0.6 | J26: =J27 -> 0.6 | K26: =K27 -> 0.6
A27: Расходы на выплаты персоналу государственных (муниципальных) органов | B27: 01 | C27: 04 | D27: 89 | E27: 1 | F27: 00 | G27: 41120 | H27: 120 | I27: 0.6 | J27: 0.6 | K27: 0.6
A28: Закупка товаров, работ и услуг для обеспечения государственных (муниципальных) нужд | B28: 01 | C28: 04 | D28: 89 | E28: 1 | F28: 00 | G28: 41120 | H28: 200 | I28: =I29 -> 614.9 | J28: =J29 -> 110 | K28: =K29 -> 115.7
A29: Иные закупки товаров, работ и услуг для обеспечения государственных (муниципальных) нужд | B29: 01 | C29: 04 | D29: 89 | E29: 1 | F29: 00 | G29: 41120 | H29: 240 | I29: 614.9 | J29: 110 | K29: 115.7
A30: Иные бюджетные ассигнования | B30: 01 | C30: 04 | D30: 89 | E30: 1 | F30: 00 | G30: 41120 | H30: 800 | I30: =I31 -> 87.1 | J30: =J31 -> 26.3 | K30: =K31 -> 26.3
A31: Уплата налогов, сборов и иных платежей | B31: 01 | C31: 04 | D31: 89 | E31: 1 | F31: 00 | G31: 41120 | H31: 850 | I31: 87.1 | J31: 26.3 | K31: 26.3
A32: Функционирование Правительства Российской Федерации, высших исполнительных органов государственной власти субъектов Российской Федерации, местных администраций | B32: 01 | C32: 04 | I32: =I33 -> 196.7 | J32: =J33 -> 0 | K32: =K33 -> 0
A33: Непрограммные расходы главных распорядителей бюджетных средств Республики Мордовия | B33: 01 | C33: 04 | D33: 89 | E33: 0 | I33: =I34 -> 196.7 | J33: =J34 -> 0 | K33: =K34 -> 0
A34: Непрограммные расходы в рамках обеспечения деятельности главных распорядителей бюджетных средств Республики Мордовия | B34: 01 | C34: 04 | D34: 89 | E34: 1 | I34: =I35 -> 196.7 | J34: =J35 -> 0 | K34: =K35 -> 0
A35: Софинансирование расходных обязательств по финансовому обеспечению деятельности органов местного самоуправления и муниципальных учреждений | B35: 01 | C35: 04 | D35: 89 | E35: 1 | F35: 00 | G35: 44205 | I35: =I36+I38 -> 196.7 | J35: =J36+J38 -> 0
A36: Расходы на выплаты персоналу в целях обеспечения выполнения функций государственными (муниципальными) органами, казенными учреждениями, органами управления государственными внебюджетными фондами | B36: 01 | C36: 04 | D36: 89 | E36: 1 | F36: 00 | G36: 44205 | H36: 100 | I36: =I37 -> 196.7 | J36: =J37 -> 0 | K36: =K37 -> 0
A37: Расходы на выплаты персоналу государственных (муниципальных) органов | B37: 01 | C37: 04 | D37: 89 | E37: 1 | F37: 00 | G37: 44205 | H37: 120 | I37: 196.7
A38: Закупка товаров, работ и услуг для обеспечения государственных (муниципальных) нужд | B38: 01 | C38: 04 | D38: 89 | E38: 1 | F38: 00 | G38: 44205 | H38: 200 | I38: =I39 -> 0 | J38: =J39 -> 0 | K38: =K39
A39: Иные закупки товаров, работ и услуг для обеспечения государственных (муниципальных) нужд | B39: 01 | C39: 04 | D39: 89 | E39: 1 | F39: 00 | G39: 44205 | H39: 240
A40: Реализация государственных полномочий по определению перечня должностных лиц, уполномоченных составлять протоколы об административных правонарушениях | B40: 01 | C40: 04 | D40: 89 | E40: 1 | F40: 00 | G40: 77150 | I40: =I41 -> 0.3 | J40: =J41 -> 0.3 | K40: =K41 -> 0.3
A41: Закупка товаров, работ и услуг для обеспечения государственных (муниципальных) нужд | B41: 01 | C41: 04 | D41: 89 | E41: 1 | F41: 00 | G41: 77150 | H41: 200 | I41: =I42 -> 0.3 | J41: =J42 -> 0.3 | K41: =K42 -> 0.3
...

Sheet пр5
C1: Приложение 5 к решению сессии "О бюджете Новофедоровского сельского поселения Старошайговского муниципального района РМ на 2021 год и на плановый период 2022 и 2023 годов" от 22 апреля 2021 г.№ 42
A3: Ведомственная структура расходов бюджета Новофедоровского сельского поселения Старошайговского муниципального района на 2021 год и на плановый период 2022 и 2023 годов
L4: тыс.руб
A5: Наименование | B5: АДМ | C5: Рз | D5: ПРз | E5: ЦСР | I5: ВР | J5: 2021 | K5: 2022 | L5: 2023
A6: ВСЕГО | J6: =J7+J55+J64+J73+J88 -> 4151.9 | K6: =K7+K55+K64+K73+K88+K95 -> 3119 | L6: =L7+L55+L64+L73+L88+L95 -> 3210
A7: Общегосударственные вопросы | B7: 926 | C7: 01 | J7: =J8+J17+J43+J48 -> 2522.2 | K7: =K8+K17+K43+K48 -> 1134.3 | L7: =L8+L17+L43+L48 -> 1319.7 | O7: =K6-пр.1!D41-пр.1!D43-пр.1!D46 -> 1616.4 | P7: =L6-пр.1!E41-пр.1!E43-пр.1!E46 -> 1661.9
A8: Функционирование высшего должностного лица субъекта Российской Федерации и муниципального образования | B8: 926 | C8: 01 | D8: 02 | J8: =J11+J14 -> 430.3 | K8: =K11+K14 -> 331.3 | L8: =L11+L14 -> 331.3 | O8: =O7*2.5% -> 40.41 | P8: =P7*5% -> 83.095
A9: Непрограммные расходы главных распорядителей бюджетных средств Республики Мордовия | B9: 926 | C9: 01 | D9: 02 | E9: 89 | F9: 0 | J9: =J11 -> 330.3 | K9: =K11 -> 331.3 | L9: =L11 -> 331.3
A10: Непрограммные расходы в рамках обеспечения деятельности главных распорядителей бюджетных средств Республики Мордовия | B10: 926 | C10: 01 | D10: 02 | E10: 89 | F10: 1 | J10: =J11 -> 330.3 | K10: =K11 -> 331.3 | L10: =L11 -> 331.3
A11: Расходы на выплаты по оплате труда высшего должностного лица | B11: 926 | C11: 01 | D11: 02 | E11: 89 | F11: 1 | G11: 00 | H11: 41150 | J11: =J12 -> 330.3 | K11: =K12 -> 331.3 | L11: =L12 -> 331.3
A12: Расходы на выплаты персоналу в целях обеспечения выполнения функций государственными (муниципальными) органами, казенными учреждениями, органами управления государственными внебюджетными фондами | B12: 926 | C12: 01 | D12: 02 | E12: 89 | F12: 1 | G12: 00 | H12: 41150 | I12: 100 | J12: =J13 -> 330.3 | K12: =K13 -> 331.3 | L12: =L13 -> 331.3
A13: Расходы на выплаты персоналу государственных (муниципальных) органов | B13: 926 | C13: 01 | D13: 02 | E13: 89 | F13: 1 | G13: 00 | H13: 41150 | I13: 120 | J13: 330.3 | K13: 331.3 | L13: 331.3
A14: Софинансирование расходных обязательств по финансовому обеспечению деятельности органов местного самоуправления и муниципальных учреждений | B14: 926 | C14: 01 | D14: 02 | E14: 89 | F14: 1 | G14: 00 | H14: 44205 | J14: =J15 -> 100 | K14: =K15 -> 0 | L14: =L15 -> 0
A15: Расходы на выплаты персоналу в целях обеспечения выполнения функций государственными (муниципальными) органами, казенными учреждениями, органами управления государственными внебюджетными фондами | B15: 926 | C15: 01 | D15: 02 | E15: 89 | F15: 1 | G15: 00 | H15: 44205 | I15: 100 | J15: =J16 -> 100 | K15: =K16 -> 0 | L15: =L16 -> 0
A16: Расходы на выплаты персоналу государственных (муниципальных) органов | B16: 926 | C16: 01 | D16: 02 | E16: 89 | F16: 1 | G16: 00 | H16: 44205 | I16: 120 | J16: 100
A17: Функционирование Правительства Российской Федерации, высших исполнительных органов государственной власти субъектов Российской Федерации, местных администраций | B17: 926 | C17: 01 | D17: 04 | J17: =J20+J25+J40+J32 -> 2017.1 | K17: =K20+K25+K40+K32 -> 728.2 | L17: =L20+L25+L40+L32 -> 913.6
A18: Непрограммные расходы главных распорядителей бюджетных средств Республики Мордовия | B18: 926 | C18: 01 | D18: 04 | E18: 89 | F18: 0 | J18: =J20 -> 1117.5 | K18: =K20 -> 591 | L18: =L20 -> 770.7
A19: Непрограммные расходы в рамках обеспечения деятельности главных распорядителей бюджетных средств Республики Мордовия | B19: 926 | C19: 01 | D19: 04 | E19: 89 | F19: 1 | J19: =J20 -> 1117.5 | K19: =K20 -> 591 | L19: =L20 -> 770.7
A20: Расходы на выплаты по оплате труда работников органов местного | B20: 926 | C20: 01 | D20: 04 | E20: 89 | F20: 1 | G20: 00 | H20: 41110 | J20: =J21 -> 1117.5 | K20: =K21 -> 591 | L20: =L21 -> 770.7
A21: Расходы на выплаты персоналу в целях обеспечения выполнения функций государственными (муниципальными) органами, казенными учреждениями, органами управления государственными внебюджетными фондами | B21: 926 | C21: 01 | D21: 04 | E21: 89 | F21: 1 | G21: 00 | H21: 41110 | I21: 100 | J21: =J22 -> 1117.5 | K21: =K22 -> 591 | L21: =L22 -> 770.7
A22: Расходы на выплаты персоналу государственных (муниципальных) органов | B22: 926 | C22: 01 | D22: 04 | E22: 89 | F22: 1 | G22: 00 | H22: 41110 | I22: 120 | J22: 1117.5 | K22: =631.5-40.5 -> 591 | L22: =853.9-83.2 -> 770.7
A23: Непрограммные расходы главных распорядителей бюджетных средств Республики Мордовия | B23: 926 | C23: 01 | D23: 04 | E23: 89 | F23: 0 | J23: =J25 -> 702.6 | K23: =K25 -> 136.9 | L23: =L25 -> 142.6
A24: Непрограммные расходы в рамках обеспечения деятельности главных распорядителей бюджетных средств Республики Мордовия | B24: 926 | C24: 01 | D24: 04 | E24: 89 | F24: 1 | J24: =J25 -> 702.6 | K24: =K25 -> 136.9 | L24: =L25 -> 142.6
A25: Расходы на обеспечение функций органов местного самоуправления Республики Мордовия | B25: 926 | C25: 01 | D25: 04 | E25: 89 | F25: 1 | G25: 00 | H25: 41120 | J25: =J28+J26+J30 -> 702.6 | K25: =K28+K26+K30 -> 136.9 | L25: =L28+L26+L30 -> 142.6
A26: Расходы на выплаты персоналу в целях обеспечения выполнения функций государственными (муниципальными) органами, казенными учреждениями, органами управления государственными внебюджетными фондами | B26: 926 | C26: 01 | D26: 04 | E26: 89 | F26: 1 | G26: 00 | H26: 41120 | I26: 100 | J26: =J27 -> 0.6 | K26: =K27 -> 0.6 | L26: =L27 -> 0.6
A27: Расходы на выплаты персоналу государственных (муниципальных) органов | B27: 926 | C27: 01 | D27: 04 | E27: 89 | F27: 1 | G27: 00 | H27: 41120 | I27: 120 | J27: 0.6 | K27: 0.6 | L27: 0.6
A28: Закупка товаров, работ и услуг для обеспечения государственных (муниципальных) нужд | B28: 926 | C28: 01 | D28: 04 | E28: 89 | F28: 1 | G28: 00 | H28: 41120 | I28: 200 | J28: =J29 -> 614.9 | K28: =K29 -> 110 | L28: =L29 -> 115.7
A29: Иные закупки товаров, работ и услуг для обеспечения государственных (муниципальных) нужд | B29: 926 | C29: 01 | D29: 04 | E29: 89 | F29: 1 | G29: 00 | H29: 41120 | I29: 240 | J29: 614.9 | K29: 110 | L29: 115.7
A30: Иные бюджетные ассигнования | B30: 926 | C30: 01 | D30: 04 | E30: 89 | F30: 1 | G30: 00 | H30: 41120 | I30: 800 | J30: =J31 -> 87.1 | K30: =K31 -> 26.3 | L30: =L31 -> 26.3
A31: Уплата налогов, сборов и иных платежей | B31: 926 | C31: 01 | D31: 04 | E31: 89 | F31: 1 | G31: 00 | H31: 41120 | I31: 850 | J31: 87.1 | K31: 26.3 | L31: 26.3
A32: Функционирование Правительства Российской Федерации, высших исполнительных органов государственной власти субъектов Российской Федерации, местных администраций | B32: 926 | C32: 01 | D32: 04 | J32: =J33 -> 196.7 | K32: =K33 -> 0 | L32: =L33 -> 0
A33: Непрограммные расходы главных распорядителей бюджетных средств Республики Мордовия | B33: 926 | C33: 01 | D33: 04 | E33: 89 | F33: 0 | J33: =J34 -> 196.7 | K33: =K34 -> 0 | L33: =L34 -> 0
A34: Непрограммные расходы в рамках обеспечения деятельности главных распорядителей бюджетных средств Республики Мордовия | B34: 926 | C34: 01 | D34: 04 | E34: 89 | F34: 1 | J34: =J35 -> 196.7 | K34: =K35 -> 0 | L34: =L35 -> 0
A35: Софинансирование расходных обязательств по финансовому обеспечению деятельности органов местного самоуправления и муниципальных учреждений | B35: 926 | C35: 01 | D35: 04 | E35: 89 | F35: 1 | G35: 00 | H35: 44205 | J35: =J36+J38 -> 196.7 | K35: =K36+K38 -> 0
A36: Расходы на выплаты персоналу в целях обеспечения выполнения функций государственными (муниципальными) органами, казенными учреждениями, органами управления государственными внебюджетными фондами | B36: 926 | C36: 01 | D36: 04 | E36: 89 | F36: 1 | G36: 00 | H36: 44205 | I36: 100 | J36: =J37 -> 196.7 | K36: =K37 -> 0 | L36: =L37 -> 0
A37: Расходы на выплаты персоналу государственных (муниципальных) органов | B37: 926 | C37: 01 | D37: 04 | E37: 89 | F37: 1 | G37: 00 | H37: 44205 | I37: 120 | J37: 196.7
A38: Закупка товаров, работ и услуг для обеспечения государственных (муниципальных) нужд | B38: 926 | C38: 01 | D38: 04 | E38: 89 | F38: 1 | G38: 00 | H38: 44205 | I38: 200 | J38: =J39 -> 0 | K38: =K39 -> 0 | L38: =L39
A39: Иные закупки товаров, работ и услуг для обеспечения государственных (муниципальных) нужд | B39: 926 | C39: 01 | D39: 04 | E39: 89 | F39: 1 | G39: 00 | H39: 44205 | I39: 240
A40: Реализация государственных полномочий по определению перечня должностных лиц, уполномоченных составлять протоколы об административных правонарушениях | B40: 926 | C40: 01 | D40: 04 | E40: 89 | F40: 1 | G40: 00 | H40: 77150 | J40: =J41 -> 0.3 | K40: =K41 -> 0.3 | L40: =L41 -> 0.3
A41: Закупка товаров, работ и услуг для обеспечения государственных (муниципальных) нужд | B41: 926 | C41: 01 | D41: 04 | E41: 89 | F41: 1 | G41: 00 | H41: 77150 | I41: 200 | J41: =J42 -> 0.3 | K41: =K42 -> 0.3 | L41: =L42 -> 0.3
...

Sheet 6
B1: Приложение 6 к решению сессии "О бюджете Новофедоровского сельского поселения Старошайговского муниципального района РМ на 2021 год и на плановый период 2022 и 2023 годов" от 22 апреля 2021 г.№ 42
A2: ИСТОЧНИКИ ВНУТРЕННЕГО ФИНАНСИРОВАНИЯ ДЕФИЦИТА БЮДЖЕТА НОВОФЕДОРОВСКОГО СЕЛЬСКОГО ПОСЕЛЕНИЯ НА 2021 ГОД И НА ПЛАНОВЫЙ ПЕРИОД 2022 и 2023 ГОДОВ
A6: (тыс. рублей)
A7: Код | B7: НАИМЕНОВАНИЕ | C7: 2021 | D7: 2022 | E7: 203
A10: 1 | B10: 2
A11: 90000000000000000 | B11: ИТОГО | C11: =C12 -> 74.8 | D11: =D12 -> 77 | E11: =E12 -> 79.1
A12: 01000000000000000 | B12: ИСТОЧНИКИ ВНУТРЕННЕГО ФИНАНСИРОВАНИЯ ДЕФИЦИТОВ БЮДЖЕТОВ | C12: =C15 -> 74.8 | D12: =D15 -> 77 | E12: =E15 -> 79.1
A13: 01020000000000000 | B13: Кредиты кредитных организаций в валюте Российской Федерации | C13: =C14 -> 74.8 | D13: =D14 -> 77 | E13: =E14 -> 79.1
A14: 01020000000000700 | B14: Получение кредитов от кредитных организаций в валюте Российской Федерации | C14: =C15 -> 74.8 | D14: =D15 -> 77 | E14: =E15 -> 79.1
A15: 01020000100000710 | B15: Получение кредитов от кредитных организаций бюджетами сельских поселений в валюте Российской Федерации | C15: 74.8 | D15: 77 | E15: 79.1
A16: 01000000000000000 | B16: Изменение остатков средств
A17: 01050000000000000 | B17: Изменение остатков средств на счетах по учету средств бюджетов
A18: 01050000000000500 | B18: Увеличение остатков средств бюджетов | C18: =C21 -> -4077.1 | D18: =D21 -> -3119 | E18: =E21 -> -3210
A19: 01050200000000500 | B19: Увеличение прочих остатков средств бюджетов | C19: =C21 -> -4077.1 | D19: =D21 -> -3119 | E19: =E21 -> -3210
A20: 01050201000000510 | B20: Увеличение прочих остатков денежных средств бюджетов | C20: =C21 -> -4077.1 | D20: =D21 -> -3119 | E20: =E21 -> -3210
A21: 01050201100000510 | B21: Увеличение прочих остатков денежных средств бюджетов сельских поселений | C21: -4077.1 | D21: -3119 | E21: -3210
A22: 01050000000000600 | B22: Уменьшение остатков средств бюджетов | C22: =C25 -> 4151.9 | D22: =D25 -> 3119 | E22: =E25 -> 3210
A23: 01050200000000600 | B23: Уменьшение прочих остатков средств бюджетов | C23: =C25 -> 4151.9 | D23: =D25 -> 3119 | E23: =E25 -> 3210
A24: 01050201000000610 | B24: Уменьшение прочих остатков денежных средств бюджетов | C24: 4151.9 | D24: =D25 -> 3119 | E24: =E25 -> 3210
A25: 01050201100000610 | B25: Уменьшение прочих остатков денежных средств бюджетов сельских поселений | C25: 4151.9 | D25: 3119 | E25: 3210

Sheet пр7
C1: Приложение 7 к решению сессии "О бюджете Новофедоровского сельского поселения Старошайговского муниципального района РМ на 2021 год и на плановый период 2022 и 2023 годов" от 22 апреля 2021 г.№ 42
A2: ПРОГРАММА МУНИЦИПАЛЬНЫХ ВНУТРЕННИХ ЗАИМСТВОВАНИЙ НОВОФЕДОРОВСКОГО СЕЛЬСКОГО ПОСЕЛЕНИЯ СТАРОШАЙГОВСКОГО МУНИЦИПАЛЬНОГО РАЙОНА НА 2021 ГОД И НА ПЛАНОВЫЙ ПЕРИОД 2022 И 2023 ГОДОВ
A6: № п/п | B6: Виды заимствований | C6: тыс.руб
C7: 2020 | D7: 2021 | E7: 2022
A8: 1 | B8: Кредиты кредитных организаций в валюте Российской Федерации | C8: =C9 -> 74.8 | D8: =D9 -> 77 | E8: =E9 -> 79.1
B9: объем привлечения | C9: 74.8 | D9: 77 | E9: 79.1
B10: объем средств, направляемых на погашение основной суммы долга

Sheet Лист1
