Workbook

Sheet Свод
A1: ОСНОВНЫЕ ПОКАЗАТЕЛИ
A2: СОЦИАЛЬНО - ЭКОНОМИЧЕСКОГО РАЗВИТИЯ СТАРОШАЙГОВСКОГО МУНИЦИПАЛЬНОГО РАЙОНА ЗА ЯНВАРЬ-СЕНТЯБРЬ 2018 ГОДА | S2: пред месяц
A3: Наименование показателя | B3: Ед . изм. | C3: Факт 2017 | D3: Прогноз 2018 | E3: 2018 в % к 2017 | F3: Прогноз с начала года | G3: Факт с начала года | H3: % вып-я с нач. года | I3: % вып-я годового прогноза | J3: Факт 2017 г. | K3: 2018 в % к 2017 | L3: в т.ч. сентябрь | R3: Прогноз | S3: Факт | T3: Факт
L4: Прогноз | M4: Факт | N4: % вып-я | O4: факт 2017г. | P4: 2018 в % к 2017 | R4: с нач.года | S4: с нач.года | T4: 2017
A5: Объем отгруж. продукции -всего | B5: т.руб. | C5: 8240.2 | D5: 850 | E5: =D5/C5*100 -> 10.315284 | F5: =L5+R5 -> 850 | G5: 0 | H5: =SUM(G5/F5)*100 -> 0 | I5: =G5/D5*100 -> 0 | J5: =O5+T5 -> 5969.1 | K5: =SUM(G5/J5)*100 -> 0 | L5: 0 | M5: 0 | N5: 0 | O5: 702.1 | P5: =SUM(M5/O5)*100 -> 0 | Q5: Объем отгруженной продукции | R5: 850 | S5: 0 | T5: 5267
A7: Закуп молока от СХПК | B7: тонн | C7: 31874.6 | D7: 33450 | E7: =D7/C7*100 -> 104.94249 | F7: =L7+R7 -> 25439 | G7: =M7+S7 -> 26095.4 | H7: =SUM(G7/F7)*100 -> 102.58029 | I7: =G7/D7*100 -> 78.013154 | J7: =O7+T7 -> 23926.2 | K7: =SUM(G7/J7)*100 -> 109.06621 | L7: 2680 | M7: 2485.2 | N7: =SUM(M7/L7)*100 -> 92.731343 | O7: 2500.6 | P7: =SUM(M7/O7)*100 -> 99.384148 | Q7: Закуп молока от СХПК | R7: 22759 | S7: 23610.2 | T7: 21425.6
A9: Закуп мяса от СХПК | B9: тонн | C9: 517.7 | D9: 550 | E9: =D9/C9*100 -> 106.23913 | F9: =L9+R9 -> 494 | G9: =M9+S9 -> 532.1 | H9: =SUM(G9/F9)*100 -> 107.71255 | I9: =G9/D9*100 -> 96.745455 | J9: =O9+T9 -> 338.8 | K9: =SUM(G9/J9)*100 -> 157.05431 | L9: 46 | M9: 28.4 | N9: =SUM(M9/L9)*100 -> 61.73913 | O9: 33.2 | P9: =SUM(M9/O9)*100 -> 85.542169 | Q9: Закуп мяса от СХПК | R9: 448 | S9: 503.7 | T9: 305.6
A11: Объем инвестиций за исключением бюджетных средств | B11: тыс.руб | C11: 108215 | D11: 95840 | E11: =D11/C11*100 -> 88.564432 | F11: 76840 | G11: 90438 | H11: =SUM(G11/F11)*100 -> 117.69651 | I11: =G11/D11*100 -> 94.363523 | J11: 80537 | K11: =SUM(G11/J11)*100 -> 112.29373 | M11: 32400 | R11: 53840 | S11: 58038 | T11: 48549
A13: Розничный товарооборот | B13: т.руб | C13: 1136275.8 | D13: 1200778 | E13: =D13/C13*100 -> 105.67663 | F13: =L13+R13 -> 853170 | G13: =M13+S13 -> 866570.6 | H13: =SUM(G13/F13)*100 -> 101.57068 | I13: =G13/D13*100 -> 72.167428 | J13: =O13+T13 -> 800926 | K13: =SUM(G13/J13)*100 -> 108.19609 | L13: 108194 | M13: 108210 | N13: =SUM(M13/L13)*100 -> 100.01479 | O13: 101503 | P13: =SUM(M13/O13)*100 -> 106.60769 | Q13: Объем розничного товарооборота | R13: 744976 | S13: 758360.6 | T13: 699423
A15: Реализация водки производства РМ | B15: дал. | C15: 7340 | D15: 7209 | E15: =D15/C15*100 -> 98.215259 | F15: =L15+R15 -> 5297 | G15: =M15+S15 -> 5286.5 | H15: =SUM(G15/F15)*100 -> 99.801775 | I15: =G15/D15*100 -> 73.331946 | J15: =O15+T15 -> 5394.8 | K15: =SUM(G15/J15)*100 -> 97.992511 | L15: 678 | M15: 611 | N15: =SUM(M15/L15)*100 -> 90.117994 | O15: 660.4 | P15: =SUM(M15/O15)*100 -> 92.519685 | Q15: Реализация водки пр-ва РМ | R15: 4619 | S15: 4675.5 | T15: 4734.4
A17: Собствен.доходы | B17: т.руб | C17: 65950.4 | D17: 61735.6 | E17: =D17/C17*100 -> 93.609137 | F17: 42440.5 | G17: =M17+S17 -> 43622.2 | H17: =SUM(G17/F17)*100 -> 102.78437 | I17: =G17/D17*100 -> 70.659717 | J17: =O17+T17 -> 46257.1 | K17: =SUM(G17/J17)*100 -> 94.303793 | L17: 4362.2 | M17: 5116.5 | N17: =SUM(M17/L17)*100 -> 117.29173 | O17: 3765.1 | P17: =SUM(M17/O17)*100 -> 135.8928 | Q17: Собствен.доходы | R17: 42440.5 | S17: 38505.7 | T17: 42492
A19: Ввод жилья | B19: кв.м. | C19: 5356 | D19: 5200 | E19: =D19/C19*100 -> 97.087379 | F19: 3600 | G19: =M19+S19 -> 3696.7 | H19: =SUM(G19/F19)*100 -> 102.68611 | I19: =G19/D19*100 -> 71.090385 | J19: =O19+T19 -> 3533.7 | K19: =SUM(G19/J19)*100 -> 104.61273 | M19: 695.6 | O19: 1294.7 | P19: =SUM(M19/O19)*100 -> 53.726732 | Q19: Ввод жилья | S19: 3001.1 | T19: 2239
A21: Условное поголовье КРС в общ.секторе | B21: усл. гол | C21: 10698 | G21: 10497.2 | H21: =G21/C21*100 -> 98.123014 | J21: 10759.8 | K21: =SUM(G21/J21)*100 -> 97.559434 | T21: 10856.4
A22: Темп роста зар/пл | B22: % | C22: 110.6 | D22: 109 | E22: =D22/C22*100 -> 98.553345 | F22: 109 | G22: 109.1 | H22: =SUM(G22/F22)*100 -> 100.09174 | J22: 105.6 | K22: =SUM(G22/J22)*100 -> 103.31439 | Q22: Темп роста заработной платы | T22: 107.3
A23: Увеличение числа субъектов МСП по сравнению с уровнем прош года | B23: % | C23: 87.8 | D23: 101 | E23: =D23/C23*100 -> 115.03417 | F23: 101 | G23: 97.6 | T23: СМП | U23: на 01.01.2017 267 суб (83); на 01.01.18 (239 субъек, в т.ч. микро 61); 1 кв 17 года 265. 1 кв операт 250,( 2 кв. 2017-260, 2 кв. 2018 179+61=240) | W23: 265 1 кв 250 1 кв 2018 г
A24: Отношение численности безработных граждан,зарегистрированных в органах службы занятости на конец отчетного периода к концу предыдущего периода | B24: % | C24: 97.9 | D24: 100 | E24: =D24/C24*100 -> 102.14505 | F24: 106.4 | G24: 87 | J24: 82.4 | T24: безр | U24: 48 на 01.01.17; 45 на 01.04.17.
A25: Начальник управления перспективного планирования с/х и комплексных программ развития района С.И. Макарова | U25: на 01.07.17-34; | V25: 28 на 01.10.17;
U26: на 01.01.18 -47 без. На 01.04.18 56 безр
U27: на 01.07.18 -46
U28: на 01.10.18- 40

Sheet Месяц
A1: Выполнение показателей социально-экономического развития Старошайговского района за сентябрь 2018 года
A2: Наименование сельского поселения | B2: Закуп МЯСА от СПК , тонн | F2: Закуп МОЛОКА от СПК , тонн | J2: Розничный товарооборот , т.руб. | O2: Реализация водки пр-ва РМ, дал. | S2: Численность населения на 1.01.18 | U2: сентябрь 2017 года
B3: Прогноз сентябрь | C3: Факт сентябрь | D3: %вып. прогноза | E3: 2018 в % к 2017 | F3: Прогноз сентябрь | G3: Факт сентябрь | H3: %вып. прогноза | I3: 2018 в % к 2017 | J3: Прогноз сентябрь | K3: Факт сентябрь | L3: %вып. прогноза | M3: Т/об.на 1 жителя, руб. | N3: 2018 в % к 2017 | O3: Прогноз сентябрь | P3: Факт сентябрь | Q3: %вып. прогноза | R3: 2018 в % к 2017 | U3: мясо | V3: молоко | W3: Т/оборот | X3: Реализ.
U4: СПК | V4: СПК | X4: водки
A5: Богдановское | B5: 1 | F5: 300 | G5: 318.1 | H5: =SUM(G5/F5)*100 -> 106.03333 | I5: =SUM(G5/V5)*100 -> 122.77113 | J5: 4150 | K5: 3055.2 | L5: =SUM(K5/J5)*100 -> 73.619277 | M5: =SUM(K5/S5)*1000 -> 4395.9712 | N5: =SUM(K5/W5)*100 -> 80.435985 | O5: 52 | P5: 65 | Q5: =P5/O5*100 -> 125 | R5: =P5/X5*100 -> 122.64151 | S5: 695 | T5: Богдановский | U5: 0.9 | V5: 259.1 | W5: 3798.3 | X5: 53
A6: Восходское | J6: 412 | K6: 430.7 | L6: =SUM(K6/J6)*100 -> 104.53883 | M6: =SUM(K6/S6)*1000 -> 1864.5022 | N6: =SUM(K6/W6)*100 -> 109.42581 | O6: 10 | P6: 0 | Q6: =P6/O6*100 -> 0 | S6: 231 | T6: Восходский | U6: 1.8 | W6: 393.6 | X6: 0
A7: Инг.Пятинское | J7: 358 | K7: 305.9 | L7: =SUM(K7/J7)*100 -> 85.446927 | M7: =SUM(K7/S7)*1000 -> 1470.6731 | N7: =SUM(K7/W7)*100 -> 89.60164 | O7: 9 | P7: 0 | Q7: =P7/O7*100 -> 0 | R7: =P7/X7*100 -> 0 | S7: 208 | T7: Инг.Пятинский | W7: 341.4 | X7: 11
A8: Конопатское | B8: 5 | C8: 0.7 | D8: =SUM(C8/B8)*100 -> 14 | F8: 250 | G8: 250.5 | H8: =SUM(G8/F8)*100 -> 100.2 | I8: =SUM(G8/V8)*100 -> 110.79169 | J8: 1900 | K8: 1017 | L8: =SUM(K8/J8)*100 -> 53.526316 | M8: =SUM(K8/S8)*1000 -> 3780.6691 | N8: =SUM(K8/W8)*100 -> 58.515535 | O8: 10 | P8: 0 | Q8: =P8/O8*100 -> 0 | R8: =P8/X8*100 -> 0 | S8: 269 | T8: Конопатский | U8: 0.9 | V8: 226.1 | W8: 1738 | X8: 7
A9: Лемдяйское | B9: 5 | D9: =SUM(C9/B9)*100 -> 0 | E9: =SUM(C9/U9)*100 -> 0 | J9: 720 | K9: 566 | L9: =SUM(K9/J9)*100 -> 78.611111 | M9: =SUM(K9/S9)*1000 -> 1030.9654 | N9: =SUM(K9/W9)*100 -> 82.339249 | O9: 16 | P9: 0 | Q9: =P9/O9*100 -> 0 | R9: =P9/X9*100 -> 0 | S9: 549 | T9: Лемдяйский | U9: 7 | W9: 687.4 | X9: 10
A10: Леткинское | J10: 1340 | K10: 900 | L10: =SUM(K10/J10)*100 -> 67.164179 | M10: =SUM(K10/S10)*1000 -> 2571.4286 | N10: =SUM(K10/W10)*100 -> 70.372977 | O10: 14 | P10: 15 | Q10: =P10/O10*100 -> 107.14286 | R10: =P10/X10*100 -> 93.75 | S10: 350 | T10: Леткинский | W10: 1278.9 | X10: 16
A11: Мельцанское | B11: 1 | F11: 160 | G11: 156.7 | H11: =SUM(G11/F11)*100 -> 97.9375 | I11: =SUM(G11/V11)*100 -> 102.4183 | J11: 3950 | K11: 3951.4 | L11: =SUM(K11/J11)*100 -> 100.03544 | M11: =SUM(K11/S11)*1000 -> 4951.6291 | N11: =SUM(K11/W11)*100 -> 109.09442 | O11: 34 | P11: 55 | Q11: =P11/O11*100 -> 161.76471 | R11: =P11/X11*100 -> 211.53846 | S11: 798 | T11: Мельцанский | U11: 0.4 | V11: 153 | W11: 3622 | X11: 26
A12: Новоакшинское | B12: 1 | F12: 335 | G12: 269.4 | H12: =SUM(G12/F12)*100 -> 80.41791 | I12: =SUM(G12/V12)*100 -> 85.091598 | J12: 6610 | K12: 6130.9 | L12: =SUM(K12/J12)*100 -> 92.751891 | M12: =SUM(K12/S12)*1000 -> 6628 | N12: =SUM(K12/W12)*100 -> 100.90355 | O12: 38 | P12: 42 | Q12: =P12/O12*100 -> 110.52632 | R12: =P12/X12*100 -> 100 | S12: 925 | T12: Новоакшинский | U12: 0.4 | V12: 316.6 | W12: 6076 | X12: 42
A13: Н.Александр | J13: 324 | K13: 324 | L13: =SUM(K13/J13)*100 -> 100 | M13: =SUM(K13/S13)*1000 -> 1333.3333 | N13: =SUM(K13/W13)*100 -> 104.61737 | O13: 5 | P13: 0 | Q13: =P13/O13*100 -> 0 | S13: 243 | T13: Н.Александров. | W13: 309.7 | X13: 0
A14: Новотроицкое | B14: 15 | C14: 10.3 | D14: =SUM(C14/B14)*100 -> 68.666667 | E14: =SUM(C14/U14)*100 -> 71.527778 | F14: 650 | G14: 664.4 | H14: =SUM(G14/F14)*100 -> 102.21538 | I14: =SUM(G14/V14)*100 -> 102.54669 | J14: 11350 | K14: 9972.1 | L14: =SUM(K14/J14)*100 -> 87.859912 | M14: =SUM(K14/S14)*1000 -> 19177.115 | N14: =SUM(K14/W14)*100 -> 95.761271 | O14: 42 | P14: 30 | Q14: =P14/O14*100 -> 71.428571 | R14: =P14/X14*100 -> 73.170732 | S14: 520 | T14: Новотроицкий | U14: 14.4 | V14: 647.9 | W14: 10413.5 | X14: 41
A15: Н.Федоровское | B15: 1 | F15: 55 | G15: 52.1 | H15: =SUM(G15/F15)*100 -> 94.727273 | I15: =SUM(G15/V15)*100 -> 90.924956 | J15: 2000 | K15: 2000 | L15: =SUM(K15/J15)*100 -> 100 | M15: =SUM(K15/S15)*1000 -> 2554.2784 | N15: =SUM(K15/W15)*100 -> 104.71204 | O15: 23 | P15: 0 | Q15: =P15/O15*100 -> 0 | R15: =P15/X15*100 -> 0 | S15: 783 | T15: Н.Федоровский. | U15: 0.7 | V15: 57.3 | W15: 1910 | X15: 19
A16: Рязановское | J16: 325 | K16: 325 | L16: =SUM(K16/J16)*100 -> 100 | M16: =SUM(K16/S16)*1000 -> 1846.5909 | N16: =SUM(K16/W16)*100 -> 104.83871 | O16: 7 | P16: 7 | Q16: =P16/O16*100 -> 100 | R16: =P16/X16*100 -> 87.5 | S16: 176 | T16: Рязановский | U16: 5.7 | W16: 310 | X16: 8
A17: Ст.Теризморгское | B17: 17 | C17: 17.4 | D17: =SUM(C17/B17)*100 -> 102.35294 | E17: =SUM(C17/U17)*100 -> 17400 | F17: 630 | G17: 578.5 | H17: =SUM(G17/F17)*100 -> 91.825397 | I17: =SUM(G17/V17)*100 -> 99.484093 | J17: 1340 | K17: 1340.8 | L17: =SUM(K17/J17)*100 -> 100.0597 | M17: =SUM(K17/S17)*1000 -> 1926.4368 | N17: =SUM(K17/W17)*100 -> 108.84884 | O17: 31 | P17: 31 | Q17: =P17/O17*100 -> 100 | R17: =P17/X17*100 -> 93.939394 | S17: 696 | T17: Ст.Теризморгск. | U17: 0.1 | V17: 581.5 | W17: 1231.8 | X17: 33
A18: Ст.Федоровское | C18: 0 | F18: 200 | G18: 195.5 | H18: =SUM(G18/F18)*100 -> 97.75 | I18: =SUM(G18/V18)*100 -> 108.13053 | J18: 1140 | K18: 870 | L18: =SUM(K18/J18)*100 -> 76.315789 | M18: =SUM(K18/S18)*1000 -> 2500 | N18: =SUM(K18/W18)*100 -> 82.857143 | O18: 11 | P18: 16 | Q18: =P18/O18*100 -> 145.45455 | R18: =P18/X18*100 -> 84.210526 | S18: 348 | T18: Ст.Федоровский | U18: 0.5 | V18: 180.8 | W18: 1050 | X18: 19
A19: Ст.Шайговское | J19: 70873 | K19: 75667.8 | L19: =SUM(K19/J19)*100 -> 106.76534 | M19: =SUM(K19/S19)*1000 -> 16878.831 | N19: =SUM(K19/W19)*100 -> 112.9328 | O19: 350 | P19: 350 | Q19: =P19/O19*100 -> 100 | R19: =P19/X19*100 -> 94.238018 | S19: 4483 | T19: Ст.Шайговский | W19: 67002.5 | X19: 371.4
A20: Шигонское | C20: 0 | F20: 100 | H20: =SUM(G20/F20)*100 -> 0 | I20: =SUM(G20/V20)*100 -> 0 | J20: 995 | K20: 945 | L20: =SUM(K20/J20)*100 -> 94.974874 | M20: =SUM(K20/S20)*1000 -> 2787.6106 | N20: =SUM(K20/W20)*100 -> 99.369085 | O20: 15 | P20: 0 | Q20: =P20/O20*100 -> 0 | R20: =P20/X20*100 -> 0 | S20: 339 | T20: Шигонский | U20: 0.4 | V20: 78.3 | W20: 951 | X20: 3
A21: Шуварское | J21: 407 | K21: 408.2 | L21: =SUM(K21/J21)*100 -> 100.29484 | M21: =SUM(K21/S21)*1000 -> 1432.2807 | N21: =SUM(K21/W21)*100 -> 104.96272 | O21: 11 | P21: 0 | Q21: =P21/O21*100 -> 0 | R21: =P21/X21*100 -> 0 | S21: 285 | T21: Шуварский | W21: 388.9 | X21: 1
A23: В С Е Г О | B23: =SUM(B5:B21) -> 46 | C23: =SUM(C5:C21) -> 28.4 | D23: =SUM(C23/B23)*100 -> 61.73913 | E23: =SUM(C23/U23)*100 -> 85.542169 | F23: =SUM(F5:F21) -> 2680 | G23: =SUM(G5:G21) -> 2485.2 | H23: =SUM(G23/F23)*100 -> 92.731343 | I23: =SUM(G23/V23)*100 -> 99.384148 | J23: =SUM(J5:J21) -> 108194 | K23: =SUM(K5:K21) -> 108210 | L23: =SUM(K23/J23)*100 -> 100.01479 | M23: =SUM(K23/S23)*1000 -> 9094.8058 | N23: =SUM(K23/W23)*100 -> 106.60769 | O23: =SUM(O5:O21) -> 678 | P23: =SUM(P5:P21) -> 611 | Q23: =P23/O23*100 -> 90.117994 | R23: =P23/X23*100 -> 92.519685 | S23: =SUM(S5:S22) -> 11898 | T23: В С Е Г О | U23: =SUM(U5:U21) -> 33.2 | V23: =SUM(V5:V21) -> 2500.6 | W23: =SUM(W5:W21) -> 101503 | X23: =SUM(X5:X21) -> 660.4

Sheet С нач.года 
A1: Выполнение показателей социально-экономического развития Старошайговского района за ЯНВАРЬ-СЕНТЯБРЬ 2018 года | T1: 2017 | X1: 2018 пред месяц
A2: Наименование сельского поселения | B2: Закуп МЯСА от СПК , тонн | F2: Закуп МОЛОКА от СПК , тонн | J2: Розничный товарооборот , т.руб. | O2: Реализация водки пр-ва РМ , дал. | S2: Численность населения на 1.01.18 | T2: прошлый год 2017 январь-сентябрь | X2: Закуп МЯСА от СПК ,тонн | AB2: Закуп МОЛОКА от СПК ,тонн | AF2: Розничный товарооборот ,т.руб. | AK2: Реализация водки пр-ва РМ ,дал.
B3: Прогноз с нач. года | C3: Факт с нач. года | D3: %вып.прогноза | E3: 2018 в % к 2017 | F3: Прогноз с нач. года | G3: Факт с нач. года | H3: %вып.прогноза | I3: 2018 в % к 2017 | J3: Прогноз с нач. года | K3: Факт с нач. года | L3: %вып.прогноза | M3: Т/об.на 1 жителя, руб. | N3: 2018 в % к 2017 | O3: Прогноз с нач. года | P3: Факт с нач. года | Q3: %вып.прогноза | R3: 2018 в % к 2017 | T3: мясо | U3: молоко | V3: Т/оборот | W3: Реализ. водки | X3: Прогноз | Y3: Факт | Z3: %вып. | AA3: 2018 в% | AB3: Прогноз | AC3: Факт | AD3: %вып. | AE3: 2018 в% | AF3: Прогноз | AG3: Факт | AH3: %вып. | AI3: Т/об.на | AJ3: 2018 в% | AK3: Прогноз | AL3: Факт | AM3: %вып. | AN3: 2018 в%
X4: с нач года | Y4: с нач года | AA4: к 2017 | AB4: с нач года | AC4: с нач года | AE4: к 2017 | AF4: с нач года | AG4: с нач года | AI4: 1жит.,руб. | AJ4: к 2017 | AK4: с нач.года | AL4: с нач.года | AN4: к 2017
A5: Богдановское | B5: =X5+Месяц!B5 -> 8 | C5: =Y5+Месяц!C5 -> 2.2 | D5: =SUM(C5/B5)*100 -> 27.5 | E5: =SUM(C5/T5)*100 -> 122.22222 | F5: =AB5+Месяц!F5 -> 3069 | G5: =AC5+Месяц!G5 -> 3341.676 | H5: =SUM(G5/F5)*100 -> 108.88485 | I5: =SUM(G5/U5)*100 -> 118.19319 | J5: =AF5+Месяц!J5 -> 29500 | K5: =AG5+Месяц!K5 -> 25520.1 | L5: =SUM(K5/J5)*100 -> 86.508814 | M5: =SUM(K5/S5)*1000 -> 36719.568 | N5: =SUM(K5/V5)*100 -> 100.94577 | O5: =AK5+Месяц!O5 -> 349 | P5: =AL5+Месяц!P5 -> 488 | Q5: =SUM(P5/O5)*100 -> 139.82808 | R5: =P5/W5*100 -> 117.02638 | S5: 695 | T5: 1.8 | U5: 2827.3 | V5: 25281 | W5: 417 | X5: 7 | Y5: 2.2 | Z5: 31.428571 | AB5: 2769 | AC5: 3023.576 | AD5: 109.19379 | AE5: 117.73133 | AF5: 25350 | AG5: 22464.9 | AH5: 88.618935 | AI5: 32323.597 | AJ5: 104.57205 | AK5: 297 | AL5: 423 | AM5: 142.42424 | AN5: 116.20879
A6: Восходское | F6: =AB6+Месяц!F6 -> 0 | G6: =AC6+Месяц!G6 -> 0 | J6: =AF6+Месяц!J6 -> 3739 | K6: =AG6+Месяц!K6 -> 3670.2 | L6: =SUM(K6/J6)*100 -> 98.159936 | M6: =SUM(K6/S6)*1000 -> 15888.312 | N6: =SUM(K6/V6)*100 -> 104.71327 | O6: =AK6+Месяц!O6 -> 82 | P6: =AL6+Месяц!P6 -> 0 | Q6: =SUM(P6/O6)*100 -> 0 | S6: 231 | T6: 29.3 | V6: 3505 | W6: 0 | AB6: 0 | AC6: 0 | AF6: 3327 | AG6: 3239.5 | AH6: 97.370003 | AI6: 14023.81 | AJ6: 104.11712 | AK6: 72 | AL6: 0 | AM6: 0
A7: Инг.Пятинское | F7: =AB7+Месяц!F7 -> 0 | G7: =AC7+Месяц!G7 -> 0 | J7: =AF7+Месяц!J7 -> 3546 | K7: =AG7+Месяц!K7 -> 3094.1 | L7: =SUM(K7/J7)*100 -> 87.256063 | M7: =SUM(K7/S7)*1000 -> 14875.481 | N7: =SUM(K7/V7)*100 -> 93.103241 | O7: =AK7+Месяц!O7 -> 84 | P7: =AL7+Месяц!P7 -> 77 | Q7: =SUM(P7/O7)*100 -> 91.666667 | R7: =P7/W7*100 -> 86.516854 | S7: 208 | V7: 3323.3 | W7: 89 | AB7: 0 | AC7: 0 | AF7: 3188 | AG7: 2788.2 | AH7: 87.459222 | AI7: 13404.808 | AJ7: 93.504142 | AK7: 75 | AL7: 77 | AM7: 102.66667 | AN7: 98.717949
A8: Конопатское | B8: =X8+Месяц!B8 -> 38 | C8: =Y8+Месяц!C8 -> 29.7 | D8: =SUM(C8/B8)*100 -> 78.157895 | E8: =SUM(C8/T8)*100 -> 209.15493 | F8: =AB8+Месяц!F8 -> 2613 | G8: =AC8+Месяц!G8 -> 2700.016 | H8: =SUM(G8/F8)*100 -> 103.33012 | I8: =SUM(G8/U8)*100 -> 111.54325 | J8: =AF8+Месяц!J8 -> 12860 | K8: =AG8+Месяц!K8 -> 8774 | L8: =SUM(K8/J8)*100 -> 68.227061 | M8: =SUM(K8/S8)*1000 -> 32617.1 | N8: =SUM(K8/V8)*100 -> 78.909974 | O8: =AK8+Месяц!O8 -> 89 | P8: =AL8+Месяц!P8 -> 14 | Q8: =SUM(P8/O8)*100 -> 15.730337 | R8: =P8/W8*100 -> 19.71831 | S8: 269 | T8: 14.2 | U8: 2420.6 | V8: 11119 | W8: 71 | X8: 33 | Y8: 29 | Z8: 87.878788 | AA8: 218.04511 | AB8: 2363 | AC8: 2449.516 | AD8: 103.66128 | AE8: 111.62069 | AF8: 10960 | AG8: 7757 | AH8: 70.775547 | AI8: 28836.431 | AJ8: 82.688413 | AK8: 79 | AL8: 14 | AM8: 17.721519 | AN8: 21.875
A9: Лемдяйское | B9: =X9+Месяц!B9 -> 52 | C9: =Y9+Месяц!C9 -> 30.8 | D9: =SUM(C9/B9)*100 -> 59.230769 | E9: =SUM(C9/T9)*100 -> 45.427729 | F9: =AB9+Месяц!F9 -> 0 | G9: =AC9+Месяц!G9 -> 0 | J9: =AF9+Месяц!J9 -> 6972 | K9: =AG9+Месяц!K9 -> 5500.5 | L9: =SUM(K9/J9)*100 -> 78.894148 | M9: =SUM(K9/S9)*1000 -> 10019.126 | N9: =SUM(K9/V9)*100 -> 86.468175 | O9: =AK9+Месяц!O9 -> 115 | P9: =AL9+Месяц!P9 -> 76 | Q9: =SUM(P9/O9)*100 -> 66.086957 | R9: =P9/W9*100 -> 74.509804 | S9: 549 | T9: 67.8 | V9: 6361.3 | W9: 102 | X9: 47 | Y9: 30.8 | Z9: 65.531915 | AA9: 50.657895 | AB9: 0 | AC9: 0 | AF9: 6252 | AG9: 4934.5 | AH9: 78.926743 | AI9: 8988.1603 | AJ9: 86.968399 | AK9: 99 | AL9: 76 | AM9: 76.767677 | AN9: 82.608696
A10: Леткинское | B10: =X10+Месяц!B10 -> 0 | C10: =Y10+Месяц!C10 -> 0 | F10: =AB10+Месяц!F10 -> 0 | G10: =AC10+Месяц!G10 -> 0 | J10: =AF10+Месяц!J10 -> 9382 | K10: =AG10+Месяц!K10 -> 7566.2 | L10: =SUM(K10/J10)*100 -> 80.645918 | M10: =SUM(K10/S10)*1000 -> 21617.714 | N10: =SUM(K10/V10)*100 -> 89.09168 | O10: =AK10+Месяц!O10 -> 125 | P10: =AL10+Месяц!P10 -> 125 | Q10: =SUM(P10/O10)*100 -> 100 | R10: =P10/W10*100 -> 108.69565 | S10: 350 | V10: 8492.6 | W10: 115 | X10: 0 | Y10: 0 | AB10: 0 | AC10: 0 | AF10: 8042 | AG10: 6666.2 | AH10: 82.892315 | AI10: 19046.286 | AJ10: 92.410275 | AK10: 111 | AL10: 110 | AM10: 99.099099 | AN10: 111.11111
A11: Мельцанское | B11: =X11+Месяц!B11 -> 2 | C11: =Y11+Месяц!C11 -> 1.4 | D11: =SUM(C11/B11)*100 -> 70 | E11: =SUM(C11/T11)*100 -> 155.55556 | F11: =AB11+Месяц!F11 -> 1638 | G11: =AC11+Месяц!G11 -> 1753.1 | H11: =SUM(G11/F11)*100 -> 107.02686 | I11: =SUM(G11/U11)*100 -> 113.05217 | J11: =AF11+Месяц!J11 -> 34775 | K11: =AG11+Месяц!K11 -> 34890.8 | L11: =SUM(K11/J11)*100 -> 100.333 | M11: =SUM(K11/S11)*1000 -> 43722.807 | N11: =SUM(K11/V11)*100 -> 115.36895 | O11: =AK11+Месяц!O11 -> 300 | P11: =AL11+Месяц!P11 -> 310.7 | Q11: =SUM(P11/O11)*100 -> 103.56667 | R11: =P11/W11*100 -> 117.68939 | S11: 798 | T11: 0.9 | U11: 1550.7 | V11: 30242.8 | W11: 264 | X11: 1 | Y11: 1.4 | Z11: 140 | AB11: 1478 | AC11: 1596.4 | AD11: 108.01083 | AE11: 114.21621 | AF11: 30825 | AG11: 30939.4 | AH11: 100.37113 | AI11: 38771.178 | AJ11: 116.22265 | AK11: 266 | AL11: 255.7 | AM11: 96.12782 | AN11: 107.43697
A12: Новоакшинское | B12: =X12+Месяц!B12 -> 27 | C12: 0.4 | D12: =SUM(C12/B12)*100 -> 1.4814815 | E12: =SUM(C12/T12)*100 -> 50 | F12: =AB12+Месяц!F12 -> 3265 | G12: =AC12+Месяц!G12 -> 2884.2 | H12: =SUM(G12/F12)*100 -> 88.336907 | I12: =SUM(G12/U12)*100 -> 86.311946 | J12: =AF12+Месяц!J12 -> 56510 | K12: =AG12+Месяц!K12 -> 50969 | L12: =SUM(K12/J12)*100 -> 90.194656 | M12: =SUM(K12/S12)*1000 -> 55101.622 | N12: =SUM(K12/V12)*100 -> 104.76024 | O12: =AK12+Месяц!O12 -> 343 | P12: =AL12+Месяц!P12 -> 368.5 | Q12: =SUM(P12/O12)*100 -> 107.4344 | R12: =P12/W12*100 -> 99.594595 | S12: 925 | T12: 0.8 | U12: 3341.6 | V12: 48653 | W12: 370 | X12: 26 | Y12: 0.4 | Z12: 1.5384615 | AB12: 2930 | AC12: 2614.8 | AD12: 89.242321 | AE12: 86.439669 | AF12: 49900 | AG12: 44838.1 | AH12: 89.855912 | AI12: 48473.622 | AJ12: 105.31061 | AK12: 305 | AL12: 326.5 | AM12: 107.04918 | AN12: 99.542683
A13: Н.Александровское | F13: =AB13+Месяц!F13 -> 0 | G13: =AC13+Месяц!G13 -> 0 | J13: =AF13+Месяц!J13 -> 2564 | K13: =AG13+Месяц!K13 -> 2789.9 | L13: =SUM(K13/J13)*100 -> 108.81045 | M13: =SUM(K13/S13)*1000 -> 11481.07 | N13: =SUM(K13/V13)*100 -> 115.75388 | O13: =AK13+Месяц!O13 -> 31 | P13: =AL13+Месяц!P13 -> 0 | Q13: =SUM(P13/O13)*100 -> 0 | S13: 243 | V13: 2410.2 | W13: 0 | AB13: 0 | AC13: 0 | AF13: 2240 | AG13: 2465.9 | AH13: 110.08482 | AI13: 10147.737 | AJ13: 117.39586 | AK13: 26 | AL13: 0 | AM13: 0
A14: Новотроицкое | B14: =X14+Месяц!B14 -> 157 | C14: =Y14+Месяц!C14 -> 166.8 | D14: =SUM(C14/B14)*100 -> 106.24204 | E14: =SUM(C14/T14)*100 -> 138.76872 | F14: =AB14+Месяц!F14 -> 6421 | G14: =AC14+Месяц!G14 -> 6435.5 | H14: =SUM(G14/F14)*100 -> 100.22582 | I14: =SUM(G14/U14)*100 -> 101.07903 | J14: =AF14+Месяц!J14 -> 93530 | K14: =AG14+Месяц!K14 -> 86713 | L14: =SUM(K14/J14)*100 -> 92.711429 | M14: =SUM(K14/S14)*1000 -> 166755.77 | N14: =SUM(K14/V14)*100 -> 107.89185 | O14: =AK14+Месяц!O14 -> 332 | P14: =AL14+Месяц!P14 -> 297.4 | Q14: =SUM(P14/O14)*100 -> 89.578313 | R14: =P14/W14*100 -> 102.19931 | S14: 520 | T14: 120.2 | U14: 6366.8 | V14: 80370.3 | W14: 291 | X14: 142 | Y14: 156.5 | Z14: 110.21127 | AA14: 147.9206 | AB14: 5771 | AC14: 5771.1 | AD14: 100.00173 | AE14: 100.91276 | AF14: 82180 | AG14: 76740.9 | AH14: 93.38148 | AI14: 147578.65 | AJ14: 109.69756 | AK14: 290 | AL14: 267.4 | AM14: 92.206897 | AN14: 106.96
A15: Н.Федоровское | B15: =X15+Месяц!B15 -> 4 | C15: =Y15+Месяц!C15 -> 6.5 | D15: =SUM(C15/B15)*100 -> 162.5 | E15: =SUM(C15/T15)*100 -> 130 | F15: =AB15+Месяц!F15 -> 474 | G15: =AC15+Месяц!G15 -> 535.6 | H15: =SUM(G15/F15)*100 -> 112.99578 | I15: =SUM(G15/U15)*100 -> 131.37111 | J15: =AF15+Месяц!J15 -> 16870 | K15: =AG15+Месяц!K15 -> 17971 | L15: =SUM(K15/J15)*100 -> 106.52638 | M15: =SUM(K15/S15)*1000 -> 22951.469 | N15: =SUM(K15/V15)*100 -> 119.52777 | O15: =AK15+Месяц!O15 -> 228 | P15: =AL15+Месяц!P15 -> 90 | Q15: =SUM(P15/O15)*100 -> 39.473684 | R15: =P15/W15*100 -> 43.062201 | S15: 783 | T15: 5 | U15: 407.7 | V15: 15035 | W15: 209 | X15: 3 | Y15: 6.5 | Z15: 216.66667 | AB15: 419 | AC15: 483.5 | AD15: 115.39379 | AE15: 137.98516 | AF15: 14870 | AG15: 15971 | AH15: 107.40417 | AI15: 20397.19 | AJ15: 121.68381 | AK15: 205 | AL15: 90 | AM15: 43.902439 | AN15: 47.368421
A16: Рязановское | B16: =X16+Месяц!B16 -> 0 | C16: =Y16+Месяц!C16 -> 0 | E16: =SUM(C16/T16)*100 -> 0 | F16: =AB16+Месяц!F16 -> 0 | G16: =AC16+Месяц!G16 -> 0 | J16: =AF16+Месяц!J16 -> 2996 | K16: =AG16+Месяц!K16 -> 2875 | L16: =SUM(K16/J16)*100 -> 95.961282 | M16: =SUM(K16/S16)*1000 -> 16335.227 | N16: =SUM(K16/V16)*100 -> 102.67857 | O16: =AK16+Месяц!O16 -> 69 | P16: =AL16+Месяц!P16 -> 71 | Q16: =SUM(P16/O16)*100 -> 102.89855 | R16: =P16/W16*100 -> 131.48148 | S16: 176 | T16: 49.1 | V16: 2800 | W16: 54 | X16: 0 | Y16: 0 | AB16: 0 | AC16: 0 | AF16: 2671 | AG16: 2550 | AH16: 95.469861 | AI16: 14488.636 | AJ16: 102.40964 | AK16: 62 | AL16: 64 | AM16: 103.22581 | AN16: 139.13043
A17: Ст.Теризморгское | B17: =X17+Месяц!B17 -> 196 | C17: =Y17+Месяц!C17 -> 293.1 | D17: =SUM(C17/B17)*100 -> 149.54082 | E17: =SUM(C17/T17)*100 -> 611.89979 | F17: =AB17+Месяц!F17 -> 5276 | G17: =AC17+Месяц!G17 -> 5908.3 | H17: =SUM(G17/F17)*100 -> 111.98446 | I17: =SUM(G17/U17)*100 -> 131.07128 | J17: =AF17+Месяц!J17 -> 10975 | K17: =AG17+Месяц!K17 -> 11071.8 | L17: =SUM(K17/J17)*100 -> 100.882 | M17: =SUM(K17/S17)*1000 -> 15907.759 | N17: =SUM(K17/V17)*100 -> 110.13977 | O17: =AK17+Месяц!O17 -> 265 | P17: =AL17+Месяц!P17 -> 265 | Q17: =SUM(P17/O17)*100 -> 100 | R17: =P17/W17*100 -> 100.37879 | S17: 696 | T17: 47.9 | U17: 4507.7 | V17: 10052.5 | W17: 264 | X17: 179 | Y17: 275.7 | Z17: 152.56983 | AA17: 571.33891 | AB17: 4646 | AC17: 5329.8 | AD17: 114.71804 | AE17: 135.74923 | AF17: 9635 | AG17: 9731 | AH17: 100.99637 | AI17: 13981.322 | AJ17: 110.32004 | AK17: 234 | AL17: 234 | AM17: 100 | AN17: 101.2987
A18: Ст.Федоровское | B18: =X18+Месяц!B18 -> 5 | C18: =Y18+Месяц!C18 -> 1.2 | D18: =SUM(C18/B18)*100 -> 24 | E18: =SUM(C18/T18)*100 -> 120 | F18: =AB18+Месяц!F18 -> 1900 | G18: =AC18+Месяц!G18 -> 1781.5 | H18: =SUM(G18/F18)*100 -> 93.763158 | I18: =SUM(G18/U18)*100 -> 94.705226 | J18: =AF18+Месяц!J18 -> 10013 | K18: =AG18+Месяц!K18 -> 8350 | L18: =SUM(K18/J18)*100 -> 83.391591 | M18: =SUM(K18/S18)*1000 -> 23994.253 | N18: =SUM(K18/V18)*100 -> 95.778848 | O18: =AK18+Месяц!O18 -> 98 | P18: =AL18+Месяц!P18 -> 147 | Q18: =SUM(P18/O18)*100 -> 150 | R18: =P18/W18*100 -> 107.61347 | S18: 348 | T18: 1 | U18: 1881.1 | V18: 8718 | W18: 136.6 | X18: 5 | Y18: 1.2 | Z18: 24 | AB18: 1700 | AC18: 1586 | AD18: 93.294118 | AE18: 93.523525 | AF18: 8873 | AG18: 7480 | AH18: 84.300687 | AI18: 21494.253 | AJ18: 97.548252 | AK18: 87 | AL18: 131 | AM18: 150.57471 | AN18: 111.39456
A19: Ст.Шайговское | F19: =AB19+Месяц!F19 -> 0 | G19: =AC19+Месяц!G19 -> 0 | J19: =AF19+Месяц!J19 -> 549666 | K19: =AG19+Месяц!K19 -> 587154.2 | L19: =SUM(K19/J19)*100 -> 106.82018 | M19: =SUM(K19/S19)*1000 -> 130973.5 | N19: =SUM(K19/V19)*100 -> 109.56743 | O19: =AK19+Месяц!O19 -> 2599 | P19: =AL19+Месяц!P19 -> 2905.5 | Q19: =SUM(P19/O19)*100 -> 111.793 | R19: =P19/W19*100 -> 100.6687 | S19: 4483 | V19: 535883.9 | W19: 2886.2 | AB19: 0 | AC19: 0 | AF19: 478793 | AG19: 511486.4 | AH19: 106.8283 | AI19: 114094.67 | AJ19: 109.08652 | AK19: 2249 | AL19: 2555.5 | AM19: 113.62828 | AN19: 101.61842
A20: Шигонское | B20: =X20+Месяц!B20 -> 5 | C20: =Y20+Месяц!C20 -> 0 | D20: =SUM(C20/B20)*100 -> 0 | F20: =AB20+Месяц!F20 -> 783 | G20: =AC20+Месяц!G20 -> 755.5 | H20: =SUM(G20/F20)*100 -> 96.487867 | I20: =SUM(G20/U20)*100 -> 121.32648 | J20: =AF20+Месяц!J20 -> 5298 | K20: =AG20+Месяц!K20 -> 5795 | L20: =SUM(K20/J20)*100 -> 109.3809 | M20: =SUM(K20/S20)*1000 -> 17094.395 | N20: =SUM(K20/V20)*100 -> 116.62306 | O20: =AK20+Месяц!O20 -> 99 | P20: =AL20+Месяц!P20 -> 44 | Q20: =SUM(P20/O20)*100 -> 44.444444 | R20: =P20/W20*100 -> 48.888889 | S20: 339 | T20: 0.4 | U20: 622.7 | V20: 4969 | W20: 90 | X20: 5 | Y20: 0 | Z20: 0 | AB20: 683 | AC20: 755.5 | AD20: 110.61493 | AE20: 138.77663 | AF20: 4303 | AG20: 4850 | AH20: 112.71206 | AI20: 14306.785 | AJ20: 120.70682 | AK20: 84 | AL20: 44 | AM20: 52.380952 | AN20: 50.574713
A21: Шуварское | B21: =X21+Месяц!B21 -> 0 | C21: =Y21+Месяц!C21 -> 0 | F21: =AB21+Месяц!F21 -> 0 | G21: =AC21+Месяц!G21 -> 0 | J21: =AF21+Месяц!J21 -> 3974 | K21: =AG21+Месяц!K21 -> 3865.8 | L21: =SUM(K21/J21)*100 -> 97.277302 | M21: =SUM(K21/S21)*1000 -> 13564.211 | N21: =SUM(K21/V21)*100 -> 104.22474 | O21: =AK21+Месяц!O21 -> 89 | P21: =AL21+Месяц!P21 -> 7.4 | Q21: =SUM(P21/O21)*100 -> 8.3146067 | R21: =P21/W21*100 -> 20.555556 | S21: 285 | T21: 0.4 | V21: 3709.1 | W21: 36 | X21: 0 | Y21: 0 | AB21: 0 | AC21: 0 | AF21: 3567 | AG21: 3457.6 | AH21: 96.932997 | AI21: 12131.93 | AJ21: 104.1383 | AK21: 78 | AL21: 7.4 | AM21: 9.4871795 | AN21: 21.142857
J22: 0 | W22: 0 | AF22: 0
A23: В С Е Г О | B23: =SUM(B5:B21) -> 494 | C23: =SUM(C5:C21) -> 532.1 | D23: =SUM(C23/B23)*100 -> 107.71255 | E23: =SUM(C23/T23)*100 -> 157.05431 | F23: =AB23+Месяц!F23 -> 25439 | G23: =SUM(G5:G21) -> 26095.392 | H23: =SUM(G23/F23)*100 -> 102.58026 | I23: =SUM(G23/U23)*100 -> 109.06618 | J23: =AF23+Месяц!J23 -> 853170 | K23: =SUM(K5:K21) -> 866570.6 | L23: =SUM(K23/J23)*100 -> 101.57068 | M23: =SUM(K23/S23)*1000 -> 72833.3 | N23: =SUM(K23/V23)*100 -> 108.19609 | O23: =AK23+Месяц!O23 -> 5297 | P23: =SUM(P5:P21) -> 5286.5 | Q23: =P23/O23*100 -> 99.801775 | R23: =P23/W23*100 -> 97.992511 | S23: =SUM(S5:S22) -> 11898 | T23: =SUM(T5:T21) -> 338.8 | U23: =SUM(U5:U21) -> 23926.2 | V23: =SUM(V5:V21) -> 800926 | W23: =SUM(W5:W21) -> 5394.8 | X23: =SUM(X5:X21) -> 448 | Y23: =SUM(Y5:Y21) -> 503.7 | Z23: 111.85268 | AA23: 163.97251 | AB23: =SUM(AB5:AB21) -> 22759 | AC23: =SUM(AC5:AC21) -> 23610.192 | AD23: 103.74002 | AE23: 110.21912 | AF23: =SUM(AF5:AF21) -> 744976 | AG23: =SUM(AG5:AG21) -> 758360.6 | AH23: 101.79665 | AI23: 63738.494 | AJ23: 108.4266 | AK23: =SUM(AK5:AK21) -> 4619 | AL23: =SUM(AL5:AL21) -> 4675.5 | AM23: 101.22321 | AN23: 98.755914

Sheet Отгрузка
A1: Объем отгруженных товаров собственного производства, выполненных работ и услуг собственными силами по предприятиям,
A2: функционирующим на территории Старошайговского муниципального района | O2: 2018
A3: Наименование предприятия | B3: Ед. изм. | C3: Прогноз на 2018 год | D3: Прогноз с начала года | E3: Факт с начала года | F3: % | G3: Факт с начала 2017г | H3: 2018 в % 2017 | I3: в т.ч. сентябрь | O3: Прогноз | P3: Факт | Q3: Факт
F4: вып-я | I4: Прогноз | J4: Факт | K4: % вып-я | L4: факт 2017 | M4: 2018 в % 2017 | O4: с нач.года | P4: с нач.года | Q4: 2017
A5: Ст.Шайговский участок ООО "Системы жизнеобеспечения РМ" | B5: т.руб. | C5: 850 | D5: =I5+O5 -> 850 | E5: =P5+J5 -> 0 | F5: =SUM(E5/D5)*100 -> 0 | G5: =L5+Q5 -> 5969.1 | H5: =SUM(E5/G5)*100 -> 0 | I5: 0 | J5: 0 | L5: 702.1 | M5: =SUM(J5/L5)*100 -> 0 | O5: 850 | P5: 0 | Q5: 5267
A6: ВСЕГО ПО РАЙОНУ | C6: =SUM(C5:C5) -> 850 | D6: =SUM(D5:D5) -> 850 | E6: =SUM(E5:E5) -> 0 | F6: =SUM(E6/D6)*100 -> 0 | G6: =SUM(G5:G5) -> 5969.1 | H6: =SUM(E6/G6)*100 -> 0 | I6: 0 | J6: =SUM(J5:J5) -> 0 | L6: 702.1 | M6: =SUM(J6/L6)*100 -> 0 | N6: ВСЕГО ПО РАЙОНУ | O6: =SUM(O5:O5) -> 850 | P6: 0 | Q6: 5267

Sheet Товарность  
A1: Анализ производства и реализации молока СПК за ЯНВАРЬ-СЕНТЯБРЬ 2018
A2: Наименование | B2: Производство молока,тонн | E2: Удельный вес, % | G2: Надой на 1 корову, кг | J2: Закуп молока, тонн физ.в. | M2: Товарность, в % | P2: Поголовье коров
A3: сельхоз- | B3: январь-сентябрь | D3: Темп | E3: январь-сентябрь | G3: январь-сентябрь | I3: Темп | J3: январь-сентябрь | L3: Темп | M3: январь-сентябрь | O3: ,+,- | P3: 43009 | R3: 43374
A4: предприятия | B4: 2017 | C4: 2018 | D4: роста | E4: 2017 | F4: 2018 | G4: 2017 | H4: 2018 | I4: роста | J4: 2017 | K4: 2018 | L4: роста | M4: 2017 | N4: 2018 | P4: молоч. | Q4: мясн. | R4: молоч. | S4: мясн.
A5: ООО СП Богдановское | B5: 2703.2 | C5: 3004.8 | D5: =C5/B5*100 -> 111.15715 | E5: =B5/B24*100 -> 11.90622 | F5: =C5/C24*100 -> 11.970266 | G5: =B5/P5*1000 -> 4158.7692 | H5: =C5/R5*1000 -> 4622.7692 | I5: =H5/G5*100 -> 111.15715 | J5: 2515.7 | K5: 2909.3 | L5: =K5/J5*100 -> 115.64574 | M5: =J5/B5*100 -> 93.063776 | N5: =K5/C5*100 -> 96.821752 | O5: =N5-M5 -> 3.7579756 | P5: 650 | Q5: 200 | R5: 650 | S5: 200 | T5: =R5+S5 -> 850
A6: ООО "Союз-Агро" | B6: 612.6 | C6: 726.8 | D6: =C6/B6*100 -> 118.64185 | E6: =B6/B24*100 -> 2.6981911 | F6: =C6/C24*100 -> 2.8953638 | G6: =B6/P6*1000 -> 4084 | H6: 4600 | I6: =H6/G6*100 -> 112.63467 | J6: 554.8 | K6: 653.6 | L6: =K6/J6*100 -> 117.80822 | M6: =J6/B6*100 -> 90.564806 | N6: =K6/C6*100 -> 89.928453 | O6: =N6-M6 -> -0.63635225 | P6: 150 | T6: =R6+S6 -> 0
A7: ООО "Биосфера" | B7: 441.8 | C7: 571 | D7: =C7/B7*100 -> 129.244 | E7: =B7/B24*100 -> 1.945904 | F7: =C7/C24*100 -> 2.274701 | G7: =B7/P7*1000 -> 4418 | H7: =C7/R7*1000 -> 5710 | I7: =H7/G7*100 -> 129.244 | J7: 372.5 | K7: 481.2 | L7: =K7/J7*100 -> 129.18121 | M7: =J7/B7*100 -> 84.314169 | N7: =K7/C7*100 -> 84.273205 | O7: =N7-M7 -> -0.040964404 | P7: 100 | Q7: 100 | R7: 100 | S7: 100 | T7: =R7+S7 -> 200
A8: ООО"Конопатское" | B8: 2280 | C8: 2396.9 | D8: =C8/B8*100 -> 105.12719 | E8: =B8/B24*100 -> 10.042239 | F8: =C8/C24*100 -> 9.5485655 | G8: =B8/P8*1000 -> 3864.4068 | H8: =C8/R8*1000 -> 4062.5424 | I8: =H8/G8*100 -> 105.12719 | J8: 2152.1 | K8: 2253.8 | L8: =K8/J8*100 -> 104.72562 | M8: =J8/B8*100 -> 94.390351 | N8: =K8/C8*100 -> 94.029788 | O8: =N8-M8 -> -0.3605624 | P8: 590 | Q8: 0 | R8: 590 | T8: =R8+S8 -> 590
A9: КФХ Лавров/ООО "Квартет" | B9: 393.6 | C9: 384.3 | D9: =C9/B9*100 -> 97.637195 | E9: =B9/B24*100 -> 1.7336076 | F9: =C9/C24*100 -> 1.5309415 | G9: 1944 | H9: 3541 | I9: =H9/G9*100 -> 182.15021 | J9: 325.6 | K9: 266.6 | L9: =K9/J9*100 -> 81.879607 | M9: =J9/B9*100 -> 82.723577 | N9: =K9/C9*100 -> 69.372886 | O9: =N9-M9 -> -13.350691 | P9: 194 | Q9: 0 | R9: 148 | T9: =R9+S9 -> 148
A10: АФ "Новотроицкая" | B10: 6232.4 | C10: 6457.9 | D10: =C10/B10*100 -> 103.61819 | E10: =B10/B24*100 -> 27.450549 | F10: =C10/C24*100 -> 25.72643 | G10: =B10/P10*1000 -> 6232.4 | H10: =C10/R10*1000 -> 6457.9 | I10: =H10/G10*100 -> 103.61819 | J10: 5816.7 | K10: 6024.8 | L10: =K10/J10*100 -> 103.57763 | M10: =J10/B10*100 -> 93.330017 | N10: =K10/C10*100 -> 93.293485 | O10: =N10-M10 -> -0.03653183 | P10: 1000 | Q10: 0 | R10: 1000 | T10: =R10+S10 -> 1000
A11: От. Н-Акшино АФ Окт | B11: 2873.4 | C11: 2728.9 | D11: =C11/B11*100 -> 94.971114 | E11: =B11/B24*100 -> 12.655864 | F11: =C11/C24*100 -> 10.871159 | G11: =B11/P11*1000 -> 5746.8 | H11: =C11/R11*1000 -> 5457.8 | J11: 2624.9 | K11: 2488.7 | L11: =K11/J11*100 -> 94.811231 | M11: =J11/B11*100 -> 91.351709 | N11: =K11/C11*100 -> 91.197919 | O11: =N11-M11 -> -0.1537902 | P11: 500 | R11: 500 | T11: =R11+S11 -> 500
A12: Отд Теризморга ООО Хорошее дело | B12: 3946.6 | C12: 5281 | D12: =C12/B12*100 -> 133.81138 | E12: =B12/B24*100 -> 17.382763 | F12: =C12/C24*100 -> 21.037997 | G12: =B12/P12*1000 -> 5206.5963 | H12: =C12/R12*1000 -> 6967.0185 | I12: =H12/G12*100 -> 133.81138 | J12: 3841.4 | K12: 5146.6 | L12: =K12/J12*100 -> 133.9772 | M12: =J12/B12*100 -> 97.334414 | N12: =K12/C12*100 -> 97.455027 | O12: =N12-M12 -> 0.12061302 | P12: 758 | R12: 758 | T12: =R12+S12 -> 758
A13: ООО "Агрошигонь" | C13: 24 | H13: =C13/R13*1000 -> 266.66667 | R13: 90 | T13: =R13+S13 -> 90
A14: КФХ Пантюшин С.А. | B14: 1630.5 | C14: 1641 | D14: =C14/B14*100 -> 100.64397 | E14: =B14/B24*100 -> 7.1815223 | F14: =C14/C24*100 -> 6.5372756 | G14: =B14/P14*1000 -> 5435 | H14: =C14/R14*1000 -> 5470 | I14: =H14/G14*100 -> 100.64397 | J14: 1551 | K14: 1499.5 | L14: =K14/J14*100 -> 96.679562 | M14: =J14/B14*100 -> 95.124195 | N14: =K14/C14*100 -> 91.377209 | O14: =N14-M14 -> -3.746986 | P14: 300 | Q14: 0 | R14: 300 | T14: =R14+S14 -> 300
A15: ПХ Мельцанское | B15: 1338.1 | C15: 1647 | D15: =C15/B15*100 -> 123.08497 | E15: =B15/B24*100 -> 5.8936492 | F15: =C15/C24*100 -> 6.5611779 | G15: =B15/P15*1000 -> 3823.1429 | H15: =C15/R15*1000 -> 4705.7143 | I15: =H15/G15*100 -> 123.08497 | J15: 1237.6 | K15: 1521.2 | L15: =K15/J15*100 -> 122.91532 | M15: =J15/B15*100 -> 92.489351 | N15: =K15/C15*100 -> 92.36187 | O15: =N15-M15 -> -0.1274805 | P15: 350 | R15: 350 | T15: =R15+S15 -> 350
A16: КФХ Потапов В.Н. | B16: 65.4 | C16: 66.6 | D16: =C16/B16*100 -> 101.83486 | E16: =B16/B24*100 -> 0.2880537 | F16: =C16/C24*100 -> 0.26531539 | G16: =B16/P16*1000 -> 5450 | H16: =C16/R16*1000 -> 5550 | I16: =H16/G16*100 -> 101.83486 | P16: 12 | Q16: 17 | R16: 12 | S16: 17 | T16: =R16+S16 -> 29
A17: КФХ Аксенкин А.Н. | B17: 23.8 | C17: 24 | D17: =C17/B17*100 -> 100.84034 | E17: =B17/B24*100 -> 0.10482688 | F17: =C17/C24*100 -> 0.09560915 | G17: =B17/P17*1000 -> 4760 | H17: =C17/R17*1000 -> 4800 | I17: =H17/G17*100 -> 100.84034 | P17: 5 | R17: 5 | T17: =R17+S17 -> 5
A18: КФХ Цыпцын А.В. | B18: 45 | C18: 5 | D18: =C18/B18*100 -> 11.111111 | E18: =B18/B24*100 -> 0.19820209 | F18: =C18/C24*100 -> 0.019918573 | G18: =B18/P18*1000 -> 2250 | H18: =C18/R18*1000 -> 250 | I18: =H18/G18*100 -> 11.111111 | P18: 20 | Q18: 8 | R18: 20 | S18: 8 | T18: =R18+S18 -> 28
A19: КФХ Мартынова Н.И | B19: 47.1 | C19: 52.5 | D19: 40.7 | E19: =B19/B24*100 -> 0.20745152 | F19: =C19/C24*100 -> 0.20914502 | G19: =B19/P19*1000 -> 4281.8182 | H19: =C19/R19*1000 -> 4772.7273 | I19: =H19/G19*100 -> 111.46497 | J19: 14.5 | L19: =K19/J19*100 -> 0 | M19: 0 | N19: =K19/C19*100 -> 0 | O19: =N19-M19 -> 0 | P19: 11 | R19: 11 | T19: =R19+S19 -> 11
A20: КФХ Маргарян А.П. | E20: =B20/B24*100 -> 0 | F20: =C20/C24*100 -> 0 | Q20: 20 | S20: 20 | T20: =R20+S20 -> 20
A21: КФХ Кибакова С.В. | B21: 25.5 | C21: 28.5 | D21: =C21/B21*100 -> 111.76471 | E21: =B21/B24*100 -> 0.11231452 | F21: =C21/C24*100 -> 0.11353587 | G21: =B21/P21*1000 -> 5100 | H21: =C21/R21*1000 -> 4750 | I21: =H21/G21*100 -> 93.137255 | P21: 5 | R21: 6 | T21: =R21+S21 -> 6
A22: КФХ Чечеткин А. | B22: 35.6 | C22: 41 | D22: =C22/B22*100 -> 115.16854 | E22: =B22/B24*100 -> 0.15679987 | F22: =C22/C24*100 -> 0.1633323 | G22: =B22/P22*1000 -> 3955.5556 | H22: =C22/R22*1000 -> 4555.5556 | I22: =H22/G22*100 -> 115.16854 | P22: 9 | R22: 9 | T22: =R22+S22 -> 9
A23: КФХ Чугунова В.В. | B23: 9.5 | C23: 21 | D23: =C23/B23*100 -> 221.05263 | E23: =B23/B24*100 -> 0.041842663 | F23: =C23/C24*100 -> 0.083658006 | G23: =B23/P23*1000 -> 4750 | H23: =C23/R23*1000 -> 5250 | I23: =H23/G23*100 -> 110.52632 | P23: 2 | R23: 4 | T23: =R23+S23 -> 4
A24: В С Е Г О | B24: =SUM(B5:B23) -> 22704.1 | C24: =SUM(C5:C23) -> 25102.2 | D24: =C24/B24*100 -> 110.56241 | E24: 100 | F24: 100 | G24: 4889 | H24: 5415 | I24: =H24/G24*100 -> 110.75885 | J24: =SUM(J5:J23) -> 21006.8 | K24: =SUM(K5:K23) -> 23245.3 | L24: =K24/J24*100 -> 110.65607 | M24: =J24/B24*100 -> 92.524258 | N24: =K24/C24*100 -> 92.60264 | O24: =N24-M24 -> 0.078382673 | P24: =SUM(P5:P23) -> 4656 | Q24: =SUM(Q5:Q23) -> 345 | R24: =SUM(R5:R23) -> 4553 | S24: =SUM(S5:S23) -> 345 | T24: =SUM(T5:T23) -> 4898

Sheet АПК 
A1: АНАЛИЗ ПО ЗАКУПКАМ В СЕЛЬХОЗПРЕДПРИЯТИЯХ ЗА СЕНТЯБРЬ 2018 года | Z1: Копируем с предыд месяца 2018 январь-июль
B2: ЗАКУП М О Л О К А с начала года ,тонн | H2: в том числе сентябрь | L2: ЗАКУП М Я С А с начала года ,тонн | R2: в том числе сентябрь | V2: прошлый год 2017 | Z2: молоко | AA2: 2018 | AB2: мясо | AC2: 2018
B3: Прогноз на 2018 год | C3: Прогноз с начала года | D3: Факт с начала года | E3: % выполнения | F3: % выполнения годового прогноза | G3: 2018 в % к 2017 | H3: Прогноз сентябрь | I3: Факт сентябрь | J3: % выполнения | K3: 2018 в % к 2017 | L3: Прогноз на 2018 год | M3: Прогноз с начала года | N3: Факт с начала года | O3: % выполнения | P3: % выполнения годового прогноза | Q3: 2018 в % к 2017 | R3: Прогноз сентябрь | S3: Факт сентябрь | T3: % выполнения | U3: 2018 в % к 2017 | V3: молоко | X3: мясо | Z3: Прогноз | AA3: Факт | AB3: Прогноз | AC3: Факт
V4: с нач.г. | W4: сентябрь | X4: с нач.г. | Y4: сентябрь | Z4: с н.г. | AA4: с н.г. | AB4: с н.г. | AC4: с н.г.
A5: ООО СП"Богдановское" | B5: 3928 | C5: =H5+Z5 -> 3069 | D5: =I5+AA5 -> 3341.7 | E5: =SUM(D5/C5)*100 -> 108.88563 | F5: =D5/B5*100 -> 85.073829 | G5: =D5/V5*100 -> 119.81714 | H5: 300 | I5: 318.1 | J5: =SUM(I5/H5)*100 -> 106.03333 | K5: =I5/W5*100 -> 11.251017 | L5: 10 | M5: =R5+AB5 -> 8 | N5: =AC5+S5 -> 2.2 | O5: =SUM(N5/M5)*100 -> 27.5 | P5: =N5/L5*100 -> 22 | Q5: =N5/X5*100 -> 2.8205128 | R5: 1 | V5: 2789 | W5: 2827.3 | X5: 78 | Y5: 1.8 | Z5: 2769 | AA5: 3023.6 | AB5: 7 | AC5: 2.2
A6: ООО "Союз-Агро"(Шигонь) | B6: 1100 | C6: =H6+Z6 -> 783 | D6: =I6+AA6 -> 755.5 | E6: =SUM(D6/C6)*100 -> 96.487867 | F6: =D6/B6*100 -> 68.681818 | G6: =D6/V6*100 -> 170.54176 | H6: 100 | J6: =SUM(I6/H6)*100 -> 0 | K6: =I6/W6*100 -> 0 | L6: 5 | M6: 3 | N6: =AC6+S6 -> 0 | O6: =SUM(N6/M6)*100 -> 0 | P6: =N6/L6*100 -> 0 | Q6: =N6/X6*100 -> 0 | R6: 0 | V6: 443 | W6: 622.7 | X6: 11 | Y6: 0.8 | Z6: 683 | AA6: 755.5 | AB6: 3 | AC6: 0
A7: ООО "Биосфера"(Н.Федоровка) | B7: 629 | C7: =H7+Z7 -> 474 | D7: =I7+AA7 -> 535.6 | E7: =SUM(D7/C7)*100 -> 112.99578 | F7: =D7/B7*100 -> 85.151033 | G7: =D7/V7*100 -> 157.06745 | H7: 55 | I7: 52.1 | J7: =SUM(I7/H7)*100 -> 94.727273 | K7: =I7/W7*100 -> 12.782139 | L7: 5 | M7: =R7+AB7 -> 3 | N7: =AC7+S7 -> 6.5 | O7: =SUM(N7/M7)*100 -> 216.66667 | P7: =N7/L7*100 -> 130 | Q7: =N7/X7*100 -> 27.083333 | V7: 341 | W7: 407.6 | X7: 24 | Y7: 5 | Z7: 419 | AA7: 483.5 | AB7: 3 | AC7: 6.5
A8: ООО"Конопатское" | B8: 3335 | C8: =H8+Z8 -> 2613 | D8: =I8+AA8 -> 2700 | E8: =SUM(D8/C8)*100 -> 103.32951 | F8: =D8/B8*100 -> 80.95952 | G8: =D8/V8*100 -> 116.02922 | H8: 250 | I8: 250.5 | J8: =SUM(I8/H8)*100 -> 100.2 | K8: =I8/W8*100 -> 10.348674 | L8: 45 | M8: =R8+AB8 -> 38 | N8: =AC8+S8 -> 29.7 | O8: =SUM(N8/M8)*100 -> 78.157895 | P8: =N8/L8*100 -> 66 | Q8: =N8/X8*100 -> 38.076923 | R8: 5 | S8: 0.7 | T8: =SUM(S8/R8)*100 -> 14 | U8: =S8/Y8*100 -> 4.9295775 | V8: 2327 | W8: 2420.6 | X8: 78 | Y8: 14.2 | Z8: 2363 | AA8: 2449.5 | AB8: 33 | AC8: 29
A9: ООО"Квартет"(Подверниха) | B9: 353 | C9: =H9+Z9 -> 286 | D9: =I9+AA9 -> 283.1 | E9: =SUM(D9/C9)*100 -> 98.986014 | F9: =D9/B9*100 -> 80.1983 | G9: =D9/V9*100 -> 91.028939 | H9: 25 | I9: 34.3 | J9: =SUM(I9/H9)*100 -> 137.2 | K9: =I9/W9*100 -> 9.7139621 | L9: 2 | M9: =R9+AB9 -> 2 | N9: =AC9+S9 -> 0.4 | O9: =SUM(N9/M9)*100 -> 20 | P9: =N9/L9*100 -> 20 | Q9: =N9/X9*100 -> 4.4444444 | V9: 311 | W9: 353.1 | X9: 9 | Y9: 0.8 | Z9: 261 | AA9: 248.8 | AB9: 2 | AC9: 0.4
A10: ООО АФ"Новотроицкая" | B10: 8511 | C10: =H10+Z10 -> 6421 | D10: =I10+AA10 -> 6435.5 | E10: =SUM(D10/C10)*100 -> 100.22582 | F10: =D10/B10*100 -> 75.613911 | G10: =D10/V10*100 -> 101.37839 | H10: 650 | I10: 664.4 | J10: =SUM(I10/H10)*100 -> 102.21538 | K10: =I10/W10*100 -> 10.43522 | L10: 175 | M10: =R10+AB10 -> 157 | N10: =AC10+S10 -> 166.8 | O10: =SUM(N10/M10)*100 -> 106.24204 | P10: =N10/L10*100 -> 95.314286 | Q10: =N10/X10*100 -> 94.772727 | R10: 15 | S10: 10.3 | T10: =SUM(S10/R10)*100 -> 68.666667 | U10: =S10/Y10*100 -> 8.5690516 | V10: 6348 | W10: 6366.9 | X10: 176 | Y10: 120.2 | Z10: 5771 | AA10: 5771.1 | AB10: 142 | AC10: 156.5
A11: От. Н-Акшино АФ Октябрьская | B11: 3947 | C11: =H11+Z11 -> 2979 | D11: =I11+AA11 -> 2599.1 | E11: =SUM(D11/C11)*100 -> 87.247398 | F11: =D11/B11*100 -> 65.850013 | G11: =D11/V11*100 -> 89.254808 | H11: 310 | I11: 235.1 | J11: =SUM(I11/H11)*100 -> 75.83871 | K11: =I11/W11*100 -> 7.8689293 | L11: 27 | M11: =R11+AB11 -> 25 | N11: =AC11+S11 -> 0 | O11: =SUM(N11/M11)*100 -> 0 | P11: =N11/L11*100 -> 0 | R11: 1 | V11: 2912 | W11: 2987.7 | X11: 64 | Y11: 0 | Z11: 2669 | AA11: 2364 | AB11: 24 | AC11: 0
A12: Отд АО ПФ Чамз/ООО Хор дело | B12: 7048 | C12: =H12+Z12 -> 5276 | D12: =I12+AA12 -> 5908.3 | E12: =SUM(D12/C12)*100 -> 111.98446 | F12: =D12/B12*100 -> 83.829455 | G12: =D12/V12*100 -> 181.12508 | H12: 630 | I12: 578.5 | J12: =SUM(I12/H12)*100 -> 91.825397 | K12: =I12/W12*100 -> 12.833596 | L12: 205 | M12: =R12+AB12 -> 196 | N12: =AC12+S12 -> 293.1 | O12: =SUM(N12/M12)*100 -> 149.54082 | P12: =N12/L12*100 -> 142.97561 | Q12: =N12/X12*100 -> 199.38776 | R12: 17 | S12: 17.4 | T12: =SUM(S12/R12)*100 -> 102.35294 | U12: =S12/Y12*100 -> 13.776722 | V12: 3262 | W12: 4507.7 | X12: 147 | Y12: 126.3 | Z12: 4646 | AA12: 5329.8 | AB12: 179 | AC12: 275.7
A13: ООО "Ирсетское" | C13: =H13+Z13 -> 0 | X13: 0 | Y13: 0 | Z13: 0
A14: К/х Пантюшина С.А. | B14: 2505 | C14: =H14+Z14 -> 1900 | D14: =I14+AA14 -> 1781.5 | E14: =SUM(D14/C14)*100 -> 93.763158 | F14: =D14/B14*100 -> 71.117764 | G14: =D14/V14*100 -> 101.27914 | H14: 200 | I14: 195.5 | J14: =SUM(I14/H14)*100 -> 97.75 | K14: =I14/W14*100 -> 10.473588 | L14: 5 | M14: =R14+AB14 -> 6 | N14: =AC14+S14 -> 1.2 | O14: =SUM(N14/M14)*100 -> 20 | P14: =N14/L14*100 -> 24 | Q14: =N14/X14*100 -> 3.4285714 | R14: 1 | V14: 1759 | W14: 1866.6 | X14: 35 | Y14: 1 | Z14: 1700 | AA14: 1586 | AB14: 5 | AC14: 1.2
A15: Подсобное хоз."Мельц" | B15: 2094 | C15: =H15+Z15 -> 1638 | D15: =I15+AA15 -> 1753.1 | E15: =SUM(D15/C15)*100 -> 107.02686 | F15: =D15/B15*100 -> 83.720153 | G15: =D15/V15*100 -> 117.10755 | H15: 160 | I15: 156.7 | J15: =SUM(I15/H15)*100 -> 97.9375 | K15: =I15/W15*100 -> 10.105114 | L15: 4 | M15: =R15+AB15 -> 2 | N15: =AC15+S15 -> 1.4 | O15: =SUM(N15/M15)*100 -> 70 | P15: =N15/L15*100 -> 35 | Q15: =N15/X15*100 -> 2.6923077 | R15: 1 | V15: 1497 | W15: 1550.7 | X15: 52 | Y15: 0.9 | Z15: 1478 | AA15: 1596.4 | AB15: 1 | AC15: 1.4
A16: ООО "Луч"(Лемдяй) | L16: 67 | M16: =R16+AB16 -> 52 | N16: =AC16+S16 -> 30.8 | O16: =SUM(N16/M16)*100 -> 59.230769 | P16: =N16/L16*100 -> 45.970149 | Q16: =N16/X16*100 -> 44.637681 | R16: 5 | T16: =SUM(S16/R16)*100 -> 0 | U16: =S16/Y16*100 -> 0 | X16: 69 | Y16: 67.8 | AB16: 47 | AC16: 30.8
A17: КФХ Потапов В.Н.(Конопать)
A18: КФХ Маргарян А.П.(Конопать)
A19: КФХ Мараченков (Шувары)
A20: КФХ Цыпцын А.В.(Ирсеть)
A21: КФХ Мартынова (Ст.Фед) | V21: 0 | W21: 14.5
A22: КФХ Лавров А.Ю. | D22: =I22+AA22 -> 2 | W22: 0.8 | AA22: 2
A23: В С Е Г О | B23: =SUM(B5:B21) -> 33450 | C23: =Z23+H23 -> 25439 | D23: =SUM(D5:D22) -> 26095.4 | E23: =SUM(D23/C23)*100 -> 102.58029 | F23: =D23/B23*100 -> 78.013154 | G23: =D23/V23*100 -> 118.67479 | H23: =SUM(H5:H21) -> 2680 | I23: =SUM(I5:I22) -> 2485.2 | J23: =SUM(I23/H23)*100 -> 92.731343 | K23: =I23/W23*100 -> 10.38694 | L23: =SUM(L5:L21) -> 550 | M23: =R23+AB23 -> 492 | N23: =SUM(N5:N21) -> 532.1 | O23: =SUM(N23/M23)*100 -> 108.15041 | P23: =N23/L23*100 -> 96.745455 | Q23: =N23/X23*100 -> 71.615074 | R23: =SUM(R5:R22) -> 46 | S23: =SUM(S5:S22) -> 28.4 | T23: =SUM(S23/R23)*100 -> 61.73913 | U23: =S23/Y23*100 -> 8.3825266 | V23: =SUM(V5:V22) -> 21989 | W23: =SUM(W5:W22) -> 23926.2 | X23: =SUM(X5:X22) -> 743 | Y23: =SUM(Y5:Y22) -> 338.8 | Z23: =SUM(Z5:Z22) -> 22759 | AA23: =SUM(AA5:AA22) -> 23610.2 | AB23: =SUM(AB5:AB22) -> 446 | AC23: =SUM(AC5:AC22) -> 503.7

Sheet Ввод жилья,з.пл
A1: Выполнение прогноза по вводу жилья, темп роста среднемесячной заработной платы
A2: Наименование сельского поселения | B2: Ввод жилья, кв.м. | G2: Темп роста номин.нач. среднемес. з/платы оперативная
B3: Прогноз на 2018 год | C3: Прогноз за 9 месяцев 2018 | D3: Факт за 9 месяцев 2018 | E3: % вып. квартального прогноза | F3: % вып. годового прогноза | G3: Прогноз за 9 месяцев 2018 год | H3: Факт 9 месяцев 2018 год | I3: % вып.
Q4: янв | R4: фев | S4: март | T4: апр | U4: май | V4: июнь | W4: июль- август | X4: сентябрь
A5: Богдановское | B5: 270 | C5: 210 | D5: 328.8 | E5: =D5/C5*100 -> 156.57143 | X5: 328.8
A6: Восходское
A7: Инг.Пятинское
A8: Конопатское | B8: 130 | C8: 130 | D8: 133 | E8: =D8/C8*100 -> 102.30769 | W8: 133
A9: Лемдяйское | B9: 60
A10: Леткинское
A11: Мельцанское | B11: 200 | C11: 80 | D11: 209.3 | E11: =D11/C11*100 -> 261.625 | F11: =D11/B11*100 -> 104.65 | U11: 209.3
A12: Новоакшинское | B12: 760 | C12: 620 | D12: 152.2 | E12: =D12/C12*100 -> 24.548387 | F12: =D12/B12*100 -> 20.026316 | G12: 108 | H12: 113 | I12: =H12/G12*100 -> 104.62963 | R12: 73.7 | W12: 78.5
A13: Н.Александровское
A14: Новотроицкое | B14: 550 | C14: 320 | D14: 676 | E14: =D14/C14*100 -> 211.25 | F14: =D14/B14*100 -> 122.90909 | G14: 109 | H14: 109 | I14: =H14/G14*100 -> 100 | W14: 194.3
A15: Н.Федоровское
A16: Рязановское
A17: Ст.Теризморгское | B17: 240 | C17: 120
A18: Ст.Федоровское | B18: 85 | C18: 85 | D18: 84.2 | E18: =D18/C18*100 -> 99.058824 | F18: =D18/B18*100 -> 99.058824 | W18: 84.2
A19: Ст.Шайговское | B19: 2905 | C19: 2035 | D19: 2113.2 | E19: =D19/C19*100 -> 103.84275 | F19: =D19/B19*100 -> 72.743546 | G19: 110 | H19: 108 | I19: =H19/G19*100 -> 98.181818 | Q19: 267.6 | R19: 77.9 | S19: 284.7 | U19: 107.4 | V19: 394.2 | W19: 788.8 | X19: 366.8
A20: Шигонское
A21: Шуварское
A22: Итого | B22: =SUM(B5:B21) -> 5200 | C22: =SUM(C5:C21) -> 3600 | D22: =SUM(D5:D21) -> 3696.7 | E22: =D22/C22*100 -> 102.68611 | F22: =D22/B22*100 -> 71.090385 | G22: 109 | H22: 109.1 | I22: =H22/G22*100 -> 100.09174 | Q22: =SUM(Q19:Q21) -> 267.6 | R22: =SUM(R12:R21) -> 151.6 | S22: 284.7 | U22: 316.7 | V22: 394.2 | W22: 1278.8 | X22: 695.6
Q23: 3 | R23: 2 | S23: 4 | U23: 3 | V23: 3 | W23: 13 | X23: 5
D24: 33 дома

Sheet Торговля 
A1: АНАЛИЗ ПО ТОВАРООБОРОТУ за СЕНТЯБРЬ 2018 года | N1: коп.предыдущий мес.
A2: Наименование предприятия | B2: Прогноз | C2: Прогноз с нач.года | D2: Факт 2017 с нач.года | E2: Факт 2018 с нач.года | F2: Темп роста 2018/2017 (%) | G2: % выполнения прогноза | H2: Уд.вес, % | I2: Прогноз сентябрь | J2: Факт сентябрь 2017 | K2: Факт сентябрь 2018 | L2: Темп роста 2018/2017 (%) | M2: % выполнения прогноза | N2: Прогноз | O2: Факт c н.г.
B3: на 2018 | N3: с н.г. | O3: всего | S3: сетевые | U3: ромашов
A4: Фармация | B4: 5219 | C4: =I4+N4 -> 3819 | D4: 3483 | E4: =K4+O4 -> 3874 | F4: =E4/D4*100 -> 111.22595 | G4: =(E4/C4)*100 -> 101.44017 | H4: =SUM(E4/E61)*100 -> 0.44580063 | I4: 469 | J4: 353 | K4: 404 | L4: =K4/J4*100 -> 114.44759 | M4: =K4/I4*100 -> 86.140725 | N4: 3350 | O4: 3470 | S4: =E4+E7+E12+E13+E14+E22+E23+E29 -> 188660.4 | U4: =D20+D67+D68+D69+D70+D71+D72 -> 58701 | V4: =E20+E67+E68+E69+E70+E71+E72 -> 56195 | W4: =V4/U4*100 -> 95.730907
A5: ООО Юпитер | B5: 3200 | D5: 0 | E5: =K5+O5 -> 0 | I5: 0 | K5: 0 | O5: 0
A6: Сельхозпредприятия | B6: 13744 | C6: =I6+N6 -> 10365 | D6: 9517.7 | E6: =K6+O6 -> 5283.8 | F6: =E6/D6*100 -> 55.515513 | G6: =(E6/C6)*100 -> 50.977328 | H6: =SUM(E6/E61)*100 -> 0.60803339 | I6: 1314 | J6: 2021.9 | K6: 413 | L6: =K6/J6*100 -> 20.426332 | M6: =K6/I6*100 -> 31.430746 | N6: 9051 | O6: 4870.8
A7: РУПС почта | B7: 7448 | C7: =I7+N7 -> 5521 | D7: 5689.5 | E7: =K7+O7 -> 5659.66 | F7: =E7/D7*100 -> 99.475525 | G7: =(E7/C7)*100 -> 102.5115 | H7: =SUM(E7/E61)*100 -> 0.65128549 | I7: 693 | J7: 629.2 | K7: 603.7 | L7: =K7/J7*100 -> 95.947235 | M7: =K7/I7*100 -> 87.113997 | N7: 4828 | O7: 5055.96
A8: М-н "Нива-29" Мельцаны | B8: 0 | C8: =I8+N8 -> 0 | D8: 2863 | E8: =K8+O8 -> 0 | F8: =E8/D8*100 -> 0 | H8: =SUM(E8/E61)*100 -> 0 | I8: 0 | J8: 0 | K8: 0 | L8: =K8/J8*100 -> #DIV/0! | N8: 0 | O8: 0
A9: М-н "Нива-39" Н-Федоровка | B9: 0 | C9: =I9+N9 -> 0 | D9: 445 | E9: =K9+O9 -> 0 | F9: =E9/D9*100 -> 0 | H9: =SUM(E9/E61)*100 -> 0 | I9: 0 | J9: 0 | K9: 0 | N9: 0 | O9: 0
A10: Бар ТД"Нива" | B10: 0 | C10: =I10+N10 -> 0 | D10: 82 | E10: =K10+O10 -> 0 | F10: =E10/D10*100 -> 0 | H10: =SUM(E10/E61)*100 -> 0 | I10: 0 | J10: 0 | K10: 0 | L10: =K10/J10*100 -> #DIV/0! | N10: 0 | O10: 0
A11: Кафе "Нива" | B11: 0 | C11: =I11+N11 -> 0 | D11: 1674 | E11: =K11+O11 -> 1179 | F11: =E11/D11*100 -> 70.430108 | H11: =SUM(E11/E61)*100 -> 0.13567345 | I11: 0 | J11: 168 | K11: 173 | L11: =K11/J11*100 -> 102.97619 | N11: 0 | O11: 1006
A12: ООО "Лукойл-Волганефтепродукт" | B12: 87656 | C12: =I12+N12 -> 61502 | D12: 82323.2 | E12: =K12+O12 -> 63822.738 | F12: =E12/D12*100 -> 77.527037 | G12: =(E12/C12)*100 -> 103.77344 | H12: =SUM(E12/E61)*100 -> 7.3444029 | I12: 7890 | J12: 6949.1 | K12: 7860 | M12: =K12/I12*100 -> 99.619772 | N12: 53612 | O12: 55962.738 | P12: Ст.Шайгово (прочие)
A13: М-н"Птица-28"(Ст.Шайгово) | B13: 19204 | C13: =I13+N13 -> 13394 | D13: 12330 | E13: =K13+O13 -> 12697 | F13: =E13/D13*100 -> 102.97648 | G13: =(E13/C13)*100 -> 94.796177 | H13: =SUM(E13/E61)*100 -> 1.4611075 | I13: 1750 | J13: 1700 | K13: 1817 | L13: =K13/J13*100 -> 106.88235 | M13: =K13/I13*100 -> 103.82857 | N13: 11644 | O13: 10880 | P13: =K4+K10 -> 404
A14: М-н "Птица" (Н.Акшино) | B14: 16470 | C14: =I14+N14 -> 12710 | D14: 10504 | E14: =K14+O14 -> 10907 | F14: =E14/D14*100 -> 103.83663 | G14: =(E14/C14)*100 -> 85.814319 | H14: =SUM(E14/E61)*100 -> 1.2551232 | I14: 1380 | J14: 1185 | K14: 1222 | L14: =K14/J14*100 -> 103.12236 | M14: =K14/I14*100 -> 88.550725 | N14: 11330 | O14: 9685
A15: ООО "Валда"-Продукты | B15: 15030 | C15: =I15+N15 -> 10980 | D15: 10938.7 | E15: =K15+O15 -> 11144.4 | F15: =E15/D15*100 -> 101.88048 | G15: =(E15/C15)*100 -> 101.49727 | H15: =SUM(E15/E61)*100 -> 1.2824421 | I15: 1450 | J15: 1282.4 | K15: 1485.4 | L15: =K15/J15*100 -> 115.82969 | M15: =K15/I15*100 -> 102.44138 | N15: 9530 | O15: 9659
A16: ООО "Валда"-м-н "Оксана" | B16: 9827 | C16: =I16+N16 -> 7247 | D16: 6761 | E16: =K16+O16 -> 6177.5 | F16: =E16/D16*100 -> 91.36962 | G16: =(E16/C16)*100 -> 85.242169 | H16: =SUM(E16/E61)*100 -> 0.71087594 | I16: 880 | J16: 737.1 | K16: 658.3 | L16: =K16/J16*100 -> 89.309456 | M16: =K16/I16*100 -> 74.806818 | N16: 6367 | O16: 5519.2
A17: ООО "Валда"-Хозтовары | B17: 2510 | C17: =I17+N17 -> 1910 | D17: 1403.5 | E17: =K17+O17 -> 2502.9 | F17: =E17/D17*100 -> 178.33274 | G17: =(E17/C17)*100 -> 131.04188 | H17: =SUM(E17/E61)*100 -> 0.28802127 | I17: 280 | J17: 214.7 | K17: 299.2 | L17: =K17/J17*100 -> 139.35724 | M17: =K17/I17*100 -> 106.85714 | N17: 1630 | O17: 2203.7
A18: ООО "Шишканов В.Н." | B18: 20300 | C18: =I18+N18 -> 14750 | D18: 10801 | E18: =K18+O18 -> 12915 | F18: =E18/D18*100 -> 119.57226 | G18: =(E18/C18)*100 -> 87.559322 | H18: =SUM(E18/E61)*100 -> 1.4861939 | I18: 1880 | J18: 1430 | K18: 1250 | L18: =K18/J18*100 -> 87.412587 | M18: =K18/I18*100 -> 66.489362 | N18: 12870 | O18: 11665
A19: ООО Шишканов В.Н."Интек- маркет" | B19: 5820 | D19: 400 | E19: =K19+O19 -> 2500 | F19: =E19/D19*100 -> 625 | I19: 440 | J19: 400 | K19: 250 | M19: =K19/I19*100 -> 56.818182 | O19: 2250
A20: ООО "Ромашов А.Н." | B20: 13370 | C20: =I20+N20 -> 9800 | D20: 8840 | E20: =K20+O20 -> 8640 | F20: =E20/D20*100 -> 97.737557 | G20: =(E20/C20)*100 -> 88.163265 | H20: =SUM(E20/E61)*100 -> 0.99424817 | I20: 1280 | J20: 1210 | K20: 1030 | L20: =K20/J20*100 -> 85.123967 | M20: =K20/I20*100 -> 80.46875 | N20: 8520 | O20: 7610
A21: ООО"Агрохимремонт" Продукты | B21: 923 | C21: =I21+N21 -> 685 | D21: 913 | E21: =K21+O21 -> 628 | F21: =E21/D21*100 -> 68.784228 | G21: =(E21/C21)*100 -> 91.678832 | H21: =SUM(E21/E61)*100 -> 0.072267113 | I21: 75 | J21: 63 | K21: 0 | L21: =K21/J21*100 -> 0 | M21: =K21/I21*100 -> 0 | N21: 610 | O21: 628 | P21: шайгово
A22: ЗАО"ТАНДЕР"м-н "Магнит" | B22: 74562 | C22: =I22+N22 -> 51953 | D22: 53967 | E22: =K22+O22 -> 52446 | F22: =E22/D22*100 -> 97.181611 | G22: =(E22/C22)*100 -> 100.94893 | H22: =SUM(E22/E61)*100 -> 6.0352245 | I22: 6800 | J22: 5450 | K22: 4774 | L22: =K22/J22*100 -> 87.59633 | M22: =K22/I22*100 -> 70.205882 | N22: 45153 | O22: 47672 | P22: =K15+K16+K17+K18+K20+K21+K22+K23+K24+K25+K26+K27+K28+K29+K52+K13+K12+K19+K5+K55 -> 30141.3
A23: ООО "Агроторг"-"Пятерочка" | B23: 46745 | C23: =I23+N23 -> 34590 | D23: 30355 | E23: =K23+O23 -> 28536 | F23: =E23/D23*100 -> 94.007577 | G23: =(E23/C23)*100 -> 82.497832 | H23: =SUM(E23/E61)*100 -> 3.2837808 | I23: 3800 | J23: 3005 | K23: 2531 | L23: =K23/J23*100 -> 84.22629 | M23: =K23/I23*100 -> 66.605263 | N23: 30790 | O23: 26005
A24: ООО "Вымпел" с.Ст.Шайгово | B24: 1968 | C24: =I24+N24 -> 1443 | D24: 1285.9 | E24: =K24+O24 -> 1158.2 | F24: =E24/D24*100 -> 90.069212 | G24: =(E24/C24)*100 -> 80.26334 | H24: =SUM(E24/E61)*100 -> 0.13327989 | I24: 175 | J24: 164 | K24: 133.6 | L24: =K24/J24*100 -> 81.463415 | M24: =K24/I24*100 -> 76.342857 | N24: 1268 | O24: 1024.6
A25: ООО"Сельские магазины" Ст.Шайгово | B25: 2458 | C25: =I25+N25 -> 1758 | D25: 1154 | E25: =K25+O25 -> 4100 | F25: =E25/D25*100 -> 355.28596 | G25: =(E25/C25)*100 -> 233.21957 | H25: =SUM(E25/E61)*100 -> 0.47180758 | I25: 190 | J25: 220 | K25: 500 | L25: =K25/J25*100 -> 227.27273 | M25: =K25/I25*100 -> 263.15789 | N25: 1568 | O25: 3600
A26: ООО "Креатор"(Мегафон) | B26: 11395 | C26: =I26+N26 -> 6210 | D26: 6057.4 | E26: =K26+O26 -> 7803.9 | F26: =E26/D26*100 -> 128.8325 | G26: =(E26/C26)*100 -> 125.66667 | H26: =SUM(E26/E61)*100 -> 0.89803395 | I26: 1250 | J26: 1689 | K26: 1815 | L26: =K26/J26*100 -> 107.46004 | M26: =K26/I26*100 -> 145.2 | N26: 4960 | O26: 5988.9
A27: ООО ТЦ "Рубин" | B27: 17370 | C27: =I27+N27 -> 9680 | D27: 10083 | E27: =K27+O27 -> 14519 | F27: =E27/D27*100 -> 143.99484 | G27: =(E27/C27)*100 -> 149.98967 | H27: =SUM(E27/E61)*100 -> 1.6707742 | I27: 1550 | J27: 1605 | K27: 1660 | L27: =K27/J27*100 -> 103.42679 | M27: =K27/I27*100 -> 107.09677 | N27: 8130 | O27: 12859
A28: ООО "Сартория" Ст.шайгово Лобачев | B28: 910 | C28: =I28+N28 -> 705 | D28: 866 | E28: =K28+O28 -> 631 | F28: =E28/D28*100 -> 72.863741 | G28: =(E28/C28)*100 -> 89.503546 | H28: =SUM(E28/E61)*100 -> 0.072612338 | I28: 80 | J28: 168 | K28: 0 | L28: =K28/J28*100 -> 0 | M28: =K28/I28*100 -> 0 | N28: 625 | O28: 631
A29: ООО МПК "Норовский" | B29: 14810 | C29: =I29+N29 -> 9220 | D29: 8334 | E29: =K29+O29 -> 10718 | F29: =E29/D29*100 -> 128.60571 | G29: =(E29/C29)*100 -> 116.24729 | H29: =SUM(E29/E61)*100 -> 1.2333741 | I29: 1150 | J29: 1200 | K29: 1791 | L29: =K29/J29*100 -> 149.25 | M29: =K29/I29*100 -> 155.73913 | N29: 8070 | O29: 8927
A30: ООО Калявин Н.П. | B30: 3280 | C30: =I30+N30 -> 2450 | D30: 2062 | E30: =K30+O30 -> 2345 | F30: =E30/D30*100 -> 113.72454 | G30: =(E30/C30)*100 -> 95.714286 | H30: =SUM(E30/E61)*100 -> 0.26985092 | I30: 290 | J30: 254 | K30: 280 | L30: =K30/J30*100 -> 110.23622 | M30: =K30/I30*100 -> 96.551724 | N30: 2160 | O30: 2065
A31: ООО "Сельские магазины"(Богд) | B31: 940 | C31: =I31+N31 -> 685 | D31: 540 | E31: =K31+O31 -> 8900 | F31: =E31/D31*100 -> 1648.1481 | G31: =(E31/C31)*100 -> 1299.2701 | H31: =SUM(E31/E61)*100 -> 1.0241677 | I31: 80 | J31: 60 | K31: 1500 | L31: =K31/J31*100 -> 2500 | M31: =K31/I31*100 -> 1875 | N31: 605 | O31: 7400
A32: ООО "Сельские магазины"(Летки) | B32: 926 | C32: =I32+N32 -> 697 | D32: 779.1 | E32: =K32+O32 -> 5552.6 | F32: =E32/D32*100 -> 712.69413 | G32: =(E32/C32)*100 -> 796.64275 | H32: =SUM(E32/E61)*100 -> 0.63896556 | I32: 88 | J32: 100.7 | K32: 900 | L32: =K32/J32*100 -> 893.74379 | M32: =K32/I32*100 -> 1022.7273 | N32: 609 | O32: 4652.6
A33: ООО "Транспотоксервис" (Летки) | B33: 0 | C33: =I33+N33 -> 0 | D33: 433.8 | E33: =K33+O33 -> 0 | F33: =E33/D33*100 -> 0 | H33: =SUM(E33/E61)*100 -> 0 | I33: 0 | J33: 0 | K33: 0 | L33: =K33/J33*100 -> #DIV/0! | M33: =K33/I33*100 -> #DIV/0! | N33: 0 | O33: 0
A34: ООО "Ермаков А.В." (Восход) | B34: 4451 | C34: =I34+N34 -> 3434 | D34: 2970 | E34: =K34+O34 -> 3255 | F34: =E34/D34*100 -> 109.59596 | G34: =(E34/C34)*100 -> 94.78742 | H34: =SUM(E34/E61)*100 -> 0.37456919 | I34: 374 | J34: 340 | K34: 375 | L34: =K34/J34*100 -> 110.29412 | M34: =K34/I34*100 -> 100.26738 | N34: 3060 | O34: 2880
A35: ООО "Ермаков А.В."(Рязановка) | B35: 4106 | C35: =I35+N35 -> 2996 | D35: 2800 | E35: =K35+O35 -> 2875 | F35: =E35/D35*100 -> 102.67857 | G35: =(E35/C35)*100 -> 95.961282 | H35: =SUM(E35/E61)*100 -> 0.33084068 | I35: 325 | J35: 310 | K35: 325 | L35: =K35/J35*100 -> 104.83871 | M35: =K35/I35*100 -> 100 | N35: 2671 | O35: 2550
A36: ООО "Ермаков А.В." (Ст.Теризморга) | B36: 14445 | C36: =I36+N36 -> 10748 | D36: 9850 | E36: =K36+O36 -> 10786 | F36: =E36/D36*100 -> 109.50254 | G36: =(E36/C36)*100 -> 100.35355 | H36: =SUM(E36/E61)*100 -> 1.2411992 | I36: 1305 | J36: 1220 | K36: 1327 | L36: =K36/J36*100 -> 108.77049 | M36: =K36/I36*100 -> 101.68582 | N36: 9443 | O36: 9459
A37: ООО "Ермаков А.В." (Шувары) | E37: =K37+O37 -> 600 | J37: 0 | K37: 210 | O37: 390
A38: ООО ТД"Новотроицкий" | B38: 30195 | C38: =I38+N38 -> 23145 | D38: 21300 | E38: =K38+O38 -> 25862.1 | F38: =E38/D38*100 -> 121.41831 | G38: =(E38/C38)*100 -> 111.73947 | H38: =SUM(E38/E61)*100 -> 2.9760817 | I38: 2800 | J38: 3150 | K38: 3110 | L38: =K38/J38*100 -> 98.730159 | M38: =K38/I38*100 -> 111.07143 | N38: 20345 | O38: 22752.1 | P38: ООО Новотроицк
A39: ООО "Время" (колб.цех) | B39: 58803 | C39: =I39+N39 -> 44610 | D39: 40727 | E39: =K39+O39 -> 41839 | F39: =E39/D39*100 -> 102.73038 | G39: =(E39/C39)*100 -> 93.788388 | H39: =SUM(E39/E61)*100 -> 4.8146238 | I39: 5421 | J39: 5100 | K39: 4742 | L39: =K39/J39*100 -> 92.980392 | M39: =K39/I39*100 -> 87.474636 | N39: 39189 | O39: 37097 | P39: =K38+K39+K40 -> 9852
A40: ООО "Колобок"(пекарня) | B40: 31100 | C40: =I40+N40 -> 24240 | D40: 17450 | E40: =K40+O40 -> 17900 | F40: =E40/D40*100 -> 102.5788 | G40: =(E40/C40)*100 -> 73.844884 | H40: =SUM(E40/E61)*100 -> 2.0598429 | I40: 2960 | J40: 2000 | K40: 2000 | L40: =K40/J40*100 -> 100 | M40: =K40/I40*100 -> 67.567568 | N40: 21280 | O40: 15900
A41: ООО "Вымпел" ( Мельцаны) | B41: 2728 | C41: =I41+N41 -> 2093 | D41: 1445.3 | E41: =K41+O41 -> 2546 | F41: =E41/D41*100 -> 176.1572 | G41: =(E41/C41)*100 -> 121.64357 | H41: =SUM(E41/E61)*100 -> 0.292981 | I41: 210 | J41: 236 | K41: 416 | L41: =K41/J41*100 -> 176.27119 | M41: =K41/I41*100 -> 198.09524 | N41: 1883 | O41: 2130
A42: ООО "Велев" (Мельцаны) | B42: 3763 | C42: =I42+N42 -> 2938 | D42: 2212 | E42: =K42+O42 -> 2126 | F42: =E42/D42*100 -> 96.112116 | G42: =(E42/C42)*100 -> 72.362151 | H42: =SUM(E42/E61)*100 -> 0.24464949 | I42: 295 | J42: 247 | K42: 267 | L42: =K42/J42*100 -> 108.09717 | M42: =K42/I42*100 -> 90.508475 | N42: 2643 | O42: 1859
A43: ООО "Сартория" ( Конопать) | B43: 853 | C43: =I43+N43 -> 628 | D43: 615 | E43: =K43+O43 -> 172 | F43: =E43/D43*100 -> 27.96748 | G43: =(E43/C43)*100 -> 27.388535 | H43: =SUM(E43/E61)*100 -> 0.019792903 | I43: 73 | J43: 75 | K43: 0 | L43: =K43/J43*100 -> 0 | M43: =K43/I43*100 -> 0 | N43: 555 | O43: 172
A44: ООО "Сартория" (Шувары) | B44: 770 | C44: =I44+N44 -> 603 | D44: 736 | E44: =K44+O44 -> 58 | F44: =E44/D44*100 -> 7.8804348 | G44: =(E44/C44)*100 -> 9.6185738 | H44: =SUM(E44/E61)*100 -> 0.0066743512 | I44: 65 | J44: 54 | K44: 0 | L44: =K44/J44*100 -> 0 | M44: =K44/I44*100 -> 0 | N44: 538 | O44: 58
A45: ООО "Морд. Водка-М" (Одуев Н.Акш) | B45: 1050 | C45: =I45+N45 -> 800 | D45: 683 | E45: =K45+O45 -> 810 | F45: =E45/D45*100 -> 118.59444 | G45: =(E45/C45)*100 -> 101.25 | H45: =SUM(E45/E61)*100 -> 0.093210766 | I45: 85 | J45: 80 | K45: 90 | L45: =K45/J45*100 -> 112.5 | M45: =K45/I45*100 -> 105.88235 | N45: 715 | O45: 720
A46: ООО "Сартория" (Лемяскин Рудня) | B46: 0 | C46: =I46+N46 -> 0 | D46: 46 | E46: =K46+O46 -> 0 | F46: =E46/D46*100 -> 0 | G46: =(E46/C46)*100 -> #DIV/0! | H46: =SUM(E46/E61)*100 -> 0 | I46: 0 | J46: 0 | K46: 0 | M46: =K46/I46*100 -> #DIV/0! | N46: 0 | O46: 0
A47: ООО "Сартория" (Ешенков-Н.Фед) | B47: 2655 | C47: =I47+N47 -> 2005 | D47: 1748 | E47: =K47+O47 -> 701 | F47: =E47/D47*100 -> 40.102975 | G47: =(E47/C47)*100 -> 34.962594 | H47: =SUM(E47/E61)*100 -> 0.080667589 | I47: 230 | J47: 260 | K47: 0 | L47: =K47/J47*100 -> 0 | M47: =K47/I47*100 -> 0 | N47: 1775 | O47: 701
A48: ООО "РОРТ-С" (Чечевичкин Инг.Пятино) | B48: 643 | C48: =I48+N48 -> 495 | D48: 526 | E48: =K48+O48 -> 420 | F48: =E48/D48*100 -> 79.847909 | G48: =(E48/C48)*100 -> 84.848485 | H48: =SUM(E48/E61)*100 -> 0.048331508 | I48: 52 | J48: 66 | K48: 0 | L48: =K48/J48*100 -> 0 | M48: =K48/I48*100 -> 0 | N48: 443 | O48: 420
A49: ООО "Сартория" (Шигонь) | B49: 848 | C49: =I49+N49 -> 608 | D49: 787 | E49: =K49+O49 -> 440 | F49: =E49/D49*100 -> 55.908513 | G49: =(E49/C49)*100 -> 72.368421 | H49: =SUM(E49/E61)*100 -> 0.050633009 | I49: 75 | J49: 101 | K49: 0 | L49: =K49/J49*100 -> 0 | M49: =K49/I49*100 -> 0 | N49: 533 | O49: 440
A50: ООО РОРТ-М (Лемдяй) | B50: 1050 | C50: =I50+N50 -> 795 | D50: 1148 | E50: =K50+O50 -> 433 | F50: =E50/D50*100 -> 37.71777 | H50: =SUM(E50/E61)*100 -> 0.049827484 | I50: 85 | J50: 125 | K50: 0 | L50: =K50/J50*100 -> 0 | M50: =K50/I50*100 -> 0 | N50: 710 | O50: 433
A51: ООО Мордовская водка-М(Вавилина) | B51: 1263 | C51: =I51+N51 -> 953 | D51: 798 | E51: =K51+O51 -> 820 | F51: =E51/D51*100 -> 102.75689 | I51: 100 | J51: 100 | K51: 90 | L51: =K51/J51*100 -> 90 | M51: =K51/I51*100 -> 90 | N51: 853 | O51: 730
A52: ООО Мечта-С (Чамзинский) | B52: 3885 | C52: =I52+N52 -> 2640 | D52: 3239.4 | E52: =K52+O52 -> 6822 | F52: =E52/D52*100 -> 210.59455 | I52: 520 | J52: 500 | K52: 820 | L52: =K52/J52*100 -> 164 | M52: =K52/I52*100 -> 157.69231 | N52: 2120 | O52: 6002
A53: ООО Традиция (Кр.Рудня- Лемяс) | D53: 0 | E53: =K53+O53 -> 202.5 | F53: =E53/D53*100 -> #DIV/0! | K53: 39 | O53: 163.5
A54: ООО Традиция Шувары) | E54: =K54+O54 -> 66 | K54: 0 | O54: 66
A55: ООО Альбион-2002 (бристоль) | E55: =K55+O55 -> 8110.9 | K55: 1466.8 | O55: 6644.1
A56: ООО Время Новотр прод Мельц | E56: =K56+O56 -> 1358 | K56: 235 | O56: 1123 | P56: =K56+K42+K41 -> 918 | Q56: ООО Мельцаны
A57: общепит учр.образования | C57: =I57+N57 -> 0 | D57: 2047 | E57: =K57+O57 -> 1248.9 | F57: =E57/D57*100 -> 61.011236 | H57: =SUM(E57/E61)*100 -> 0.14371719 | J57: 164.9 | K57: 91.1 | L57: =K57/J57*100 -> 55.245603 | N57: 0 | O57: 1157.8
A58: Итого | B58: =SUM(B4:B57) -> 558693 | C58: =I58+N58 -> 403255 | D58: =SUM(D4:D57) -> 396013.5 | E58: =K58+O58 -> 414092.1 | F58: =E58/D58*100 -> 104.56515 | G58: =E58/C58*100 -> 102.68741 | H58: =E58/E61*100 -> 47.651656 | I58: =SUM(I4:I57) -> 50209 | J58: =SUM(J4:J57) -> 46388 | K58: =SUM(K4:K57) -> 48954.1 | L58: =K58/J58*100 -> 105.53182 | M58: =K58/I58*100 -> 97.500647 | N58: 353046 | O58: 365138
A59: Ярмарка | B59: 180100 | C59: =I59+N59 -> 130600 | D59: 92600 | E59: =K59+O59 -> 130600 | F59: =E59/D59*100 -> 141.03672 | G59: =E59/C59*100 -> 100 | H59: =E59/E61*100 -> 15.028798 | I59: 14600 | J59: 12000 | K59: 15600 | L59: =K59/J59*100 -> 130 | M59: =K59/I59*100 -> 106.84932 | N59: 116000 | O59: 115000
A60: Част.предпр. | B60: =B140 -> 461985 | C60: =I60+N60 -> 319315 | D60: =D140 -> 316033.61 | E60: =K60+O60 -> 324306.23 | F60: =E60/D60*100 -> 102.61764 | G60: =E60/C60*100 -> 101.56311 | H60: =E60/E61*100 -> 37.319546 | I60: =I140 -> 43385 | J60: =J140 -> 43447.91 | K60: =K140 -> 43920 | L60: =K60/J60*100 -> 101.08657 | M60: =K60/I60*100 -> 101.23315 | N60: 275930 | O60: 280386.23
A61: ВСЕГО | B61: =B58+B59+B60 -> 1200778 | C61: =I61+N61 -> 853170 | D61: =D58+D59+D60 -> 804647.11 | E61: =K61+O61 -> 868998.33 | F61: =E61/D61*100 -> 107.99745 | G61: =E61/C61*100 -> 101.85524 | H61: 100 | I61: =SUM(I58:I60) -> 108194 | J61: =J58+J59+J60 -> 101835.91 | K61: =K58+K59+K60 -> 108474.1 | L61: =K61/J61*100 -> 106.51852 | M61: =K61/I61*100 -> 100.25889 | N61: 744976 | O61: 760524.23 | P61: =O58+O59+O60 -> 760524.23
A62: в том числе магазины индивидуальных предпринимателей
A63: ИП Панин В.С. "Березка" (СХТ) | B63: 5410 | C63: =I63+N63 -> 3430 | D63: 4091.7 | E63: =K63+O63 -> 3537.3 | F63: =E63/D63*100 -> 86.45062 | G63: =(E63/C63)*100 -> 103.12828 | H63: =(E63/E140)*100 -> 1.0907284 | I63: 430 | J63: 375 | K63: 416 | L63: =K63/J63*100 -> 110.93333 | M63: =K63/I63*100 -> 96.744186 | N63: 3000 | O63: 3121.3
A64: ИП Панин В.С. (АЗС) | B64: 1885 | C64: =I64+N64 -> 1255 | D64: 1648.3 | E64: =K64+O64 -> 1614.2 | F64: =E64/D64*100 -> 97.931202 | G64: =(E64/C64)*100 -> 128.62151 | H64: =(E64/E140)*100 -> 0.49773944 | I64: 185 | J64: 92 | K64: 242.2 | L64: =K64/J64*100 -> 263.26087 | M64: =K64/I64*100 -> 130.91892 | N64: 1070 | O64: 1372
A65: ИП Хващевская А.Г."Меркурий" | B65: 12560 | C65: =I65+N65 -> 5350 | D65: 6219.3 | E65: =K65+O65 -> 9180 | F65: =E65/D65*100 -> 147.60504 | G65: =(E65/C65)*100 -> 171.58879 | H65: =(E65/E140)*100 -> 2.8306579 | I65: 1220 | J65: 1650 | K65: 1807 | L65: =K65/J65*100 -> 109.51515 | M65: =K65/I65*100 -> 148.11475 | N65: 4130 | O65: 7373
A66: ИП Хващевская А.Г.(Зап.части) | B66: 7790 | C66: =I66+N66 -> 3690 | D66: 3273 | E66: =K66+O66 -> 3791 | F66: =E66/D66*100 -> 115.82646 | G66: =(E66/C66)*100 -> 102.73713 | H66: =(E66/E140)*100 -> 1.1689569 | I66: 830 | J66: 850 | K66: 875 | L66: =K66/J66*100 -> 102.94118 | M66: =K66/I66*100 -> 105.42169 | N66: 2860 | O66: 2916
A67: ИП Ромашов А.Н. "Пятачок" | B67: 12014 | C67: =I67+N67 -> 7354 | D67: 7580 | E67: =K67+O67 -> 6970 | F67: =E67/D67*100 -> 91.952507 | G67: =(E67/C67)*100 -> 94.778352 | H67: =(E67/E140)*100 -> 2.1492032 | I67: 1024 | J67: 900 | K67: 850 | L67: =K67/J67*100 -> 94.444444 | M67: =K67/I67*100 -> 83.007812 | N67: 6330 | O67: 6120
A68: ИП Ромашов А.Н. "Семерочка" | B68: 12430 | C68: =I68+N68 -> 7470 | D68: 8000 | E68: =K68+O68 -> 7590 | F68: =E68/D68*100 -> 94.875 | G68: =(E68/C68)*100 -> 101.60643 | H68: =(E68/E140)*100 -> 2.3403806 | I68: 1110 | J68: 910 | K68: 950 | L68: =K68/J68*100 -> 104.3956 | M68: =K68/I68*100 -> 85.585586 | N68: 6360 | O68: 6640
A69: ИП Ромашов А.Н. "Хозтовары" | B69: 14010 | C69: =I69+N69 -> 8810 | D69: 10410 | E69: =K69+O69 -> 9950 | F69: =E69/D69*100 -> 95.581172 | G69: =(E69/C69)*100 -> 112.93984 | H69: =(E69/E140)*100 -> 3.0680878 | I69: 1100 | J69: 1200 | K69: 1200 | L69: =K69/J69*100 -> 100 | M69: =K69/I69*100 -> 109.09091 | N69: 7710 | O69: 8750
A70: ИП Ромашов А.Н. "Стройматериалы" | B70: 22120 | C70: =I70+N70 -> 12920 | D70: 16950 | E70: =K70+O70 -> 13710 | F70: =E70/D70*100 -> 80.884956 | G70: =(E70/C70)*100 -> 106.11455 | H70: =(E70/E140)*100 -> 4.2274859 | I70: 2770 | J70: 2500 | K70: 2600 | L70: =K70/J70*100 -> 104 | M70: =K70/I70*100 -> 93.862816 | N70: 10150 | O70: 11110
A71: ИП Ромашов А.Н. "Минимаркет на Юбилейной" | B71: 5365 | C71: =I71+N71 -> 3345 | D71: 4260 | E71: =K71+O71 -> 3960 | F71: =E71/D71*100 -> 92.957746 | G71: =(E71/C71)*100 -> 118.38565 | H71: =(E71/E140)*100 -> 1.2210681 | I71: 420 | J71: 510 | K71: 430 | L71: =K71/J71*100 -> 84.313725 | M71: =K71/I71*100 -> 102.38095 | N71: 2925 | O71: 3530
A72: ИП Ромашов А.Н. Пиво "Афанасий" | B72: 5810 | C72: =I72+N72 -> 3480 | D72: 2661 | E72: =K72+O72 -> 5375 | F72: =E72/D72*100 -> 201.99173 | G72: =(E72/C72)*100 -> 154.45402 | H72: =(E72/E140)*100 -> 1.6573841 | I72: 550 | J72: 550 | K72: 700 | L72: =K72/J72*100 -> 127.27273 | M72: =K72/I72*100 -> 127.27273 | N72: 2930 | O72: 4675
A73: ИП Ермачков С.В. "Природа"(Шайг) | B73: 5076 | C73: =I73+N73 -> 2520 | D73: 2345 | E73: =K73+O73 -> 5750 | F73: =E73/D73*100 -> 245.20256 | G73: =(E73/C73)*100 -> 228.1746 | H73: =(E73/E140)*100 -> 1.7730156 | I73: 780 | J73: 580 | K73: 750 | L73: =K73/J73*100 -> 129.31034 | M73: =K73/I73*100 -> 96.153846 | N73: 1740 | O73: 5000
A74: ИП Пантюшин С.С. - АЗС Ст.Шайгово | B74: 28575 | C74: =I74+N74 -> 17575 | D74: 20506 | E74: =K74+O74 -> 19460.1 | F74: =E74/D74*100 -> 94.899542 | G74: =(E74/C74)*100 -> 110.72603 | H74: =(E74/E140)*100 -> 6.0005323 | I74: 2750 | J74: 2279 | K74: 2146.6 | L74: =K74/J74*100 -> 94.190434 | M74: =K74/I74*100 -> 78.058182 | N74: 14825 | O74: 17313.5
A75: ИП Бацунов П.В. (АЗС ГАЗ) | B75: 12978 | C75: =I75+N75 -> 7898 | D75: 3803 | E75: =K75+O75 -> 15001 | F75: =E75/D75*100 -> 394.45175 | G75: =(E75/C75)*100 -> 189.93416 | H75: =(E75/E140)*100 -> 4.6255664 | I75: 1250 | J75: 490 | K75: 2023 | L75: =K75/J75*100 -> 412.85714 | M75: =K75/I75*100 -> 161.84 | N75: 6648 | O75: 12978
A76: ИП Немцев Е.Г."Лекарь" | B76: 10250 | C76: =I76+N76 -> 5880 | D76: 9147 | E76: =K76+O76 -> 9177.6 | F76: =E76/D76*100 -> 100.33454 | G76: =(E76/C76)*100 -> 156.08163 | H76: =(E76/E140)*100 -> 2.8299179 | I76: 980 | J76: 1250 | K76: 1589 | L76: =K76/J76*100 -> 127.12 | M76: =K76/I76*100 -> 162.14286 | N76: 4900 | O76: 7588.6
A77: М-н "Березка" (ИП Шишканов В.Н. ) | B77: 0 | C77: =I77+N77 -> 0 | D77: 3530 | E77: =K77+O77 -> 0 | F77: =E77/D77*100 -> 0 | H77: =(E77/E140)*100 -> 0 | I77: 0 | J77: 0 | K77: 0 | N77: 0 | O77: 0
A78: ИП Шишканов В.Н. "Хозтовары" | B78: 2420 | C78: =I78+N78 -> 1620 | D78: 1537.5 | E78: =K78+O78 -> 2033.5 | F78: =E78/D78*100 -> 132.26016 | G78: =(E78/C78)*100 -> 125.52469 | H78: =(E78/E140)*100 -> 0.62703082 | I78: 200 | J78: 223 | K78: 180 | L78: =K78/J78*100 -> 80.717489 | M78: =K78/I78*100 -> 90 | N78: 1420 | O78: 1853.5
A79: ИП Миронова "Ритуал. Услуги" (Рабочая) | B79: 3985 | C79: =I79+N79 -> 1365 | D79: 3416 | E79: =K79+O79 -> 3630.9 | F79: =E79/D79*100 -> 106.29098 | G79: =(E79/C79)*100 -> 266 | H79: =(E79/E140)*100 -> 1.11959 | I79: 350 | J79: 750 | K79: 790 | L79: =K79/J79*100 -> 105.33333 | M79: =K79/I79*100 -> 225.71429 | N79: 1015 | O79: 2840.9
A80: ИП Миронова "Ритуал. Услуги" (Кирова) | B80: 3890 | C80: =I80+N80 -> 1345 | D80: 3412 | E80: =K80+O80 -> 3722.6 | F80: =E80/D80*100 -> 109.10317 | G80: =(E80/C80)*100 -> 276.77323 | H80: =(E80/E140)*100 -> 1.1478657 | I80: 350 | J80: 650 | K80: 880 | L80: =K80/J80*100 -> 135.38462 | M80: =K80/I80*100 -> 251.42857 | N80: 995 | O80: 2842.6
A81: ИП Панькина "Лайшема" | B81: 3875 | C81: =I81+N81 -> 1380 | D81: 3002 | E81: =K81+O81 -> 3855 | F81: =E81/D81*100 -> 128.41439 | G81: =(E81/C81)*100 -> 279.34783 | H81: =(E81/E140)*100 -> 1.1886913 | I81: 450 | J81: 612 | K81: 863 | L81: =K81/J81*100 -> 141.01307 | M81: =K81/I81*100 -> 191.77778 | N81: 930 | O81: 2992
A82: ИП Зумбадзе Г.Г. "Автозапчасти" | B82: 4493 | C82: =I82+N82 -> 1983 | D82: 4347 | E82: =K82+O82 -> 5209.2 | F82: =E82/D82*100 -> 119.83437 | G82: =(E82/C82)*100 -> 262.69289 | H82: =(E82/E140)*100 -> 1.6062596 | I82: 560 | J82: 920 | K82: 884.2 | L82: =K82/J82*100 -> 96.108696 | M82: =K82/I82*100 -> 157.89286 | N82: 1423 | O82: 4325
A83: ИП Крутова Н.П. м-н "Соболь" | B83: 0 | C83: =I83+N83 -> 220 | D83: 2193 | E83: =K83+O83 -> 0 | H83: =(E83/E140)*100 -> 0 | I83: 0 | J83: 0 | K83: 0 | N83: 220 | O83: 0
A84: ИП Лобачев В.П. м-н "Соболь" | B84: 3240 | C84: =I84+N84 -> 1770 | D84: 1220 | E84: =K84+O84 -> 2970 | G84: =(E84/C84)*100 -> 167.79661 | I84: 290 | J84: 350 | K84: 300 | M84: =K84/I84*100 -> 103.44828 | N84: 1480 | O84: 2670
A85: ИП Кошелев И.М. (м-н "Гастроном") | B85: 6670 | C85: =I85+N85 -> 4420 | D85: 3570 | E85: =K85+O85 -> 950 | F85: =E85/D85*100 -> 26.610644 | G85: =(E85/C85)*100 -> 21.493213 | H85: =(E85/E140)*100 -> 0.29293301 | I85: 580 | J85: 500 | K85: 0 | L85: =K85/J85*100 -> 0 | M85: =K85/I85*100 -> 0 | N85: 3840 | O85: 950
A86: ИП Останина С.С. (Промтовары-рынок) | B86: 0 | C86: =I86+N86 -> 0 | D86: 3298 | E86: =K86+O86 -> 0 | F86: =E86/D86*100 -> 0 | H86: =(E86/E140)*100 -> 0 | I86: 0 | J86: 0 | K86: 0 | L86: =K86/J86*100 -> #DIV/0! | N86: 0 | O86: 0
A87: ИП Махмудлу М.Р.О. "Московская ярмарка" | B87: 9881 | C87: =I87+N87 -> 5906 | D87: 6408.7 | E87: =K87+O87 -> 9080.8 | F87: =E87/D87*100 -> 141.69488 | G87: =(E87/C87)*100 -> 153.7555 | H87: =(E87/E140)*100 -> 2.8000696 | I87: 980 | J87: 975 | K87: 1847.8 | L87: =K87/J87*100 -> 189.51795 | M87: =K87/I87*100 -> 188.55102 | N87: 4926 | O87: 7233
A88: ИП Вергазова "Мир мебели" | B88: 3125 | C88: =I88+N88 -> 1070 | D88: 4940 | E88: =K88+O88 -> 3680 | F88: =E88/D88*100 -> 74.493927 | G88: =(E88/C88)*100 -> 343.92523 | H88: =(E88/E140)*100 -> 1.13473 | I88: 260 | J88: 850 | K88: 950 | L88: =K88/J88*100 -> 111.76471 | M88: =K88/I88*100 -> 365.38462 | N88: 810 | O88: 2730
A89: ИП Вдовин А.И.."Горячий хлеб" | B89: 7850 | C89: =I89+N89 -> 4810 | D89: 5623.5 | E89: =K89+O89 -> 3809 | F89: =E89/D89*100 -> 67.733618 | G89: =(E89/C89)*100 -> 79.189189 | H89: =(E89/E140)*100 -> 1.1745072 | I89: 530 | J89: 445 | K89: 410 | L89: =K89/J89*100 -> 92.134831 | M89: =K89/I89*100 -> 77.358491 | N89: 4280 | O89: 3399
A90: ИП Шерстобитова В.М."Удобный" | B90: 908 | C90: =I90+N90 -> 585 | D90: 1699.8 | E90: =K90+O90 -> 992 | F90: =E90/D90*100 -> 58.359807 | G90: =(E90/C90)*100 -> 169.57265 | H90: =(E90/E140)*100 -> 0.30588373 | I90: 75 | J90: 525 | K90: 20 | L90: =K90/J90*100 -> 3.8095238 | M90: =K90/I90*100 -> 26.666667 | N90: 510 | O90: 972
A91: ИП Мялькина Н.И. "Золото" | B91: 9509 | C91: =I91+N91 -> 5069 | D91: 6260 | E91: =K91+O91 -> 8576.3 | F91: =E91/D91*100 -> 137.0016 | G91: =(E91/C91)*100 -> 169.19116 | H91: =(E91/E140)*100 -> 2.6445067 | I91: 945 | J91: 900 | K91: 1950 | L91: =K91/J91*100 -> 216.66667 | M91: =K91/I91*100 -> 206.34921 | N91: 4124 | O91: 6626.3
A92: ИП Пьяных О.Н. (Старошайговские колбасы) | B92: 12290 | C92: =I92+N92 -> 7260 | D92: 9919.3 | E92: =K92+O92 -> 10950.5 | F92: =E92/D92*100 -> 110.39589 | G92: =(E92/C92)*100 -> 150.83333 | H92: =(E92/E140)*100 -> 3.3765925 | I92: 920 | J92: 1545 | K92: 2001.3 | L92: =K92/J92*100 -> 129.53398 | M92: =K92/I92*100 -> 217.53261 | N92: 6340 | O92: 8949.2 | P92: Ип Шайгово
A93: ИП Подмарева "Чамзинские продукты" | B93: 4110 | C93: =I93+N93 -> 2600 | D93: 2599.71 | E93: =K93+O93 -> 943.03 | F93: =E93/D93*100 -> 36.274431 | G93: =(E93/C93)*100 -> 36.270385 | H93: =(E93/E140)*100 -> 0.29078381 | I93: 350 | J93: 286.51 | K93: 0 | L93: =K93/J93*100 -> 0 | M93: =K93/I93*100 -> 0 | N93: 2250 | O93: 943.03 | P93: =K63+K64+K65+K66+K67+K68+K69+K70+K71+K72+K73+K74+K75+K76+K77+K78+K79+K80+K81+K82+K83+K84+K85+K86+K87+K88+K89+K90+K91+K92+K93+K131+K132+K134+K135+K136+K137+K139 -> 29364.7
A94: ИП Калявин Н.П."Байкал" (Богдановка) | B94: 14901 | C94: =I94+N94 -> 9858 | D94: 10020 | E94: =K94+O94 -> 9489 | F94: =E94/D94*100 -> 94.700599 | G94: =(E94/C94)*100 -> 96.256847 | H94: =(E94/E140)*100 -> 2.9259382 | I94: 1480 | J94: 1000 | K94: 1150 | L94: =K94/J94*100 -> 115 | M94: =K94/I94*100 -> 77.702703 | N94: 8378 | O94: 8339
A95: ИП Чудаев Е.Г.(Богдановка) | B95: 18108 | C95: =I95+N95 -> 11465 | D95: 10502 | E95: =K95+O95 -> 3600 | F95: =E95/D95*100 -> 34.279185 | G95: =(E95/C95)*100 -> 31.399913 | H95: =(E95/E140)*100 -> 1.1100619 | I95: 1970 | J95: 2281 | K95: 0 | L95: =K95/J95*100 -> 0 | M95: =K95/I95*100 -> 0 | N95: 9495 | O95: 3600
A96: ИП Чудаев Е.Г.(Летки) | B96: 12576 | C96: =I96+N96 -> 7690 | D96: 7279.7 | E96: =K96+O96 -> 2013.6 | F96: =E96/D96*100 -> 27.660481 | G96: =(E96/C96)*100 -> 26.184655 | H96: =(E96/E140)*100 -> 0.62089464 | I96: 1252 | J96: 1178.2 | K96: 0 | L96: =K96/J96*100 -> 0 | M96: =K96/I96*100 -> 0 | N96: 6438 | O96: 2013.6
A97: ИП Рубцова В.И.(Конопать) | B97: 6046 | C97: =I97+N97 -> 3922 | D97: 3116 | E97: =K97+O97 -> 2832 | F97: =E97/D97*100 -> 90.885751 | G97: =(E97/C97)*100 -> 72.208057 | H97: =(E97/E140)*100 -> 0.87324872 | I97: 732 | J97: 361 | K97: 322 | L97: =K97/J97*100 -> 89.196676 | M97: =K97/I97*100 -> 43.989071 | N97: 3190 | O97: 2510
A98: ИП Киреева Л.Н.(Конопать) | B98: 5236 | C98: =I98+N98 -> 3427 | D98: 2714 | E98: =K98+O98 -> 2935 | F98: =E98/D98*100 -> 108.14296 | G98: =(E98/C98)*100 -> 85.64342 | H98: =(E98/E140)*100 -> 0.90500882 | I98: 510 | J98: 270 | K98: 420 | L98: =K98/J98*100 -> 155.55556 | M98: =K98/I98*100 -> 82.352941 | N98: 2917 | O98: 2515
A99: ИП Шукшина (Шувары) | B99: 0 | C99: =I99+N99 -> 0 | D99: 750 | E99: =K99+O99 -> 0 | I99: 0 | J99: 0 | K99: 0 | L99: =K99/J99*100 -> #DIV/0! | M99: =K99/I99*100 -> #DIV/0! | N99: 0 | O99: 0
A100: ИП Аверкина Л А (шувары) | B100: 2325 | D100: 690 | E100: =K100+O100 -> 1179 | F100: =E100/D100*100 -> 170.86957 | I100: 165 | J100: 160 | K100: 0 | L100: =K100/J100*100 -> 0 | M100: =K100/I100*100 -> 0 | O100: 1179
...

Sheet Т.об.-расшифровка
A1: за сентябрь 2018 г
A2: Наименование | B2: прогноз | C2: Товарооборот -розница | M2: Водка
A3: с/ администр. | B3: сентябрь | C3: Лемяскин | D3: ООО | E3: РУПС | F3: СПК | G3: ИП | H3: ярмарка | I3: Прочие | J3: Общепит | K3: Итого | L3: .+,- | M3: прогноз | N3: "Нива" | O3: ООО | P3: прочие | Q3: ВСЕГО | R3: .+,-
A4: Богдановское | B4: 4150 | D4: 1780 | E4: 20.2 | F4: 105 | G4: 1150 | K4: =SUM(C4:J4) -> 3055.2 | L4: =K4-B4 -> -1094.8 | M4: 52 | O4: 65 | Q4: =SUM(N4:P4) -> 65 | R4: =Q4-M4 -> 13
A5: Восходское | B5: 412 | D5: 375 | E5: 55.7 | F5: 0 | K5: =SUM(C5:J5) -> 430.7 | L5: =K5-B5 -> 18.7 | M5: 10 | O5: 0 | Q5: =SUM(N5:P5) -> 0 | R5: =Q5-M5 -> -10
A6: Инг.Пятинское | B6: 358 | D6: 0 | E6: 15.9 | G6: 290 | K6: =SUM(C6:J6) -> 305.9 | L6: =K6-B6 -> -52.1 | M6: 9 | O6: 0 | Q6: =SUM(N6:P6) -> 0 | R6: =Q6-M6 -> -9
A7: Конопатское | B7: 1900 | C7: 0 | D7: 0 | F7: 275 | G7: 742 | K7: =SUM(C7:J7) -> 1017 | L7: =K7-B7 -> -883 | M7: 10 | O7: 0 | Q7: =SUM(N7:P7) -> 0 | R7: =Q7-M7 -> -10
A8: Лемдяйское | B8: 720 | D8: 0 | E8: 94 | F8: 0 | G8: 472 | K8: =SUM(C8:J8) -> 566 | L8: =K8-B8 -> -154 | M8: 16 | O8: 0 | Q8: =SUM(N8:P8) -> 0 | R8: =Q8-M8 -> -16
A9: Леткинское | B9: 1340 | D9: 900 | G9: 0 | K9: =SUM(C9:J9) -> 900 | L9: =K9-B9 -> -440 | M9: 14 | O9: 15 | Q9: =SUM(N9:P9) -> 15 | R9: =Q9-M9 -> 1
A10: Мельцанское | B10: 3950 | D10: 918 | E10: 60.4 | G10: 2973 | K10: =SUM(C10:J10) -> 3951.4 | L10: =K10-B10 -> 1.4 | M10: 34 | N10: 0 | O10: 55 | Q10: =SUM(N10:P10) -> 55 | R10: =Q10-M10 -> 21
A11: Новоакшинское | B11: 6610 | C11: 260 | D11: 1351 | E11: 82.6 | F11: 0 | G11: 4437.3 | K11: =SUM(C11:J11) -> 6130.9 | L11: =K11-B11 -> -479.1 | M11: 38 | O11: 42 | Q11: =SUM(N11:P11) -> 42 | R11: =Q11-M11 -> 4
A12: Н.Александровское | B12: 324 | E12: 0 | G12: 324 | K12: =SUM(C12:J12) -> 324 | L12: =K12-B12 -> 0 | M12: 5 | O12: 0 | Q12: =SUM(N12:P12) -> 0 | R12: =Q12-M12 -> -5
A13: Новотроицкое | B13: 11350 | D13: 9852 | E13: 87.1 | F13: 33 | K13: =SUM(C13:J13) -> 9972.1 | L13: =K13-B13 -> -1377.9 | M13: 42 | O13: 30 | Q13: =SUM(N13:P13) -> 30 | R13: =Q13-M13 -> -12
A14: Н.Федоровское | B14: 2000 | D14: 0 | F14: 0 | G14: 2000 | K14: =SUM(C14:J14) -> 2000 | L14: =K14-B14 -> 0 | M14: 23 | N14: 0 | O14: 0 | Q14: =SUM(N14:P14) -> 0 | R14: =Q14-M14 -> -23
A15: Рязановское | B15: 325 | D15: 325 | F15: 0 | K15: =SUM(C15:J15) -> 325 | L15: =K15-B15 -> 0 | M15: 7 | O15: 7 | Q15: =SUM(N15:P15) -> 7 | R15: =Q15-M15 -> 0
A16: Ст.Теризморгское | B16: 1340 | D16: 1327 | E16: 13.8 | G16: 0 | K16: =SUM(C16:J16) -> 1340.8 | L16: =K16-B16 -> 0.8 | M16: 31 | O16: 31 | Q16: =SUM(N16:P16) -> 31 | R16: =Q16-M16 -> 0
A17: Ст.Федоровское | B17: 1140 | D17: 90 | G17: 780 | K17: =SUM(C17:J17) -> 870 | L17: =K17-B17 -> -270 | M17: 11 | O17: 16 | Q17: =SUM(N17:P17) -> 16 | R17: =Q17-M17 -> 5
A18: Ст.Шайговское | B18: 70873 | D18: 30141.3 | E18: 157.8 | G18: 29364.7 | H18: 15600 | I18: 404 | J18: 173 | K18: =SUM(C18:J18) -> 75840.8 | L18: =K18-B18 -> 4967.8 | M18: 350 | N18: 0 | O18: 350 | Q18: =SUM(N18:P18) -> 350 | R18: =Q18-M18 -> 0
A19: Шигонское | B19: 995 | C19: 0 | D19: 0 | F19: 0 | G19: 945 | K19: =SUM(C19:J19) -> 945 | L19: =K19-B19 -> -50 | M19: 15 | O19: 0 | Q19: =SUM(N19:P19) -> 0 | R19: =Q19-M19 -> -15
A20: Шуварское | B20: 407 | D20: 210 | E20: 16.2 | F20: 0 | G20: 182 | K20: =SUM(C20:J20) -> 408.2 | L20: =K20-B20 -> 1.2 | M20: 11 | O20: 0 | Q20: =SUM(N20:P20) -> 0 | R20: =Q20-M20 -> -11
A21: общепит образование | J21: 91.1 | K21: =SUM(C21:J21) -> 91.1 | L21: =K21-B21 -> 91.1 | Q21: =SUM(N21:P21) -> 0 | R21: =Q21-M21 -> 0
A22: Итого | B22: 108194 | C22: =SUM(C4:C21) -> 260 | D22: =SUM(D4:D21) -> 47269.3 | E22: =SUM(E4:E21) -> 603.7 | F22: =SUM(F4:F21) -> 413 | G22: =SUM(G4:G21) -> 43660 | H22: =SUM(H18:H21) -> 15600 | I22: =SUM(I4:I21) -> 404 | J22: =SUM(J18:J21) -> 264.1 | K22: =SUM(K4:K21) -> 108474.1 | L22: =K22-B22 -> 280.1 | M22: 678 | N22: =SUM(N4:N21) -> 0 | O22: =SUM(O4:O21) -> 611 | P22: =SUM(P4:P21) -> 0 | Q22: =SUM(N22:P22) -> 611 | R22: =Q22-M22 -> -67
C25: ООО | D25: =D22+E22+F22+I22+J22 -> 48954.1
K26: 108210 | Q26: 646
C27: ИП | D27: =G22+C22 -> 43920 | K27: =K26-K22 -> -264.1

Sheet Общепит-розница
A1: Товарооборот: розница-общепит
A2: Наименование | B2: за сентябрь месяц | O2: с начала года | AB2: с начала года- копируем с прошлого месяца
A3: сельского | B3: ВСЕГО | G3: общепит | J3: розница | O3: ВСЕГО | T3: общепит | W3: розница | AB3: Всего | AE3: общепит | AH3: розница
A4: поселения | B4: прогноз 2018 | C4: факт 2017 | D4: факт 2018 | E4: 2018/ 2017 (%) | F4: % вып. | G4: прогноз | H4: факт | I4: % вып. | J4: прогноз | K4: факт 2017 | L4: факт 2018 | M4: 2018/ 2017 (%) | N4: % вып. | O4: прогноз | P4: факт 2017 | Q4: факт 2018 | R4: 2018/ 2017 (%) | S4: % вып. | T4: прогноз | U4: факт | V4: % вып. | W4: прогноз | X4: факт 2017 | Y4: факт 2018 | Z4: 2018/ 2017 (%) | AA4: % вып. | AB4: прогноз | AC4: факт | AD4: % вып. | AE4: прогноз | AF4: факт | AG4: % вып. | AH4: прогноз | AI4: факт | AJ4: % вып.
A5: Богдановское | B5: ='Т.об.-расшифровка'!B4 -> 4150 | C5: 3798.3 | D5: ='Т.об.-расшифровка'!K4 -> 3055.2 | E5: =D5/C5*100 -> 80.435985 | F5: =D5/B5*100 -> 73.619277 | J5: =B5+G5 -> 4150 | K5: 3798.3 | L5: =D5-H5 -> 3055.2 | M5: =L5/K5*100 -> 80.435985 | N5: =L5/J5*100 -> 73.619277 | O5: =AB5+B5 -> 29500 | P5: 25281 | Q5: =AC5+D5 -> 25520.1 | R5: =Q5/P5*100 -> 100.94577 | S5: =Q5/O5*100 -> 86.508814 | U5: =AF5+H5 -> 0 | W5: =O5+T5 -> 29500 | X5: 25281 | Y5: =L5+AI5 -> 25520.1 | Z5: =Y5/X5*100 -> 100.94577 | AA5: =Y5/W5*100 -> 86.508814 | AB5: 25350 | AC5: 22464.9 | AD5: 88.618935 | AH5: 25350 | AI5: 22464.9 | AJ5: 88.618935
A6: Восходское | B6: ='Т.об.-расшифровка'!B5 -> 412 | C6: 393.6 | D6: ='Т.об.-расшифровка'!K5 -> 430.7 | E6: =D6/C6*100 -> 109.42581 | F6: =D6/B6*100 -> 104.53883 | J6: =B6+G6 -> 412 | K6: 393.6 | L6: =D6-H6 -> 430.7 | M6: =L6/K6*100 -> 109.42581 | N6: =L6/J6*100 -> 104.53883 | O6: =AB6+B6 -> 3739 | P6: 3505 | Q6: =AC6+D6 -> 3670.2 | R6: =Q6/P6*100 -> 104.71327 | S6: =Q6/O6*100 -> 98.159936 | U6: =AF6+H6 -> 0 | W6: =O6+T6 -> 3739 | X6: 3505 | Y6: =L6+AI6 -> 3670.2 | Z6: =Y6/X6*100 -> 104.71327 | AA6: =Y6/W6*100 -> 98.159936 | AB6: 3327 | AC6: 3239.5 | AD6: 97.370003 | AH6: 3327 | AI6: 3239.5 | AJ6: 97.370003
A7: Инг.Пятинское | B7: ='Т.об.-расшифровка'!B6 -> 358 | C7: 341.4 | D7: ='Т.об.-расшифровка'!K6 -> 305.9 | E7: =D7/C7*100 -> 89.60164 | F7: =D7/B7*100 -> 85.446927 | J7: =B7+G7 -> 358 | K7: 341.4 | L7: =D7-H7 -> 305.9 | M7: =L7/K7*100 -> 89.60164 | N7: =L7/J7*100 -> 85.446927 | O7: =AB7+B7 -> 3546 | P7: 3323.3 | Q7: =AC7+D7 -> 3094.1 | R7: =Q7/P7*100 -> 93.103241 | S7: =Q7/O7*100 -> 87.256063 | U7: =AF7+H7 -> 0 | W7: =O7+T7 -> 3546 | X7: 3323.3 | Y7: =L7+AI7 -> 3094.1 | Z7: =Y7/X7*100 -> 93.103241 | AA7: =Y7/W7*100 -> 87.256063 | AB7: 3188 | AC7: 2788.2 | AD7: 87.459222 | AH7: 3188 | AI7: 2788.2 | AJ7: 87.459222
A8: Конопатское | B8: ='Т.об.-расшифровка'!B7 -> 1900 | C8: 1738 | D8: ='Т.об.-расшифровка'!K7 -> 1017 | E8: =D8/C8*100 -> 58.515535 | F8: =D8/B8*100 -> 53.526316 | J8: =B8+G8 -> 1900 | K8: 1738 | L8: =D8-H8 -> 1017 | M8: =L8/K8*100 -> 58.515535 | N8: =L8/J8*100 -> 53.526316 | O8: =AB8+B8 -> 12860 | P8: 11119 | Q8: =AC8+D8 -> 8774 | R8: =Q8/P8*100 -> 78.909974 | S8: =Q8/O8*100 -> 68.227061 | U8: =AF8+H8 -> 0 | W8: =O8+T8 -> 12860 | X8: 11119 | Y8: =L8+AI8 -> 8774 | Z8: =Y8/X8*100 -> 78.909974 | AA8: =Y8/W8*100 -> 68.227061 | AB8: 10960 | AC8: 7757 | AD8: 70.775547 | AH8: 10960 | AI8: 7757 | AJ8: 70.775547
A9: Лемдяйское | B9: ='Т.об.-расшифровка'!B8 -> 720 | C9: 687.4 | D9: ='Т.об.-расшифровка'!K8 -> 566 | E9: =D9/C9*100 -> 82.339249 | F9: =D9/B9*100 -> 78.611111 | J9: =B9+G9 -> 720 | K9: 687.4 | L9: =D9-H9 -> 566 | M9: =L9/K9*100 -> 82.339249 | N9: =L9/J9*100 -> 78.611111 | O9: =AB9+B9 -> 6972 | P9: 6361.3 | Q9: =AC9+D9 -> 5500.5 | R9: =Q9/P9*100 -> 86.468175 | S9: =Q9/O9*100 -> 78.894148 | U9: =AF9+H9 -> 0 | W9: =O9+T9 -> 6972 | X9: 6361.3 | Y9: =L9+AI9 -> 5500.5 | Z9: =Y9/X9*100 -> 86.468175 | AA9: =Y9/W9*100 -> 78.894148 | AB9: 6252 | AC9: 4934.5 | AD9: 78.926743 | AH9: 6252 | AI9: 4934.5 | AJ9: 78.926743
A10: Леткинское | B10: ='Т.об.-расшифровка'!B9 -> 1340 | C10: 1278.9 | D10: ='Т.об.-расшифровка'!K9 -> 900 | E10: =D10/C10*100 -> 70.372977 | F10: =D10/B10*100 -> 67.164179 | J10: =B10+G10 -> 1340 | K10: 1278.9 | L10: =D10-H10 -> 900 | M10: =L10/K10*100 -> 70.372977 | N10: =L10/J10*100 -> 67.164179 | O10: =AB10+B10 -> 9382 | P10: 8492.6 | Q10: =AC10+D10 -> 7566.2 | R10: =Q10/P10*100 -> 89.09168 | S10: =Q10/O10*100 -> 80.645918 | U10: =AF10+H10 -> 0 | W10: =O10+T10 -> 9382 | X10: 8492.6 | Y10: =L10+AI10 -> 7566.2 | Z10: =Y10/X10*100 -> 89.09168 | AA10: =Y10/W10*100 -> 80.645918 | AB10: 8042 | AC10: 6666.2 | AD10: 82.892315 | AH10: 8042 | AI10: 6666.2 | AJ10: 82.892315
A11: Мельцанское | B11: ='Т.об.-расшифровка'!B10 -> 3950 | C11: 3622 | D11: ='Т.об.-расшифровка'!K10 -> 3951.4 | E11: =D11/C11*100 -> 109.09442 | F11: =D11/B11*100 -> 100.03544 | J11: =B11+G11 -> 3950 | K11: 3622 | L11: =D11-H11 -> 3951.4 | M11: =L11/K11*100 -> 109.09442 | N11: =L11/J11*100 -> 100.03544 | O11: =AB11+B11 -> 34775 | P11: 30242.8 | Q11: =AC11+D11 -> 34890.8 | R11: =Q11/P11*100 -> 115.36895 | S11: =Q11/O11*100 -> 100.333 | U11: =AF11+H11 -> 0 | W11: =O11+T11 -> 34775 | X11: 30242.8 | Y11: =L11+AI11 -> 34890.8 | Z11: =Y11/X11*100 -> 115.36895 | AA11: =Y11/W11*100 -> 100.333 | AB11: 30825 | AC11: 30939.4 | AD11: 100.37113 | AH11: 30825 | AI11: 30939.4 | AJ11: 100.37113
A12: Новоакшинское | B12: ='Т.об.-расшифровка'!B11 -> 6610 | C12: 6076 | D12: ='Т.об.-расшифровка'!K11 -> 6130.9 | E12: =D12/C12*100 -> 100.90355 | F12: =D12/B12*100 -> 92.751891 | J12: =B12+G12 -> 6610 | K12: 6076 | L12: =D12-H12 -> 6130.9 | M12: =L12/K12*100 -> 100.90355 | N12: =L12/J12*100 -> 92.751891 | O12: =AB12+B12 -> 56510 | P12: 48653 | Q12: =AC12+D12 -> 50969 | R12: =Q12/P12*100 -> 104.76024 | S12: =Q12/O12*100 -> 90.194656 | W12: =O12+T12 -> 56510 | X12: 48653 | Y12: =L12+AI12 -> 50969 | Z12: =Y12/X12*100 -> 104.76024 | AA12: =Y12/W12*100 -> 90.194656 | AB12: 49900 | AC12: 44838.1 | AD12: 89.855912 | AH12: 49900 | AI12: 44838.1 | AJ12: 89.855912
A13: Н.Александровское | B13: ='Т.об.-расшифровка'!B12 -> 324 | C13: 309.7 | D13: ='Т.об.-расшифровка'!K12 -> 324 | E13: =D13/C13*100 -> 104.61737 | F13: =D13/B13*100 -> 100 | J13: =B13+G13 -> 324 | K13: 309.7 | L13: =D13-H13 -> 324 | M13: =L13/K13*100 -> 104.61737 | N13: =L13/J13*100 -> 100 | O13: =AB13+B13 -> 2564 | P13: 2410.2 | Q13: =AC13+D13 -> 2789.9 | R13: =Q13/P13*100 -> 115.75388 | S13: =Q13/O13*100 -> 108.81045 | U13: =AF13+H13 -> 0 | W13: =O13+T13 -> 2564 | X13: 2410.2 | Y13: =L13+AI13 -> 2789.9 | Z13: =Y13/X13*100 -> 115.75388 | AA13: =Y13/W13*100 -> 108.81045 | AB13: 2240 | AC13: 2465.9 | AD13: 110.08482 | AH13: 2240 | AI13: 2465.9 | AJ13: 110.08482
A14: Новотроицкое | B14: ='Т.об.-расшифровка'!B13 -> 11350 | C14: 10413.5 | D14: ='Т.об.-расшифровка'!K13 -> 9972.1 | E14: =D14/C14*100 -> 95.761271 | F14: =D14/B14*100 -> 87.859912 | J14: =B14+G14 -> 11350 | K14: 10413.5 | L14: =D14-H14 -> 9972.1 | M14: =L14/K14*100 -> 95.761271 | N14: =L14/J14*100 -> 87.859912 | O14: =AB14+B14 -> 93530 | P14: 80370.3 | Q14: =AC14+D14 -> 86716.2 | R14: =Q14/P14*100 -> 107.89583 | S14: =Q14/O14*100 -> 92.714851 | U14: =AF14+H14 -> 0 | W14: =O14+T14 -> 93530 | X14: 80370.3 | Y14: =L14+AI14 -> 86716.2 | Z14: =Y14/X14*100 -> 107.89583 | AA14: =Y14/W14*100 -> 92.714851 | AB14: 82180 | AC14: 76744.1 | AD14: 93.385374 | AH14: 82180 | AI14: 76744.1 | AJ14: 93.385374
A15: Н.Федоровское | B15: ='Т.об.-расшифровка'!B14 -> 2000 | C15: 1910 | D15: ='Т.об.-расшифровка'!K14 -> 2000 | E15: =D15/C15*100 -> 104.71204 | F15: =D15/B15*100 -> 100 | J15: =B15+G15 -> 2000 | K15: 1910 | L15: =D15-H15 -> 2000 | M15: =L15/K15*100 -> 104.71204 | N15: =L15/J15*100 -> 100 | O15: =AB15+B15 -> 16870 | P15: 15035 | Q15: =AC15+D15 -> 17971 | R15: =Q15/P15*100 -> 119.52777 | S15: =Q15/O15*100 -> 106.52638 | U15: =AF15+H15 -> 0 | W15: =O15+T15 -> 16870 | X15: 15035 | Y15: =L15+AI15 -> 17971 | Z15: =Y15/X15*100 -> 119.52777 | AA15: =Y15/W15*100 -> 106.52638 | AB15: 14870 | AC15: 15971 | AD15: 107.40417 | AH15: 14870 | AI15: 15971 | AJ15: 107.40417
A16: Рязановское | B16: ='Т.об.-расшифровка'!B15 -> 325 | C16: 310 | D16: ='Т.об.-расшифровка'!K15 -> 325 | E16: =D16/C16*100 -> 104.83871 | F16: =D16/B16*100 -> 100 | J16: =B16+G16 -> 325 | K16: 310 | L16: =D16-H16 -> 325 | M16: =L16/K16*100 -> 104.83871 | N16: =L16/J16*100 -> 100 | O16: =AB16+B16 -> 2996 | P16: 2800 | Q16: =AC16+D16 -> 2875 | R16: =Q16/P16*100 -> 102.67857 | S16: =Q16/O16*100 -> 95.961282 | U16: =AF16+H16 -> 0 | W16: =O16+T16 -> 2996 | X16: 2800 | Y16: =L16+AI16 -> 2875 | Z16: =Y16/X16*100 -> 102.67857 | AA16: =Y16/W16*100 -> 95.961282 | AB16: 2671 | AC16: 2550 | AD16: 95.469861 | AH16: 2671 | AI16: 2550 | AJ16: 95.469861
A17: Ст.Теризморгское | B17: ='Т.об.-расшифровка'!B16 -> 1340 | C17: 1231.8 | D17: ='Т.об.-расшифровка'!K16 -> 1340.8 | E17: =D17/C17*100 -> 108.84884 | F17: =D17/B17*100 -> 100.0597 | J17: =B17+G17 -> 1340 | K17: 1231.8 | L17: =D17-H17 -> 1340.8 | M17: =L17/K17*100 -> 108.84884 | N17: =L17/J17*100 -> 100.0597 | O17: =AB17+B17 -> 10975 | P17: 10052.5 | Q17: =AC17+D17 -> 11071.8 | R17: =Q17/P17*100 -> 110.13977 | S17: =Q17/O17*100 -> 100.882 | U17: =AF17+H17 -> 0 | W17: =O17+T17 -> 10975 | X17: 10052.5 | Y17: =L17+AI17 -> 11071.8 | Z17: =Y17/X17*100 -> 110.13977 | AA17: =Y17/W17*100 -> 100.882 | AB17: 9635 | AC17: 9731 | AD17: 100.99637 | AH17: 9635 | AI17: 9731 | AJ17: 100.99637
A18: Ст.Федоровское | B18: ='Т.об.-расшифровка'!B17 -> 1140 | C18: 1050 | D18: ='Т.об.-расшифровка'!K17 -> 870 | E18: =D18/C18*100 -> 82.857143 | F18: =D18/B18*100 -> 76.315789 | J18: =B18+G18 -> 1140 | K18: 1050 | L18: =D18-H18 -> 870 | M18: =L18/K18*100 -> 82.857143 | N18: =L18/J18*100 -> 76.315789 | O18: =AB18+B18 -> 10013 | P18: 8718 | Q18: =AC18+D18 -> 8360 | R18: =Q18/P18*100 -> 95.893554 | S18: =Q18/O18*100 -> 83.491461 | U18: =AF18+H18 -> 0 | W18: =O18+T18 -> 10013 | X18: 8718 | Y18: =L18+AI18 -> 8360 | Z18: =Y18/X18*100 -> 95.893554 | AA18: =Y18/W18*100 -> 83.491461 | AB18: 8873 | AC18: 7490 | AD18: 84.413389 | AH18: 8873 | AI18: 7490 | AJ18: 84.413389
A19: Ст.Шайговское | B19: ='Т.об.-расшифровка'!B18 -> 70873 | C19: 67170.5 | D19: ='Т.об.-расшифровка'!K18 -> 75840.8 | E19: =D19/C19*100 -> 112.9079 | F19: =D19/B19*100 -> 107.00944 | H19: 173 | J19: =B19+G19 -> 70873 | K19: 67002.5 | L19: =D19-H19 -> 75667.8 | M19: =L19/K19*100 -> 112.9328 | N19: =L19/J19*100 -> 106.76534 | O19: =AB19+B19 -> 549666 | P19: 537557.9 | Q19: =AC19+D19 -> 588320 | R19: =Q19/P19*100 -> 109.44309 | S19: =Q19/O19*100 -> 107.03227 | U19: =AF19+H19 -> 1179 | W19: =O19+T19 -> 549666 | X19: 535883.9 | Y19: =L19+AI19 -> 587141 | Z19: =Y19/X19*100 -> 109.56496 | AA19: =Y19/W19*100 -> 106.81778 | AB19: 478793 | AC19: 512479.2 | AD19: 107.03565 | AF19: 1006 | AH19: 478793 | AI19: 511473.2 | AJ19: 106.82554
A20: Шигонское | B20: ='Т.об.-расшифровка'!B19 -> 995 | C20: 951 | D20: ='Т.об.-расшифровка'!K19 -> 945 | E20: =D20/C20*100 -> 99.369085 | F20: =D20/B20*100 -> 94.974874 | J20: =B20+G20 -> 995 | K20: 951 | L20: =D20-H20 -> 945 | M20: =L20/K20*100 -> 99.369085 | N20: =L20/J20*100 -> 94.974874 | O20: =AB20+B20 -> 5298 | P20: 4969 | Q20: =AC20+D20 -> 5795 | R20: =Q20/P20*100 -> 116.62306 | S20: =Q20/O20*100 -> 109.3809 | U20: =AF20+H20 -> 0 | W20: =O20+T20 -> 5298 | X20: 4969 | Y20: =L20+AI20 -> 5795 | Z20: =Y20/X20*100 -> 116.62306 | AA20: =Y20/W20*100 -> 109.3809 | AB20: 4303 | AC20: 4850 | AD20: 112.71206 | AF20: 0 | AH20: 4303 | AI20: 4850 | AJ20: 112.71206
A21: Шуварское | B21: ='Т.об.-расшифровка'!B20 -> 407 | C21: 388.9 | D21: ='Т.об.-расшифровка'!K20 -> 408.2 | E21: =D21/C21*100 -> 104.96272 | F21: =D21/B21*100 -> 100.29484 | J21: =B21+G21 -> 407 | K21: 388.9 | L21: =D21-H21 -> 408.2 | M21: =L21/K21*100 -> 104.96272 | N21: =L21/J21*100 -> 100.29484 | O21: =AB21+B21 -> 3974 | P21: 3709.1 | Q21: =AC21+D21 -> 3865.8 | R21: =Q21/P21*100 -> 104.22474 | S21: =Q21/O21*100 -> 97.277302 | U21: =AF21+H21 -> 0 | W21: =O21+T21 -> 3974 | X21: 3709.1 | Y21: =L21+AI21 -> 3865.8 | Z21: =Y21/X21*100 -> 104.22474 | AA21: =Y21/W21*100 -> 97.277302 | AB21: 3567 | AC21: 3457.6 | AD21: 96.932997 | AF21: 0 | AH21: 3567 | AI21: 3457.6 | AJ21: 96.932997
A22: общепит | B22: ='Т.об.-расшифровка'!B21 -> 0 | C22: 164.9 | D22: 91.1 | H22: 91.1 | J22: =B22+G22 -> 0 | K22: 0 | L22: =D22-H22 -> 0 | O22: =AB22+B22 -> 0 | P22: 2047 | Q22: 1248.9 | R22: =Q22/P22*100 -> 61.011236 | S22: =Q22/O22*100 -> #DIV/0! | U22: =AF22+H22 -> 1248.9 | W22: =O22+T22 -> 0 | X22: 0 | Y22: =L22+AI22 -> 0 | AB22: 0 | AC22: 1157.8 | AD22: #DIV/0! | AF22: 1157.8 | AH22: 0 | AI22: 0
A23: В С Е Г О | B23: =SUM(B5:B22) -> 108194 | C23: 101835.9 | D23: =SUM(D5:D22) -> 108474.1 | E23: =D23/C23*100 -> 106.51853 | F23: =D23/B23*100 -> 100.25889 | H23: =SUM(H5:H22) -> 264.1 | J23: =SUM(J5:J22) -> 108194 | K23: 101503 | L23: =SUM(L5:L22) -> 108210 | M23: =L23/K23*100 -> 106.60769 | N23: =L23/J23*100 -> 100.01479 | O23: =SUM(O5:O22) -> 853170 | P23: 804647 | Q23: =SUM(Q5:Q22) -> 868998.5 | R23: =Q23/P23*100 -> 107.99748 | S23: =Q23/O23*100 -> 101.85526 | T23: =SUM(T5:T21) -> 0 | U23: =SUM(U5:U22) -> 2427.9 | W23: =SUM(W5:W22) -> 853170 | X23: 800926 | Y23: =SUM(Y5:Y22) -> 866570.6 | Z23: =Y23/X23*100 -> 108.19609 | AA23: =Y23/W23*100 -> 101.57068 | AB23: 744976 | AC23: 760524.4 | AD23: 102.0871 | AF23: 2163.8 | AG23: =SUM(AG5:AG21) -> 0 | AH23: 744976 | AI23: 758360.6 | AJ23: 101.79665
L24: =L23-J23 -> 16 | Y24: =Y23-W23 -> 13400.6 | AI24: =SUM(AI5:AI22) -> 758360.6
AC25: =AC5+AC6+AC7+AC8+AC9+AC10+AC11+AC12+AC13+AC14++AC15+AC16+AC17+AC18+AC19+AC20+AC21+AC22 -> 760524.4

Sheet Сохранность поголовья 
A1: Cохранность поголовья скота в Старошайговском районе на 1 апреля 2013 года | B1: Сохранность поголовья скота на 1 октября 2017 года к 1 октября 2018 года
A3: Наименование сельского поселения | B3: Сельхозпредприятия на 1.10.2018 к 1.10.2017 | M3: личные подсобные хозяйства на 1.10.2018 к 1.10.2017 | X3: ВСЕГО ПО РАЙОНУ
B4: Поголовье КРС всего | D4: в т. ч. к о р о в | F4: в т.ч. молодняк КРС | J4: Итого по СПК | L4: Коэф-т сохранности по СПК, % | M4: Поголовье КРС всего | O4: в т. ч. к о р о в | Q4: в т.ч. молодняк КРС | U4: ИТОГО по ЛПХ | W4: Коэф-т сохранности по ЛПХ, % | X4: ВСЕГО условное поголовье | Z4: Коэф-т сохранности по району, % | AA4: в т. ч. к о р о в | AC4: Коэф-т сохранности коров, %
D5: 43009 | E5: 43374 | F5: на 01.10.2017 | H5: на 01.10.2018 | O5: 43009 | P5: 43374 | Q5: на 01.10.2017 | S5: на 01.10.2018 | AA5: 43009 | AB5: 43374
B6: 01.10. | C6: 01.10. | F6: погол. | G6: услов. | H6: погол. | I6: услов. | J6: 01.10. | K6: 01.10. | M6: 01.10. | N6: 01.10. | Q6: погол. | R6: услов. | S6: погол. | T6: услов. | U6: 01.10. | V6: 01.10. | X6: 01.10. | Y6: 01.10.
B7: 2017 | C7: 2018 | F7: голов | G7: гол. | H7: голов | I7: гол. | J7: 2017 | K7: 2018 | M7: 2017 | N7: 2018 | Q7: голов | R7: гол. | S7: голов | T7: гол. | U7: 2017 | V7: 2018 | X7: 2017 | Y7: 2018
A8: Богдановское | B8: 2082 | C8: 2045 | D8: 850 | E8: 850 | F8: =SUM(B8-D8) -> 1232 | G8: =SUM(F8*0.6) -> 739.2 | H8: =SUM(C8-E8) -> 1195 | I8: =SUM(H8*0.6) -> 717 | J8: =SUM(D8+G8) -> 1589.2 | K8: =SUM(E8+I8) -> 1567 | L8: =SUM(K8/J8)*100 -> 98.603071 | M8: 50 | N8: 43 | O8: 21 | P8: 19 | Q8: =SUM(M8-O8) -> 29 | R8: =SUM(Q8*0.6) -> 17.4 | S8: =SUM(N8-P8) -> 24 | T8: =SUM(S8*0.6) -> 14.4 | U8: =SUM(O8+R8) -> 38.4 | V8: =SUM(P8+T8) -> 33.4 | W8: =SUM(V8/U8)*100 -> 86.979167 | X8: =J8+U8 -> 1627.6 | Y8: =K8+V8 -> 1600.4 | Z8: =Y8/X8*100 -> 98.328828 | AA8: =D8+O8 -> 871 | AB8: =E8+P8 -> 869 | AC8: =AB8/AA8*100 -> 99.770379
A9: Восходское | B9: 277 | C9: 265 | F9: =SUM(B9-D9) -> 277 | G9: =SUM(F9*0.6) -> 166.2 | H9: =SUM(C9-E9) -> 265 | I9: =SUM(H9*0.6) -> 159 | J9: =SUM(D9+G9) -> 166.2 | K9: =SUM(E9+I9) -> 159 | L9: =SUM(K9/J9)*100 -> 95.66787 | M9: 10 | N9: 7 | O9: 2 | P9: 2 | Q9: =SUM(M9-O9) -> 8 | R9: =SUM(Q9*0.6) -> 4.8 | S9: =SUM(N9-P9) -> 5 | T9: =SUM(S9*0.6) -> 3 | U9: =SUM(O9+R9) -> 6.8 | V9: =SUM(P9+T9) -> 5 | W9: =SUM(V9/U9)*100 -> 73.529412 | X9: =J9+U9 -> 173 | Y9: =K9+V9 -> 164 | Z9: =Y9/X9*100 -> 94.797688 | AA9: =D9+O9 -> 2 | AB9: =E9+P9 -> 2 | AC9: =AB9/AA9*100 -> 100
A10: Инг.Пятинское | M10: 52 | N10: 58 | O10: 11 | P10: 11 | Q10: =SUM(M10-O10) -> 41 | R10: =SUM(Q10*0.6) -> 24.6 | S10: =SUM(N10-P10) -> 47 | T10: =SUM(S10*0.6) -> 28.2 | U10: =SUM(O10+R10) -> 35.6 | V10: =SUM(P10+T10) -> 39.2 | W10: =SUM(V10/U10)*100 -> 110.11236 | X10: =J10+U10 -> 35.6 | Y10: =K10+V10 -> 39.2 | Z10: =Y10/X10*100 -> 110.11236 | AA10: =D10+O10 -> 11 | AB10: =E10+P10 -> 11 | AC10: =AB10/AA10*100 -> 100
A11: Конопатское | B11: 1855 | C11: 1840 | D11: 639 | E11: 639 | F11: =SUM(B11-D11) -> 1216 | G11: =SUM(F11*0.6) -> 729.6 | H11: =SUM(C11-E11) -> 1201 | I11: =SUM(H11*0.6) -> 720.6 | J11: =SUM(D11+G11) -> 1368.6 | K11: =SUM(E11+I11) -> 1359.6 | L11: =SUM(K11/J11)*100 -> 99.342394 | M11: 40 | N11: 53 | O11: 12 | P11: 12 | Q11: =SUM(M11-O11) -> 28 | R11: =SUM(Q11*0.6) -> 16.8 | S11: =SUM(N11-P11) -> 41 | T11: =SUM(S11*0.6) -> 24.6 | U11: =SUM(O11+R11) -> 28.8 | V11: =SUM(P11+T11) -> 36.6 | W11: =SUM(V11/U11)*100 -> 127.08333 | X11: =J11+U11 -> 1397.4 | Y11: =K11+V11 -> 1396.2 | Z11: =Y11/X11*100 -> 99.914126 | AA11: =D11+O11 -> 651 | AB11: =E11+P11 -> 651 | AC11: =AB11/AA11*100 -> 100
A12: Лемдяйское | M12: 61 | N12: 61 | O12: 16 | P12: 16 | Q12: =SUM(M12-O12) -> 45 | R12: =SUM(Q12*0.6) -> 27 | S12: =SUM(N12-P12) -> 45 | T12: =SUM(S12*0.6) -> 27 | U12: =SUM(O12+R12) -> 43 | V12: =SUM(P12+T12) -> 43 | W12: =SUM(V12/U12)*100 -> 100 | X12: =J12+U12 -> 43 | Y12: =K12+V12 -> 43 | Z12: =Y12/X12*100 -> 100 | AA12: =D12+O12 -> 16 | AB12: =E12+P12 -> 16 | AC12: =AB12/AA12*100 -> 100
A13: Леткинское | F13: =SUM(B13-D13) -> 0 | G13: =SUM(F13*0.6) -> 0 | H13: =SUM(C13-E13) -> 0 | I13: =SUM(H13*0.6) -> 0 | J13: =SUM(D13+G13) -> 0 | K13: =SUM(E13+I13) -> 0 | M13: 57 | N13: 46 | O13: 17 | P13: 14 | Q13: =SUM(M13-O13) -> 40 | R13: =SUM(Q13*0.6) -> 24 | S13: =SUM(N13-P13) -> 32 | T13: =SUM(S13*0.6) -> 19.2 | U13: =SUM(O13+R13) -> 41 | V13: =SUM(P13+T13) -> 33.2 | W13: =SUM(V13/U13)*100 -> 80.97561 | X13: =J13+U13 -> 41 | Y13: =K13+V13 -> 33.2 | Z13: =Y13/X13*100 -> 80.97561 | AA13: =D13+O13 -> 17 | AB13: =E13+P13 -> 14 | AC13: =AB13/AA13*100 -> 82.352941
A14: Мельцанское | B14: 1190 | C14: 1199 | D14: 350 | E14: 350 | F14: =SUM(B14-D14) -> 840 | G14: =SUM(F14*0.6) -> 504 | H14: =SUM(C14-E14) -> 849 | I14: =SUM(H14*0.6) -> 509.4 | J14: =SUM(D14+G14) -> 854 | K14: =SUM(E14+I14) -> 859.4 | L14: =SUM(K14/J14)*100 -> 100.63232 | M14: 63 | N14: 72 | O14: 24 | P14: 27 | Q14: =SUM(M14-O14) -> 39 | R14: =SUM(Q14*0.6) -> 23.4 | S14: =SUM(N14-P14) -> 45 | T14: =SUM(S14*0.6) -> 27 | U14: =SUM(O14+R14) -> 47.4 | V14: =SUM(P14+T14) -> 54 | W14: =SUM(V14/U14)*100 -> 113.92405 | X14: =J14+U14 -> 901.4 | Y14: =K14+V14 -> 913.4 | Z14: =Y14/X14*100 -> 101.33126 | AA14: =D14+O14 -> 374 | AB14: =E14+P14 -> 377 | AC14: =AB14/AA14*100 -> 100.80214
A15: Новоакшинское | B15: 1871 | C15: 1823 | D15: 701 | E15: 657 | F15: =SUM(B15-D15) -> 1170 | G15: =SUM(F15*0.6) -> 702 | H15: =SUM(C15-E15) -> 1166 | I15: =SUM(H15*0.6) -> 699.6 | J15: =SUM(D15+G15) -> 1403 | K15: =SUM(E15+I15) -> 1356.6 | L15: =SUM(K15/J15)*100 -> 96.692801 | M15: 61 | N15: 46 | O15: 35 | P15: 27 | Q15: =SUM(M15-O15) -> 26 | R15: =SUM(Q15*0.6) -> 15.6 | S15: =SUM(N15-P15) -> 19 | T15: =SUM(S15*0.6) -> 11.4 | U15: =SUM(O15+R15) -> 50.6 | V15: =SUM(P15+T15) -> 38.4 | W15: =SUM(V15/U15)*100 -> 75.889328 | X15: =J15+U15 -> 1453.6 | Y15: =K15+V15 -> 1395 | Z15: =Y15/X15*100 -> 95.96863 | AA15: =D15+O15 -> 736 | AB15: =E15+P15 -> 684 | AC15: =AB15/AA15*100 -> 92.934783
A16: Н.Александровское | M16: 18 | N16: 15 | O16: 11 | P16: 6 | Q16: =SUM(M16-O16) -> 7 | R16: =SUM(Q16*0.6) -> 4.2 | S16: =SUM(N16-P16) -> 9 | T16: =SUM(S16*0.6) -> 5.4 | U16: =SUM(O16+R16) -> 15.2 | V16: =SUM(P16+T16) -> 11.4 | W16: =SUM(V16/U16)*100 -> 75 | X16: =J16+U16 -> 15.2 | Y16: =K16+V16 -> 11.4 | Z16: =Y16/X16*100 -> 75 | AA16: =D16+O16 -> 11 | AB16: =E16+P16 -> 6 | AC16: =AB16/AA16*100 -> 54.545455
A17: Новотроицкое | B17: 3754 | C17: 3754 | D17: 1000 | E17: 1000 | F17: =SUM(B17-D17) -> 2754 | G17: =SUM(F17*0.6) -> 1652.4 | H17: =SUM(C17-E17) -> 2754 | I17: =SUM(H17*0.6) -> 1652.4 | J17: =SUM(D17+G17) -> 2652.4 | K17: =SUM(E17+I17) -> 2652.4 | L17: =SUM(K17/J17)*100 -> 100 | M17: 38 | N17: 41 | O17: 4 | P17: 4 | Q17: =SUM(M17-O17) -> 34 | R17: =SUM(Q17*0.6) -> 20.4 | S17: =SUM(N17-P17) -> 37 | T17: =SUM(S17*0.6) -> 22.2 | U17: =SUM(O17+R17) -> 24.4 | V17: =SUM(P17+T17) -> 26.2 | W17: =SUM(V17/U17)*100 -> 107.37705 | X17: =J17+U17 -> 2676.8 | Y17: =K17+V17 -> 2678.6 | Z17: =Y17/X17*100 -> 100.06724 | AA17: =D17+O17 -> 1004 | AB17: =E17+P17 -> 1004 | AC17: =AB17/AA17*100 -> 100
A18: Н.Федоровское | B18: 735 | C18: 739 | D18: 237 | E18: 237 | F18: =SUM(B18-D18) -> 498 | G18: =SUM(F18*0.6) -> 298.8 | H18: =SUM(C18-E18) -> 502 | I18: =SUM(H18*0.6) -> 301.2 | J18: =SUM(D18+G18) -> 535.8 | K18: =SUM(E18+I18) -> 538.2 | L18: =SUM(K18/J18)*100 -> 100.44793 | M18: 61 | N18: 46 | O18: 37 | P18: 27 | Q18: =SUM(M18-O18) -> 24 | R18: =SUM(Q18*0.6) -> 14.4 | S18: =SUM(N18-P18) -> 19 | T18: =SUM(S18*0.6) -> 11.4 | U18: =SUM(O18+R18) -> 51.4 | V18: =SUM(P18+T18) -> 38.4 | W18: =SUM(V18/U18)*100 -> 74.708171 | X18: =J18+U18 -> 587.2 | Y18: =K18+V18 -> 576.6 | Z18: =Y18/X18*100 -> 98.194823 | AA18: =D18+O18 -> 274 | AB18: =E18+P18 -> 264 | AC18: =AB18/AA18*100 -> 96.350365
A19: Рязановское | B19: 84 | C19: 72 | F19: =SUM(B19-D19) -> 84 | G19: =SUM(F19*0.6) -> 50.4 | H19: =SUM(C19-E19) -> 72 | I19: =SUM(H19*0.6) -> 43.2 | J19: =SUM(D19+G19) -> 50.4 | K19: =SUM(E19+I19) -> 43.2 | L19: =SUM(K19/J19)*100 -> 85.714286 | M19: 30 | N19: 23 | O19: 15 | P19: 11 | Q19: =SUM(M19-O19) -> 15 | R19: =SUM(Q19*0.6) -> 9 | S19: =SUM(N19-P19) -> 12 | T19: =SUM(S19*0.6) -> 7.2 | U19: =SUM(O19+R19) -> 24 | V19: =SUM(P19+T19) -> 18.2 | W19: =SUM(V19/U19)*100 -> 75.833333 | X19: =J19+U19 -> 74.4 | Y19: =K19+V19 -> 61.4 | Z19: =Y19/X19*100 -> 82.526882 | AA19: =D19+O19 -> 15 | AB19: =E19+P19 -> 11 | AC19: =AB19/AA19*100 -> 73.333333
A20: Ст.Теризморгское | B20: 1164 | C20: 1164 | D20: 758 | E20: 758 | F20: =SUM(B20-D20) -> 406 | G20: =SUM(F20*0.6) -> 243.6 | H20: =SUM(C20-E20) -> 406 | I20: =SUM(H20*0.6) -> 243.6 | J20: =SUM(D20+G20) -> 1001.6 | K20: =SUM(E20+I20) -> 1001.6 | L20: =SUM(K20/J20)*100 -> 100 | M20: 60 | N20: 43 | O20: 27 | P20: 22 | Q20: =SUM(M20-O20) -> 33 | R20: =SUM(Q20*0.6) -> 19.8 | S20: =SUM(N20-P20) -> 21 | T20: =SUM(S20*0.6) -> 12.6 | U20: =SUM(O20+R20) -> 46.8 | V20: =SUM(P20+T20) -> 34.6 | W20: =SUM(V20/U20)*100 -> 73.931624 | X20: =J20+U20 -> 1048.4 | Y20: =K20+V20 -> 1036.2 | Z20: =Y20/X20*100 -> 98.836322 | AA20: =D20+O20 -> 785 | AB20: =E20+P20 -> 780 | AC20: =AB20/AA20*100 -> 99.363057
A21: Ст.Федоровское | B21: 959 | C21: 990 | D21: 311 | E21: 311 | F21: =SUM(B21-D21) -> 648 | G21: =SUM(F21*0.6) -> 388.8 | H21: =SUM(C21-E21) -> 679 | I21: =SUM(H21*0.6) -> 407.4 | J21: =SUM(D21+G21) -> 699.8 | K21: =SUM(E21+I21) -> 718.4 | L21: =SUM(K21/J21)*100 -> 102.6579 | M21: 21 | N21: 21 | O21: 11 | P21: 10 | Q21: =SUM(M21-O21) -> 10 | R21: =SUM(Q21*0.6) -> 6 | S21: =SUM(N21-P21) -> 11 | T21: =SUM(S21*0.6) -> 6.6 | U21: =SUM(O21+R21) -> 17 | V21: =SUM(P21+T21) -> 16.6 | W21: =SUM(V21/U21)*100 -> 97.647059 | X21: =J21+U21 -> 716.8 | Y21: =K21+V21 -> 735 | Z21: =Y21/X21*100 -> 102.53906 | AA21: =D21+O21 -> 322 | AB21: =E21+P21 -> 321 | AC21: =AB21/AA21*100 -> 99.689441
A22: Ст.Шайговское | B22: 22 | C22: 23 | D22: 5 | E22: 6 | F22: =SUM(B22-D22) -> 17 | G22: =SUM(F22*0.6) -> 10.2 | H22: =SUM(C22-E22) -> 17 | I22: =SUM(H22*0.6) -> 10.2 | J22: =SUM(D22+G22) -> 15.2 | K22: =SUM(E22+I22) -> 16.2 | L22: =SUM(K22/J22)*100 -> 106.57895 | M22: 142 | N22: 144 | O22: 41 | P22: 41 | Q22: =SUM(M22-O22) -> 101 | R22: =SUM(Q22*0.6) -> 60.6 | S22: =SUM(N22-P22) -> 103 | T22: =SUM(S22*0.6) -> 61.8 | U22: =SUM(O22+R22) -> 101.6 | V22: =SUM(P22+T22) -> 102.8 | W22: =SUM(V22/U22)*100 -> 101.1811 | X22: =J22+U22 -> 116.8 | Y22: =K22+V22 -> 119 | Z22: =Y22/X22*100 -> 101.88356 | AA22: =D22+O22 -> 46 | AB22: =E22+P22 -> 47 | AC22: =AB22/AA22*100 -> 102.17391
A23: Шигонское | B23: 514 | C23: 224 | D23: 150 | E23: 90 | F23: =SUM(B23-D23) -> 364 | G23: =SUM(F23*0.6) -> 218.4 | H23: =SUM(C23-E23) -> 134 | I23: =SUM(H23*0.6) -> 80.4 | J23: =SUM(D23+G23) -> 368.4 | K23: =SUM(E23+I23) -> 170.4 | L23: =SUM(K23/J23)*100 -> 46.254072 | M23: 26 | N23: 26 | O23: 10 | P23: 10 | Q23: =SUM(M23-O23) -> 16 | R23: =SUM(Q23*0.6) -> 9.6 | S23: =SUM(N23-P23) -> 16 | T23: =SUM(S23*0.6) -> 9.6 | U23: =SUM(O23+R23) -> 19.6 | V23: =SUM(P23+T23) -> 19.6 | W23: =SUM(V23/U23)*100 -> 100 | X23: =J23+U23 -> 388 | Y23: =K23+V23 -> 190 | Z23: =Y23/X23*100 -> 48.969072 | AA23: =D23+O23 -> 160 | AB23: =E23+P23 -> 100 | AC23: =AB23/AA23*100 -> 62.5
A24: Шуварское | B24: 92 | C24: 92 | F24: =SUM(B24-D24) -> 92 | G24: =SUM(F24*0.6) -> 55.2 | H24: =SUM(C24-E24) -> 92 | I24: =SUM(H24*0.6) -> 55.2 | J24: =SUM(D24+G24) -> 55.2 | K24: =SUM(E24+I24) -> 55.2 | L24: =SUM(K24/J24)*100 -> 100 | M24: 43 | N24: 52 | O24: 13 | P24: 12 | Q24: =SUM(M24-O24) -> 30 | R24: =SUM(Q24*0.6) -> 18 | S24: =SUM(N24-P24) -> 40 | T24: =SUM(S24*0.6) -> 24 | U24: =SUM(O24+R24) -> 31 | V24: =SUM(P24+T24) -> 36 | W24: =SUM(V24/U24)*100 -> 116.12903 | X24: =J24+U24 -> 86.2 | Y24: =K24+V24 -> 91.2 | Z24: =Y24/X24*100 -> 105.80046 | AA24: =D24+O24 -> 13 | AB24: =E24+P24 -> 12 | AC24: =AB24/AA24*100 -> 92.307692
A25: Итого | B25: =SUM(B8:B24) -> 14599 | C25: =SUM(C8:C24) -> 14230 | D25: =SUM(D8:D24) -> 5001 | E25: =SUM(E8:E24) -> 4898 | F25: =SUM(F8:F24) -> 9598 | G25: =SUM(F25*0.6) -> 5758.8 | H25: =SUM(H8:H24) -> 9332 | I25: =SUM(H25*0.6) -> 5599.2 | J25: =SUM(D25+G25) -> 10759.8 | K25: =SUM(E25+I25) -> 10497.2 | L25: =SUM(K25/J25)*100 -> 97.559434 | M25: =SUM(M8:M24) -> 833 | N25: =SUM(N8:N24) -> 797 | O25: =SUM(O8:O24) -> 307 | P25: =SUM(P8:P24) -> 271 | Q25: =SUM(Q8:Q24) -> 526 | R25: =SUM(Q25*0.6) -> 315.6 | S25: =SUM(S8:S24) -> 526 | T25: =SUM(S25*0.6) -> 315.6 | U25: =SUM(O25+R25) -> 622.6 | V25: =SUM(P25+T25) -> 586.6 | W25: =SUM(V25/U25)*100 -> 94.217796 | X25: =J25+U25 -> 11382.4 | Y25: =K25+V25 -> 11083.8 | Z25: =Y25/X25*100 -> 97.376652 | AA25: =D25+O25 -> 5308 | AB25: =E25+P25 -> 5169 | AC25: =AB25/AA25*100 -> 97.381311

Sheet Лист1
