Workbook

Sheet Свод
A1: ОСНОВНЫЕ ПОКАЗАТЕЛИ
A2: СОЦИАЛЬНО - ЭКОНОМИЧЕСКОГО РАЗВИТИЯ СТАРОШАЙГОВСКОГО МУНИЦИПАЛЬНОГО РАЙОНА ЗА ЯНВАРЬ-СЕНТЯБРЬ 2018 ГОДА | S2: пред месяц
A3: Наименование показателя | B3: Ед . изм. | C3: Факт 2017 | D3: Прогноз 2018 | E3: 2018 в % к 2017 | F3: Прогноз с начала года | G3: Факт с начала года | H3: % вып-я с нач. года | I3: % вып-я годового прогноза | J3: Факт 2017 г. | K3: 2018 в % к 2017 | L3: в т.ч. сентябрь | R3: Прогноз | S3: Факт | T3: Факт
L4: Прогноз | M4: Факт | N4: % вып-я | O4: факт 2017г. | P4: 2018 в % к 2017 | R4: с нач.года | S4: с нач.года | T4: 2017
A5: Объем отгруж. продукции -всего | B5: т.руб. | C5: 8240.2 | D5: 850 | E5: =D5/C5*100 -> 10.315284 | F5: =L5+R5 -> 850 | G5: 0 | H5: =SUM(G5/F5)*100 -> 0 | I5: =G5/D5*100 -> 0 | J5: =O5+T5 -> 5969.1 | K5: =SUM(G5/J5)*100 -> 0 | L5: 0 | M5: 0 | N5: 0 | O5: 702.1 | P5: =SUM(M5/O5)*100 -> 0 | Q5: Объем отгруженной продукции | R5: 850 | S5: 0 | T5: 5267
A7: Закуп молока от СХПК | B7: тонн | C7: 31874.6 | D7: 33450 | E7: =D7/C7*100 -> 104.94249 | F7: =L7+R7 -> 25439 | G7: =M7+S7 -> 26095.4 | H7: =SUM(G7/F7)*100 -> 102.58029 | I7: =G7/D7*100 -> 78.013154 | J7: =O7+T7 -> 23926.2 | K7: =SUM(G7/J7)*100 -> 109.06621 | L7: 2680 | M7: 2485.2 | N7: =SUM(M7/L7)*100 -> 92.731343 | O7: 2500.6 | P7: =SUM(M7/O7)*100 -> 99.384148 | Q7: Закуп молока от СХПК | R7: 22759 | S7: 23610.2 | T7: 21425.6
A9: Закуп мяса от СХПК | B9: тонн | C9: 517.7 | D9: 550 | E9: =D9/C9*100 -> 106.23913 | F9: =L9+R9 -> 494 | G9: =M9+S9 -> 532.1 | H9: =SUM(G9/F9)*100 -> 107.71255 | I9: =G9/D9*100 -> 96.745455 | J9: =O9+T9 -> 338.8 | K9: =SUM(G9/J9)*100 -> 157.05431 | L9: 46 | M9: 28.4 | N9: =SUM(M9/L9)*100 -> 61.73913 | O9: 33.2 | P9: =SUM(M9/O9)*100 -> 85.542169 | Q9: Закуп мяса от СХПК | R9: 448 | S9: 503.7 | T9: 305.6
A11: Объем инвестиций за исключением бюджетных средств | B11: тыс.руб | C11: 108215 | D11: 95840 | E11: =D11/C11*100 -> 88.564432 | F11: 76840 | G11: 90438 | H11: =SUM(G11/F11)*100 -> 117.69651 | I11: =G11/D11*100 -> 94.363523 | J11: 80537 | K11: =SUM(G11/J11)*100 -> 112.29373 | M11: 32400 | R11: 53840 | S11: 58038 | T11: 48549
A13: Розничный товарооборот | B13: т.руб | C13: 1136275.8 | D13: 1200778 | E13: =D13/C13*100 -> 105.67663 | F13: =L13+R13 -> 853170 | G13: =M13+S13 -> 866570.6 | H13: =SUM(G13/F13)*100 -> 101.57068 | I13: =G13/D13*100 -> 72.167428 | J13: =O13+T13 -> 800926 | K13: =SUM(G13/J13)*100 -> 108.19609 | L13: 108194 | M13: 108210 | N13: =SUM(M13/L13)*100 -> 100.01479 | O13: 101503 | P13: =SUM(M13/O13)*100 -> 106.60769 | Q13: Объем розничного товарооборота | R13: 744976 | S13: 758360.6 | T13: 699423
A15: Реализация водки производства РМ | B15: дал. | C15: 7340 | D15: 7209 | E15: =D15/C15*100 -> 98.215259 | F15: =L15+R15 -> 5297 | G15: =M15+S15 -> 5286.5 | H15: =SUM(G15/F15)*100 -> 99.801775 | I15: =G15/D15*100 -> 73.331946 | J15: =O15+T15 -> 5394.8 | K15: =SUM(G15/J15)*100 -> 97.992511 | L15: 678 | M15: 611 | N15: =SUM(M15/L15)*100 -> 90.117994 | O15: 660.4 | P15: =SUM(M15/O15)*100 -> 92.519685 | Q15: Реализация водки пр-ва РМ | R15: 4619 | S15: 4675.5 | T15: 4734.4
A17: Собствен.доходы | B17: т.руб | C17: 65950.4 | D17: 61735.6 | E17: =D17/C17*100 -> 93.609137 | F17: 42440.5 | G17: =M17+S17 -> 43622.2 | H17: =SUM(G17/F17)*100 -> 102.78437 | I17: =G17/D17*100 -> 70.659717 | J17: =O17+T17 -> 46257.1 | K17: =SUM(G17/J17)*100 -> 94.303793 | L17: 4362.2 | M17: 5116.5 | N17: =SUM(M17/L17)*100 -> 117.29173 | O17: 3765.1 | P17: =SUM(M17/O17)*100 -> 135.8928 | Q17: Собствен.доходы | R17: 42440.5 | S17: 38505.7 | T17: 42492
A19: Ввод жилья | B19: кв.м. | C19: 5356 | D19: 5200 | E19: =D19/C19*100 -> 97.087379 | F19: 3600 | G19: =M19+S19 -> 3696.7 | H19: =SUM(G19/F19)*100 -> 102.68611 | I19: =G19/D19*100 -> 71.090385 | J19: =O19+T19 -> 3533.7 | K19: =SUM(G19/J19)*100 -> 104.61273 | M19: 695.6 | O19: 1294.7 | P19: =SUM(M19/O19)*100 -> 53.726732 | Q19: Ввод жилья | S19: 3001.1 | T19: 2239
A21: Условное поголовье КРС в общ.секторе | B21: усл. гол | C21: 10698 | G21: 10497.2 | H21: =G21/C21*100 -> 98.123014 | J21: 10759.8 | K21: =SUM(G21/J21)*100 -> 97.559434 | T21: 10856.4
A22: Темп роста зар/пл | B22: % | C22: 110.6 | D22: 109 | E22: =D22/C22*100 -> 98.553345 | F22: 109 | G22: 109.1 | H22: =SUM(G22/F22)*100 -> 100.09174 | J22: 105.6 | K22: =SUM(G22/J22)*100 -> 103.31439 | Q22: Темп роста заработной платы | T22: 107.3
A23: Увеличение числа субъектов МСП по сравнению с уровнем прош года | B23: % | C23: 87.8 | D23: 101 | E23: =D23/C23*100 -> 115.03417 | F23: 101 | G23: 97.6 | T23: СМП | U23: на 01.01.2017 267 суб (83); на 01.01.18 (239 субъек, в т.ч. микро 61); 1 кв 17 года 265. 1 кв операт 250,( 2 кв. 2017-260, 2 кв. 2018 179+61=240) | W23: 265 1 кв 250 1 кв 2018 г
A24: Отношение численности безработных граждан,зарегистрированных в органах службы занятости на конец отчетного периода к концу предыдущего периода | B24: % | C24: 97.9 | D24: 100 | E24: =D24/C24*100 -> 102.14505 | F24: 106.4 | G24: 87 | J24: 82.4 | T24: безр | U24: 48 на 01.01.17; 45 на 01.04.17.
A25: Начальник управления перспективного планирования с/х и комплексных программ развития района С.И. Макарова | U25: на 01.07.17-34; | V25: 28 на 01.10.17;
U26: на 01.01.18 -47 без. На 01.04.18 56 безр
U27: на 01.07.18 -46
U28: на 01.10.18- 40

Sheet Месяц
A1: Выполнение показателей социально-экономического развития Старошайговского района за сентябрь 2018 года
A2: Наименование сельского поселения | B2: Закуп МЯСА от СПК , тонн | F2: Закуп МОЛОКА от СПК , тонн | J2: Розничный товарооборот , т.руб. | O2: Реализация водки пр-ва РМ, дал. | S2: Численность населения на 1.01.18 | U2: сентябрь 2017 года
B3: Прогноз сентябрь | C3: Факт сентябрь | D3: %вып. прогноза | E3: 2018 в % к 2017 | F3: Прогноз сентябрь | G3: Факт сентябрь | H3: %вып. прогноза | I3: 2018 в % к 2017 | J3: Прогноз сентябрь | K3: Факт сентябрь | L3: %вып. прогноза | M3: Т/об.на 1 жителя, руб. | N3: 2018 в % к 2017 | O3: Прогноз сентябрь | P3: Факт сентябрь | Q3: %вып. прогноза | R3: 2018 в % к 2017 | U3: мясо | V3: молоко | W3: Т/оборот | X3: Реализ.
U4: СПК | V4: СПК | X4: водки
A5: Богдановское | B5: 1 | F5: 300 | G5: 318.1 | H5: =SUM(G5/F5)*100 -> 106.03333 | I5: =SUM(G5/V5)*100 -> 122.77113 | J5: 4150 | K5: 3055.2 | L5: =SUM(K5/J5)*100 -> 73.619277 | M5: =SUM(K5/S5)*1000 -> 4395.9712 | N5: =SUM(K5/W5)*100 -> 80.435985 | O5: 52 | P5: 65 | Q5: =P5/O5*100 -> 125 | R5: =P5/X5*100 -> 122.64151 | S5: 695 | T5: Богдановский | U5: 0.9 | V5: 259.1 | W5: 3798.3 | X5: 53
A6: Восходское | J6: 412 | K6: 430.7 | L6: =SUM(K6/J6)*100 -> 104.53883 | M6: =SUM(K6/S6)*1000 -> 1864.5022 | N6: =SUM(K6/W6)*100 -> 109.42581 | O6: 10 | P6: 0 | Q6: =P6/O6*100 -> 0 | S6: 231 | T6: Восходский | U6: 1.8 | W6: 393.6 | X6: 0
A7: Инг.Пятинское | J7: 358 | K7: 305.9 | L7: =SUM(K7/J7)*100 -> 85.446927 | M7: =SUM(K7/S7)*1000 -> 1470.6731 | N7: =SUM(K7/W7)*100 -> 89.60164 | O7: 9 | P7: 0 | Q7: =P7/O7*100 -> 0 | R7: =P7/X7*100 -> 0 | S7: 208 | T7: Инг.Пятинский | W7: 341.4 | X7: 11
A8: Конопатское | B8: 5 | C8: 0.7 | D8: =SUM(C8/B8)*100 -> 14 | F8: 250 | G8: 250.5 | H8: =SUM(G8/F8)*100 -> 100.2 | I8: =SUM(G8/V8)*100 -> 110.79169 | J8: 1900 | K8: 1017 | L8: =SUM(K8/J8)*100 -> 53.526316 | M8: =SUM(K8/S8)*1000 -> 3780.6691 | N8: =SUM(K8/W8)*100 -> 58.515535 | O8: 10 | P8: 0 | Q8: =P8/O8*100 -> 0 | R8: =P8/X8*100 -> 0 | S8: 269 | T8: Конопатский | U8: 0.9 | V8: 226.1 | W8: 1738 | X8: 7
A9: Лемдяйское | B9: 5 | D9: =SUM(C9/B9)*100 -> 0 | E9: =SUM(C9/U9)*100 -> 0 | J9: 720 | K9: 566 | L9: =SUM(K9/J9)*100 -> 78.611111 | M9: =SUM(K9/S9)*1000 -> 1030.9654 | N9: =SUM(K9/W9)*100 -> 82.339249 | O9: 16 | P9: 0 | Q9: =P9/O9*100 -> 0 | R9: =P9/X9*100 -> 0 | S9: 549 | T9: Лемдяйский | U9: 7 | W9: 687.4 | X9: 10
A10: Леткинское | J10: 1340 | K10: 900 | L10: =SUM(K10/J10)*100 -> 67.164179 | M10: =SUM(K10/S10)*1000 -> 2571.4286 | N10: =SUM(K10/W10)*100 -> 70.372977 | O10: 14 | P10: 15 | Q10: =P10/O10*100 -> 107.14286 | R10: =P10/X10*100 -> 93.75 | S10: 350 | T10: Леткинский | W10: 1278.9 | X10: 16
A11: Мельцанское | B11: 1 | F11: 160 | G11: 156.7 | H11: =SUM(G11/F11)*100 -> 97.9375 | I11: =SUM(G11/V11)*100 -> 102.4183 | J11: 3950 | K11: 3951.4 | L11: =SUM(K11/J11)*100 -> 100.03544 | M11: =SUM(K11/S11)*1000 -> 4951.6291 | N11: =SUM(K11/W11)*100 -> 109.09442 | O11: 34 | P11: 55 | Q11: =P11/O11*100 -> 161.76471 | R11: =P11/X11*100 -> 211.53846 | S11: 798 | T11: Мельцанский | U11: 0.4 | V11: 153 | W11: 3622 | X11: 26
A12: Новоакшинское | B12: 1 | F12: 335 | G12: 269.4 | H12: =SUM(G12/F12)*100 -> 80.41791 | I12: =SUM(G12/V12)*100 -> 85.091598 | J12: 6610 | K12: 6130.9 | L12: =SUM(K12/J12)*100 -> 92.751891 | M12: =SUM(K12/S12)*1000 -> 6628 | N12: =SUM(K12/W12)*100 -> 100.90355 | O12: 38 | P12: 42 | Q12: =P12/O12*100 -> 110.52632 | R12: =P12/X12*100 -> 100 | S12: 925 | T12: Новоакшинский | U12: 0.4 | V12: 316.6 | W12: 6076 | X12: 42
A13: Н.Александр | J13: 324 | K13: 324 | L13: =SUM(K13/J13)*100 -> 100 | M13: =SUM(K13/S13)*1000 -> 1333.3333 | N13: =SUM(K13/W13)*100 -> 104.61737 | O13: 5 | P13: 0 | Q13: =P13/O13*100 -> 0 | S13: 243 | T13: Н.Александров. | W13: 309.7 | X13: 0
A14: Новотроицкое | B14: 15 | C14: 10.3 | D14: =SUM(C14/B14)*100 -> 68.666667 | E14: =SUM(C14/U14)*100 -> 71.527778 | F14: 650 | G14: 664.4 | H14: =SUM(G14/F14)*100 -> 102.21538 | I14: =SUM(G14/V14)*100 -> 102.54669 | J14: 11350 | K14: 9972.1 | L14: =SUM(K14/J14)*100 -> 87.859912 | M14: =SUM(K14/S14)*1000 -> 19177.115 | N14: =SUM(K14/W14)*100 -> 95.761271 | O14: 42 | P14: 30 | Q14: =P14/O14*100 -> 71.428571 | R14: =P14/X14*100 -> 73.170732 | S14: 520 | T14: Новотроицкий | U14: 14.4 | V14: 647.9 | W14: 10413.5 | X14: 41
A15: Н.Федоровское | B15: 1 | F15: 55 | G15: 52.1 | H15: =SUM(G15/F15)*100 -> 94.727273 | I15: =SUM(G15/V15)*100 -> 90.924956 | J15: 2000 | K15: 2000 | L15: =SUM(K15/J15)*100 -> 100 | M15: =SUM(K15/S15)*1000 -> 2554.2784 | N15: =SUM(K15/W15)*100 -> 104.71204 | O15: 23 | P15: 0 | Q15: =P15/O15*100 -> 0 | R15: =P15/X15*100 -> 0 | S15: 783 | T15: Н.Федоровский. | U15: 0.7 | V15: 57.3 | W15: 1910 | X15: 19
A16: Рязановское | J16: 325 | K16: 325 | L16: =SUM(K16/J16)*100 -> 100 | M16: =SUM(K16/S16)*1000 -> 1846.5909 | N16: =SUM(K16/W16)*100 -> 104.83871 | O16: 7 | P16: 7 | Q16: =P16/O16*100 -> 100 | R16: =P16/X16*100 -> 87.5 | S16: 176 | T16: Рязановский | U16: 5.7 | W16: 310 | X16: 8
A17: Ст.Теризморгское | B17: 17 | C17: 17.4 | D17: =SUM(C17/B17)*100 -> 102.35294 | E17: =SUM(C17/U17)*100 -> 17400 | F17: 630 | G17: 578.5 | H17: =SUM(G17/F17)*100 -> 91.825397 | I17: =SUM(G17/V17)*100 -> 99.484093 | J17: 1340 | K17: 1340.8 | L17: =SUM(K17/J17)*100 -> 100.0597 | M17: =SUM(K17/S17)*1000 -> 1926.4368 | N17: =SUM(K17/W17)*100 -> 108.84884 | O17: 31 | P17: 31 | Q17: =P17/O17*100 -> 100 | R17: =P17/X17*100 -> 93.939394 | S17: 696 | T17: Ст.Теризморгск. | U17: 0.1 | V17: 581.5 | W17: 1231.8 | X17: 33
A18: Ст.Федоровское | C18: 0 | F18: 200 | G18: 195.5 | H18: =SUM(G18/F18)*100 -> 97.75 | I18: =SUM(G18/V18)*100 -> 108.13053 | J18: 1140 | K18: 870 | L18: =SUM(K18/J18)*100 -> 76.315789 | M18: =SUM(K18/S18)*1000 -> 2500 | N18: =SUM(K18/W18)*100 -> 82.857143 | O18: 11 | P18: 16 | Q18: =P18/O18*100 -> 145.45455 | R18: =P18/X18*100 -> 84.210526 | S18: 348 | T18: Ст.Федоровский | U18: 0.5 | V18: 180.8 | W18: 1050 | X18: 19
A19: Ст.Шайговское | J19: 70873 | K19: 75667.8 | L19: =SUM(K19/J19)*100 -> 106.76534 | M19: =SUM(K19/S19)*1000 -> 16878.831 | N19: =SUM(K19/W19)*100 -> 112.9328 | O19: 350 | P19: 350 | Q19: =P19/O19*100 -> 100 | R19: =P19/X19*100 -> 94.238018 | S19: 4483 | T19: Ст.Шайговский | W19: 67002.5 | X19: 371.4
A20: Шигонское | C20: 0 | F20: 100 | H20: =SUM(G20/F20)*100 -> 0 | I20: =SUM(G20/V20)*100 -> 0 | J20: 995 | K20: 945 | L20: =SUM(K20/J20)*100 -> 94.974874 | M20: =SUM(K20/S20)*1000 -> 2787.6106 | N20: =SUM(K20/W20)*100 -> 99.369085 | O20: 15 | P20: 0 | Q20: =P20/O20*100 -> 0 | R20: =P20/X20*100 -> 0 | S20: 339 | T20: Шигонский | U20: 0.4 | V20: 78.3 | W20: 951 | X20: 3
A21: Шуварское | J21: 407 | K21: 408.2 | L21: =SUM(K21/J21)*100 -> 100.29484 | M21: =SUM(K21/S21)*1000 -> 1432.2807 | N21: =SUM(K21/W21)*100 -> 104.96272 | O21: 11 | P21: 0 | Q21: =P21/O21*100 -> 0 | R21: =P21/X21*100 -> 0 | S21: 285 | T21: Шуварский | W21: 388.9 | X21: 1
A23: В С Е Г О | B23: =SUM(B5:B21) -> 46 | C23: =SUM(C5:C21) -> 28.4 | D23: =SUM(C23/B23)*100 -> 61.73913 | E23: =SUM(C23/U23)*100 -> 85.542169 | F23: =SUM(F5:F21) -> 2680 | G23: =SUM(G5:G21) -> 2485.2 | H23: =SUM(G23/F23)*100 -> 92.731343 | I23: =SUM(G23/V23)*100 -> 99.384148 | J23: =SUM(J5:J21) -> 108194 | K23: =SUM(K5:K21) -> 108210 | L23: =SUM(K23/J23)*100 -> 100.01479 | M23: =SUM(K23/S23)*1000 -> 9094.8058 | N23: =SUM(K23/W23)*100 -> 106.60769 | O23: =SUM(O5:O21) -> 678 | P23: =SUM(P5:P21) -> 611 | Q23: =P23/O23*100 -> 90.117994 | R23: =P23/X23*100 -> 92.519685 | S23: =SUM(S5:S22) -> 11898 | T23: В С Е Г О | U23: =SUM(U5:U21) -> 33.2 | V23: =SUM(V5:V21) -> 2500.6 | W23: =SUM(W5:W21) -> 101503 | X23: =SUM(X5:X21) -> 660.4

Sheet С нач.года 
A1: Выполнение показателей социально-экономического развития Старошайговского района за ЯНВАРЬ-СЕНТЯБРЬ 2018 года | T1: 2017 | X1: 2018 пред месяц
A2: Наименование сельского поселения | B2: Закуп МЯСА от СПК , тонн | F2: Закуп МОЛОКА от СПК , тонн | J2: Розничный товарооборот , т.руб. | O2: Реализация водки пр-ва РМ , дал. | S2: Численность населения на 1.01.18 | T2: прошлый год 2017 январь-сентябрь | X2: Закуп МЯСА от СПК ,тонн | AB2: Закуп МОЛОКА от СПК ,тонн | AF2: Розничный товарооборот ,т.руб. | AK2: Реализация водки пр-ва РМ ,дал.
B3: Прогноз с нач. года | C3: Факт с нач. года | D3: %вып.прогноза | E3: 2018 в % к 2017 | F3: Прогноз с нач. года | G3: Факт с нач. года | H3: %вып.прогноза | I3: 2018 в % к 2017 | J3: Прогноз с нач. года | K3: Факт с нач. года | L3: %вып.прогноза | M3: Т/об.на 1 жителя, руб. | N3: 2018 в % к 2017 | O3: Прогноз с нач. года | P3: Факт с нач. года | Q3: %вып.прогноза | R3: 2018 в % к 2017 | T3: мясо | U3: молоко | V3: Т/оборот | W3: Реализ. водки | X3: Прогноз | Y3: Факт | Z3: %вып. | AA3: 2018 в% | AB3: Прогноз | AC3: Факт | AD3: %вып. | AE3: 2018 в% | AF3: Прогноз | AG3: Факт | AH3: %вып. | AI3: Т/об.на | AJ3: 2018 в% | AK3: Прогноз | AL3: Факт | AM3: %вып. | AN3: 2018 в%
X4: с нач года | Y4: с нач года | AA4: к 2017 | AB4: с нач года | AC4: с нач года | AE4: к 2017 | AF4: с нач года | AG4: с нач года | AI4: 1жит.,руб. | AJ4: к 2017 | AK4: с нач.года | AL4: с нач.года | AN4: к 2017
A5: Богдановское | B5: =X5+Месяц!B5 -> 8 | C5: =Y5+Месяц!C5 -> 2.2 | D5: =SUM(C5/B5)*100 -> 27.5 | E5: =SUM(C5/T5)*100 -> 122.22222 | F5: =AB5+Месяц!F5 -> 3069 | G5: =AC5+Месяц!G5 -> 3341.676 | H5: =SUM(G5/F5)*100 -> 108.88485 | I5: =SUM(G5/U5)*100 -> 118.19319 | J5: =AF5+Месяц!J5 -> 29500 | K5: =AG5+Месяц!K5 -> 25520.1 | L5: =SUM(K5/J5)*100 -> 86.508814 | M5: =SUM(K5/S5)*1000 -> 36719.568 | N5: =SUM(K5/V5)*100 -> 100.94577 | O5: =AK5+Месяц!O5 -> 349 | P5: =AL5+Месяц!P5 -> 488 | Q5: =SUM(P5/O5)*100 -> 139.82808 | R5: =P5/W5*100 -> 117.02638 | S5: 695 | T5: 1.8 | U5: 2827.3 | V5: 25281 | W5: 417 | X5: 7 | Y5: 2.2 | Z5: 31.428571 | AB5: 2769 | AC5: 3023.576 | AD5: 109.19379 | AE5: 117.73133 | AF5: 25350 | AG5: 22464.9 | AH5: 88.618935 | AI5: 32323.597 | AJ5: 104.57205 | AK5: 297 | AL5: 423 | AM5: 142.42424 | AN5: 116.20879
A6: Восходское | F6: =AB6+Месяц!F6 -> 0 | G6: =AC6+Месяц!G6 -> 0 | J6: =AF6+Месяц!J6 -> 3739 | K6: =AG6+Месяц!K6 -> 3670.2 | L6: =SUM(K6/J6)*100 -> 98.159936 | M6: =SUM(K6/S6)*1000 -> 15888.312 | N6: =SUM(K6/V6)*100 -> 104.71327 | O6: =AK6+Месяц!O6 -> 82 | P6: =AL6+Месяц!P6 -> 0 | Q6: =SUM(P6/O6)*100 -> 0 | S6: 231 | T6: 29.3 | V6: 3505 | W6: 0 | AB6: 0 | AC6: 0 | AF6: 3327 | AG6: 3239.5 | AH6: 97.370003 | AI6: 14023.81 | AJ6: 104.11712 | AK6: 72 | AL6: 0 | AM6: 0
A7: Инг.Пятинское | F7: =AB7+Месяц!F7 -> 0 | G7: =AC7+Месяц!G7 -> 0 | J7: =AF7+Месяц!J7 -> 3546 | K7: =AG7+Месяц!K7 -> 3094.1 | L7: =SUM(K7/J7)*100 -> 87.256063 | M7: =SUM(K7/S7)*1000 -> 14875.481 | N7: =SUM(K7/V7)*100 -> 93.103241 | O7: =AK7+Месяц!O7 -> 84 | P7: =AL7+Месяц!P7 -> 77 | Q7: =SUM(P7/O7)*100 -> 91.666667 | R7: =P7/W7*100 -> 86.516854 | S7: 208 | V7: 3323.3 | W7: 89 | AB7: 0 | AC7: 0 | AF7: 3188 | AG7: 2788.2 | AH7: 87.459222 | AI7: 13404.808 | AJ7: 93.504142 | AK7: 75 | AL7: 77 | AM7: 102.66667 | AN7: 98.717949
A8: Конопатское | B8: =X8+Месяц!B8 -> 38 | C8: =Y8+Месяц!C8 -> 29.7 | D8: =SUM(C8/B8)*100 -> 78.157895 | E8: =SUM(C8/T8)*100 -> 209.15493 | F8: =AB8+Месяц!F8 -> 2613 | G8: =AC8+Месяц!G8 -> 2700.016 | H8: =SUM(G8/F8)*100 -> 103.33012 | I8: =SUM(G8/U8)*100 -> 111.54325 | J8: =AF8+Месяц!J8 -> 12860 | K8: =AG8+Месяц!K8 -> 8774 | L8: =SUM(K8/J8)*100 -> 68.227061 | M8: =SUM(K8/S8)*1000 -> 32617.1 | N8: =SUM(K8/V8)*100 -> 78.909974 | O8: =AK8+Месяц!O8 -> 89 | P8: =AL8+Месяц!P8 -> 14 | Q8: =SUM(P8/O8)*100 -> 15.730337 | R8: =P8/W8*100 -> 19.71831 | S8: 269 | T8: 14.2 | U8: 2420.6 | V8: 11119 | W8: 71 | X8: 33 | Y8: 29 | Z8: 87.878788 | AA8: 218.04511 | AB8: 2363 | AC8: 2449.516 | AD8: 103.66128 | AE8: 111.62069 | AF8: 10960 | AG8: 7757 | AH8: 70.775547 | AI8: 28836.431 | AJ8: 82.688413 | AK8: 79 | AL8: 14 | AM8: 17.721519 | AN8: 21.875
A9: Лемдяйское | B9: =X9+Месяц!B9 -> 52 | C9: =Y9+Месяц!C9 -> 30.8 | D9: =SUM(C9/B9)*100 -> 59.230769 | E9: =SUM(C9/T9)*100 -> 45.427729 | F9: =AB9+Месяц!F9 -> 0 | G9: =AC9+Месяц!G9 -> 0 | J9: =AF9+Месяц!J9 -> 6972 | K9: =AG9+Месяц!K9 -> 5500.5 | L9: =SUM(K9/J9)*100 -> 78.894148 | M9: =SUM(K9/S9)*1000 -> 10019.126 | N9: =SUM(K9/V9)*100 -> 86.468175 | O9: =AK9+Месяц!O9 -> 115 | P9: =AL9+Месяц!P9 -> 76 | Q9: =SUM(P9/O9)*100 -> 66.086957 | R9: =P9/W9*100 -> 74.509804 | S9: 549 | T9: 67.8 | V9: 6361.3 | W9: 102 | X9: 47 | Y9: 30.8 | Z9: 65.531915 | AA9: 50.657895 | AB9: 0 | AC9: 0 | AF9: 6252 | AG9: 4934.5 | AH9: 78.926743 | AI9: 8988.1603 | AJ9: 86.968399 | AK9: 99 | AL9: 76 | AM9: 76.767677 | AN9: 82.608696
A10: Леткинское | B10: =X10+Месяц!B10 -> 0 | C10: =Y10+Месяц!C10 -> 0 | F10: =AB10+Месяц!F10 -> 0 | G10: =AC10+Месяц!G10 -> 0 | J10: =AF10+Месяц!J10 -> 9382 | K10: =AG10+Месяц!K10 -> 7566.2 | L10: =SUM(K10/J10)*100 -> 80.645918 | M10: =SUM(K10/S10)*1000 -> 21617.714 | N10: =SUM(K10/V10)*100 -> 89.09168 | O10: =AK10+Месяц!O10 -> 125 | P10: =AL10+Месяц!P10 -> 125 | Q10: =SUM(P10/O10)*100 -> 100 | R10: =P10/W10*100 -> 108.69565 | S10: 350 | V10: 8492.6 | W10: 115 | X10: 0 | Y10: 0 | AB10: 0 | AC10: 0 | AF10: 8042 | AG10: 6666.2 | AH10: 82.892315 | AI10: 19046.286 | AJ10: 92.410275 | AK10: 111 | AL10: 110 | AM10: 99.099099 | AN10: 111.11111
A11: Мельцанское | B11: =X11+Месяц!B11 -> 2 | C11: =Y11+Месяц!C11 -> 1.4 | D11: =SUM(C11/B11)*100 -> 70 | E11: =SUM(C11/T11)*100 -> 155.55556 | F11: =AB11+Месяц!F11 -> 1638 | G11: =AC11+Месяц!G11 -> 1753.1 | H11: =SUM(G11/F11)*100 -> 107.02686 | I11: =SUM(G11/U11)*100 -> 113.05217 | J11: =AF11+Месяц!J11 -> 34775 | K11: =AG11+Месяц!K11 -> 34890.8 | L11: =SUM(K11/J11)*100 -> 100.333 | M11: =SUM(K11/S11)*1000 -> 43722.807 | N11: =SUM(K11/V11)*100 -> 115.36895 | O11: =AK11+Месяц!O11 -> 300 | P11: =AL11+Месяц!P11 -> 310.7 | Q11: =SUM(P11/O11)*100 -> 103.56667 | R11: =P11/W11*100 -> 117.68939 | S11: 798 | T11: 0.9 | U11: 1550.7 | V11: 30242.8 | W11: 264 | X11: 1 | Y11: 1.4 | Z11: 140 | AB11: 1478 | AC11: 1596.4 | AD11: 108.01083 | AE11: 114.21621 | AF11: 30825 | AG11: 30939.4 | AH11: 100.37113 | AI11: 38771.178 | AJ11: 116.22265 | AK11: 266 | AL11: 255.7 | AM11: 96.12782 | AN11: 107.43697
A12: Новоакшинское | B12: =X12+Месяц!B12 -> 27 | C12: 0.4 | D12: =SUM(C12/B12)*100 -> 1.4814815 | E12: =SUM(C12/T12)*100 -> 50 | F12: =AB12+Месяц!F12 -> 3265 | G12: =AC12+Месяц!G12 -> 2884.2 | H12: =SUM(G12/F12)*100 -> 88.336907 | I12: =SUM(G12/U12)*100 -> 86.311946 | J12: =AF12+Месяц!J12 -> 56510 | K12: =AG12+Месяц!K12 -> 50969 | L12: =SUM(K12/J12)*100 -> 90.194656 | M12: =SUM(K12/S12)*1000 -> 55101.622 | N12: =SUM(K12/V12)*100 -> 104.76024 | O12: =AK12+Месяц!O12 -> 343 | P12: =AL12+Месяц!P12 -> 368.5 | Q12: =SUM(P12/O12)*100 -> 107.4344 | R12: =P12/W12*100 -> 99.594595 | S12: 925 | T12: 0.8 | U12: 3341.6 | V12: 48653 | W12: 370 | X12: 26 | Y12: 0.4 | Z12: 1.5384615 | AB12: 2930 | AC12: 2614.8 | AD12: 89.242321 | AE12: 86.439669 | AF12: 49900 | AG12: 44838.1 | AH12: 89.855912 | AI12: 48473.622 | AJ12: 105.31061 | AK12: 305 | AL12: 326.5 | AM12: 107.04918 | AN12: 99.542683
A13: Н.Александровское | F13: =AB13+Месяц!F13 -> 0 | G13: =AC13+Месяц!G13 -> 0 | J13: =AF13+Месяц!J13 -> 2564 | K13: =AG13+Месяц!K13 -> 2789.9 | L13: =SUM(K13/J13)*100 -> 108.81045 | M13: =SUM(K13/S13)*1000 -> 11481.07 | N13: =SUM(K13/V13)*100 -> 115.75388 | O13: =AK13+Месяц!O13 -> 31 | P13: =AL13+Месяц!P13 -> 0 | Q13: =SUM(P13/O13)*100 -> 0 | S13: 243 | V13: 2410.2 | W13: 0 | AB13: 0 | AC13: 0 | AF13: 2240 | AG13: 2465.9 | AH13: 110.08482 | AI13: 10147.737 | AJ13: 117.39586 | AK13: 26 | AL13: 0 | AM13: 0
A14: Новотроицкое | B14: =X14+Месяц!B14 -> 157 | C14: =Y14+Месяц!C14 -> 166.8 | D14: =SUM(C14/B14)*100 -> 106.24204 | E14: =SUM(C14/T14)*100 -> 138.76872 | F14: =AB14+Месяц!F14 -> 6421 | G14: =AC14+Месяц!G14 -> 6435.5 | H14: =SUM(G14/F14)*100 -> 100.22582 | I14: =SUM(G14/U14)*100 -> 101.07903 | J14: =AF14+Месяц!J14 -> 93530 | K14: =AG14+Месяц!K14 -> 86713 | L14: =SUM(K14/J14)*100 -> 92.711429 | M14: =SUM(K14/S14)*1000 -> 166755.77 | N14: =SUM(K14/V14)*100 -> 107.89185 | O14: =AK14+Месяц!O14 -> 332 | P14: =AL14+Месяц!P14 -> 297.4 | Q14: =SUM(P14/O14)*100 -> 89.578313 | R14: =P14/W14*100 -> 102.19931 | S14: 520 | T14: 120.2 | U14: 6366.8 | V14: 80370.3 | W14: 291 | X14: 142 | Y14: 156.5 | Z14: 110.21127 | AA14: 147.9206 | AB14: 5771 | AC14: 5771.1 | AD14: 100.00173 | AE14: 100.91276 | AF14: 82180 | AG14: 76740.9 | AH14: 93.38148 | AI14: 147578.65 | AJ14: 109.69756 | AK14: 290 | AL14: 267.4 | AM14: 92.206897 | AN14: 106.96
A15: Н.Федоровское | B15: =X15+Месяц!B15 -> 4 | C15: =Y15+Месяц!C15 -> 6.5 | D15: =SUM(C15/B15)*100 -> 162.5 | E15: =SUM(C15/T15)*100 -> 130 | F15: =AB15+Месяц!F15 -> 474 | G15: =AC15+Месяц!G15 -> 535.6 | H15: =SUM(G15/F15)*100 -> 112.99578 | I15: =SUM(G15/U15)*100 -> 131.37111 | J15: =AF15+Месяц!J15 -> 16870 | K15: =AG15+Месяц!K15 -> 17971 | L15: =SUM(K15/J15)*100 -> 106.52638 | M15: =SUM(K15/S15)*1000 -> 22951.469 | N15: =SUM(K15/V15)*100 -> 119.52777 | O15: =AK15+Месяц!O15 -> 228 | P15: =AL15+Месяц!P15 -> 90 | Q15: =SUM(P15/O15)*100 -> 39.473684 | R15: =P15/W15*100 -> 43.062201 | S15: 783 | T15: 5 | U15: 407.7 | V15: 15035 | W15: 209 | X15: 3 | Y15: 6.5 | Z15: 216.66667 | AB15: 419 | AC15: 483.5 | AD15: 115.39379 | AE15: 137.98516 | AF15: 14870 | AG15: 15971 | AH15: 107.40417 | AI15: 20397.19 | AJ15: 121.68381 | AK15: 205 | AL15: 90 | AM15: 43.902439 | AN15: 47.368421
A16: Рязановское | B16: =X16+Месяц!B16 -> 0 | C16: =Y16+Месяц!C16 -> 0 | E16: =SUM(C16/T16)*100 -> 0 | F16: =AB16+Месяц!F16 -> 0 | G16: =AC16+Месяц!G16 -> 0 | J16: =AF16+Месяц!J16 -> 2996 | K16: =AG16+Месяц!K16 -> 2875 | L16: =SUM(K16/J16)*100 -> 95.961282 | M16: =SUM(K16/S16)*1000 -> 16335.227 | N16: =SUM(K16/V16)*100 -> 102.67857 | O16: =AK16+Месяц!O16 -> 69 | P16: =AL16+Месяц!P16 -> 71 | Q16: =SUM(P16/O16)*100 -> 102.89855 | R16: =P16/W16*100 -> 131.48148 | S16: 176 | T16: 49.1 | V16: 2800 | W16: 54 | X16: 0 | Y16: 0 | AB16: 0 | AC16: 0 | AF16: 2671 | AG16: 2550 | AH16: 95.469861 | AI16: 14488.636 | AJ16: 102.40964 | AK16: 62 | AL16: 64 | AM16: 103.22581 | AN16: 139.13043
A17: Ст.Теризморгское | B17: =X17+Месяц!B17 -> 196 | C17: =Y17+Месяц!C17 -> 293.1 | D17: =SUM(C17/B17)*100 -> 149.54082 | E17: =SUM(C17/T17)*100 -> 611.89979 | F17: =AB17+Месяц!F17 -> 5276 | G17: =AC17+Месяц!G17 -> 5908.3 | H17: =SUM(G17/F17)*100 -> 111.98446 | I17: =SUM(G17/U17)*100 -> 131.07128 | J17: =AF17+Месяц!J17 -> 10975 | K17: =AG17+Месяц!K17 -> 11071.8 | L17: =SUM(K17/J17)*100 -> 100.882 | M17: =SUM(K17/S17)*1000 -> 15907.759 | N17: =SUM(K17/V17)*100 -> 110.13977 | O17: =AK17+Месяц!O17 -> 265 | P17: =AL17+Месяц!P17 -> 265 | Q17: =SUM(P17/O17)*100 -> 100 | R17: =P17/W17*100 -> 100.37879 | S17: 696 | T17: 47.9 | U17: 4507.7 | V17: 10052.5 | W17: 264 | X17: 179 | Y17: 275.7 | Z17: 152.56983 | AA17: 571.33891 | AB17: 4646 | AC17: 5329.8 | AD17: 114.71804 | AE17: 135.74923 | AF17: 9635 | AG17: 9731 | AH17: 100.99637 | AI17: 13981.322 | AJ17: 110.32004 | AK17: 234 | AL17: 234 | AM17: 100 | AN17: 101.2987
A18: Ст.Федоровское | B18: =X18+Месяц!B18 -> 5 | C18: =Y18+Месяц!C18 -> 1.2 | D18: =SUM(C18/B18)*100 -> 24 | E18: =SUM(C18/T18)*100 -> 120 | F18: =AB18+Месяц!F18 -> 1900 | G18: =AC18+Месяц!G18 -> 1781.5 | H18: =SUM(G18/F18)*100 -> 93.763158 | I18: =SUM(G18/U18)*100 -> 94.705226 | J18: =AF18+Месяц!J18 -> 10013 | K18: =AG18+Месяц!K18 -> 8350 | L18: =SUM(K18/J18)*100 -> 83.391591 | M18: =SUM(K18/S18)*1000 -> 23994.253 | N18: =SUM(K18/V18)*100 -> 95.778848 | O18: =AK18+Месяц!O18 -> 98 | P18: =AL18+Месяц!P18 -> 147 | Q18: =SUM(P18/O18)*100 -> 150 | R18: =P18/W18*100 -> 107.61347 | S18: 348 | T18: 1 | U18: 1881.1 | V18: 8718 | W18: 136.6 | X18: 5 | Y18: 1.2 | Z18: 24 | AB18: 1700 | AC18: 1586 | AD18: 93.294118 | AE18: 93.523525 | AF18: 8873 | AG18: 7480 | AH18: 84.300687 | AI18: 21494.253 | AJ18: 97.548252 | AK18: 87 | AL18: 131 | AM18: 150.57471 | AN18: 111.39456
A19: Ст.Шайговское | F19: =AB19+Месяц!F19 -> 0 | G19: =AC19+Месяц!G19 -> 0 | J19: =AF19+Месяц!J19 -> 549666 | K19: =AG19+Месяц!K19 -> 587154.2 | L19: =SUM(K19/J19)*100 -> 106.82018 | M19: =SUM(K19/S19)*1000 -> 130973.5 | N19: =SUM(K19/V19)*100 -> 109.56743 | O19: =AK19+Месяц!O19 -> 2599 | P19: =AL19+Месяц!P19 -> 2905.5 | Q19: =SUM(P19/O19)*100 -> 111.793 | R19: =P19/W19*100 -> 100.6687 | S19: 4483 | V19: 535883.9 | W19: 2886.2 | AB19: 0 | AC19: 0 | AF19: 478793 | AG19: 511486.4 | AH19: 106.8283 | AI19: 114094.67 | AJ19: 109.08652 | AK19: 2249 | AL19: 2555.5 | AM19: 113.62828 | AN19: 101.61842
A20: Шигонское | B20: =X20+Месяц!B20 -> 5 | C20: =Y20+Месяц!C20 -> 0 | D20: =SUM(C20/B20)*100 -> 0 | F20: =AB20+Месяц!F20 -> 783 | G20: =AC20+Месяц!G20 -> 755.5 | H20: =SUM(G20/F20)*100 -> 96.487867 | I20: =SUM(G20/U20)*100 -> 121.32648 | J20: =AF20+Месяц!J20 -> 5298 | K20: =AG20+Месяц!K20 -> 5795 | L20: =SUM(K20/J20)*100 -> 109.3809 | M20: =SUM(K20/S20)*1000 -> 17094.395 | N20: =SUM(K20/V20)*100 -> 116.62306 | O20: =AK20+Месяц!O20 -> 99 | P20: =AL20+Месяц!P20 -> 44 | Q20: =SUM(P20/O20)*100 -> 44.444444 | R20: =P20/W20*100 -> 48.888889 | S20: 339 | T20: 0.4 | U20: 622.7 | V20: 4969 | W20: 90 | X20: 5 | Y20: 0 | Z20: 0 | AB20: 683 | AC20: 755.5 | AD20: 110.61493 | AE20: 138.77663 | AF20: 4303 | AG20: 4850 | AH20: 112.71206 | AI20: 14306.785 | AJ20: 120.70682 | AK20: 84 | AL20: 44 | AM20: 52.380952 | AN20: 50.574713
A21: Шуварское | B21: =X21+Месяц!B21 -> 0 | C21: =Y21+Месяц!C21 -> 0 | F21: =AB21+Месяц!F21 -> 0 | G21: =AC21+Месяц!G21 -> 0 | J21: =AF21+Месяц!J21 -> 3974 | K21: =AG21+Месяц!K21 -> 3865.8 | L21: =SUM(K21/J21)*100 -> 97.277302 | M21: =SUM(K21/S21)*1000 -> 13564.211 | N21: =SUM(K21/V21)*100 -> 104.22474 | O21: =AK21+Месяц!O21 -> 89 | P21: =AL21+Месяц!P21 -> 7.4 | Q21: =SUM(P21/O21)*100 -> 8.3146067 | R21: =P21/W21*100 -> 20.555556 | S21: 285 | T21: 0.4 | V21: 3709.1 | W21: 36 | X21: 0 | Y21: 0 | AB21: 0 | AC21: 0 | AF21: 3567 | AG21: 3457.6 | AH21: 96.932997 | AI21: 12131.93 | AJ21: 104.1383 | AK21: 78 | AL21: 7.4 | AM21: 9.4871795 | AN21: 21.142857
J22: 0 | W22: 0 | AF22: 0
A23: В С Е Г О | B23: =SUM(B5:B21) -> 494 | C23: =SUM(C5:C21) -> 532.1 | D23: =SUM(C23/B23)*100 -> 107.71255 | E23: =SUM(C23/T23)*100 -> 157.05431 | F23: =AB23+Месяц!F23 -> 25439 | G23: =SUM(G5:G21) -> 26095.392 | H23: =SUM(G23/F23)*100 -> 102.58026 | I23: =SUM(G23/U23)*100 -> 109.06618 | J23: =AF23+Месяц!J23 -> 853170 | K23: =SUM(K5:K21) -> 866570.6 | L23: =SUM(K23/J23)*100 -> 101.57068 | M23: =SUM(K23/S23)*1000 -> 72833.3 | N23: =SUM(K23/V23)*100 -> 108.19609 | O23: =AK23+Месяц!O23 -> 5297 | P23: =SUM(P5:P21) -> 5286.5 | Q23: =P23/O23*100 -> 99.801775 | R23: =P23/W23*100 -> 97.992511 | S23: =SUM(S5:S22) -> 11898 | T23: =SUM(T5:T21) -> 338.8 | U23: =SUM(U5:U21) -> 23926.2 | V23: =SUM(V5:V21) -> 800926 | W23: =SUM(W5:W21) -> 5394.8 | X23: =SUM(X5:X21) -> 448 | Y23: =SUM(Y5:Y21) -> 503.7 | Z23: 111.85268 | AA23: 163.97251 | AB23: =SUM(AB5:AB21) -> 22759 | AC23: =SUM(AC5:AC21) -> 23610.192 | AD23: 103.74002 | AE23: 110.21912 | AF23: =SUM(AF5:AF21) -> 744976 | AG23: =SUM(AG5:AG21) -> 758360.6 | AH23: 101.79665 | AI23: 63738.494 | AJ23: 108.4266 | AK23: =SUM(AK5:AK21) -> 4619 | AL23: =SUM(AL5:AL21) -> 4675.5 | AM23: 101.22321 | AN23: 98.755914

Sheet Отгрузка
A1: Объем отгруженных товаров собственного производства, выполненных работ и услуг собственными силами по предприятиям,
A2: функционирующим на территории Старошайговского муниципального района | O2: 2018
A3: Наименование предприятия | B3: Ед. изм. | C3: Прогноз на 2018 год | D3: Прогноз с начала года | E3: Факт с начала года | F3: % | G3: Факт с начала 2017г | H3: 2018 в % 2017 | I3: в т.ч. сентябрь | O3: Прогноз | P3: Факт | Q3: Факт
F4: вып-я | I4: Прогноз | J4: Факт | K4: % вып-я | L4: факт 2017 | M4: 2018 в % 2017 | O4: с нач.года | P4: с нач.года | Q4: 2017
A5: Ст.Шайговский участок ООО "Системы жизнеобеспечения РМ" | B5: т.руб. | C5: 850 | D5: =I5+O5 -> 850 | E5: =P5+J5 -> 0 | F5: =SUM(E5/D5)*100 -> 0 | G5: =L5+Q5 -> 5969.1 | H5: =SUM(E5/G5)*100 -> 0 | I5: 0 | J5: 0 | L5: 702.1 | M5: =SUM(J5/L5)*100 -> 0 | O5: 850 | P5: 0 | Q5: 5267
A6: ВСЕГО ПО РАЙОНУ | C6: =SUM(C5:C5) -> 850 | D6: =SUM(D5:D5) -> 850 | E6: =SUM(E5:E5) -> 0 | F6: =SUM(E6/D6)*100 -> 0 | G6: =SUM(G5:G5) -> 5969.1 | H6: =SUM(E6/G6)*100 -> 0 | I6: 0 | J6: =SUM(J5:J5) -> 0 | L6: 702.1 | M6: =SUM(J6/L6)*100 -> 0 | N6: ВСЕГО ПО РАЙОНУ | O6: =SUM(O5:O5) -> 850 | P6: 0 | Q6: 5267

Sheet Товарность  
A1: Анализ производства и реализации молока СПК за ЯНВАРЬ-СЕНТЯБРЬ 2018
A2: Наименование | B2: Производство молока,тонн | E2: Удельный вес, % | G2: Надой на 1 корову, кг | J2: Закуп молока, тонн физ.в. | M2: Товарность, в % | P2: Поголовье коров
A3: сельхоз- | B3: январь-сентябрь | D3: Темп | E3: январь-сентябрь | G3: январь-сентябрь | I3: Темп | J3: январь-сентябрь | L3: Темп | M3: январь-сентябрь | O3: ,+,- | P3: 43009 | R3: 43374
A4: предприятия | B4: 2017 | C4: 2018 | D4: роста | E4: 2017 | F4: 2018 | G4: 2017 | H4: 2018 | I4: роста | J4: 2017 | K4: 2018 | L4: роста | M4: 2017 | N4: 2018 | P4: молоч. | Q4: мясн. | R4: молоч. | S4: мясн.
A5: ООО СП Богдановское | B5: 2703.2 | C5: 3004.8 | D5: =C5/B5*100 -> 111.15715 | E5: =B5/B24*100 -> 11.90622 | F5: =C5/C24*100 -> 11.970266 | G5: =B5/P5*1000 -> 4158.7692 | H5: =C5/R5*1000 -> 4622.7692 | I5: =H5/G5*100 -> 111.15715 | J5: 2515.7 | K5: 2909.3 | L5: =K5/J5*100 -> 115.64574 | M5: =J5/B5*100 -> 93.063776 | N5: =K5/C5*100 -> 96.821752 | O5: =N5-M5 -> 3.7579756 | P5: 650 | Q5: 200 | R5: 650 | S5: 200 | T5: =R5+S5 -> 850
A6: ООО "Союз-Агро" | B6: 612.6 | C6: 726.8 | D6: =C6/B6*100 -> 118.64185 | E6: =B6/B24*100 -> 2.6981911 | F6: =C6/C24*100 -> 2.8953638 | G6: =B6/P6*1000 -> 4084 | H6: 4600 | I6: =H6/G6*100 -> 112.63467 | J6: 554.8 | K6: 653.6 | L6: =K6/J6*100 -> 117.80822 | M6: =J6/B6*100 -> 90.564806 | N6: =K6/C6*100 -> 89.928453 | O6: =N6-M6 -> -0.63635225 | P6: 150 | T6: =R6+S6 -> 0
A7: ООО "Биосфера" | B7: 441.8 | C7: 571 | D7: =C7/B7*100 -> 129.244 | E7: =B7/B24*100 -> 1.945904 | F7: =C7/C24*100 -> 2.274701 | G7: =B7/P7*1000 -> 4418 | H7: =C7/R7*1000 -> 5710 | I7: =H7/G7*100 -> 129.244 | J7: 372.5 | K7: 481.2 | L7: =K7/J7*100 -> 129.18121 | M7: =J7/B7*100 -> 84.314169 | N7: =K7/C7*100 -> 84.273205 | O7: =N7-M7 -> -0.040964404 | P7: 100 | Q7: 100 | R7: 100 | S7: 100 | T7: =R7+S7 -> 200
A8: ООО"Конопатское" | B8: 2280 | C8: 2396.9 | D8: =C8/B8*100 -> 105.12719 | E8: =B8/B24*100 -> 10.042239 | F8: =C8/C24*100 -> 9.5485655 | G8: =B8/P8*1000 -> 3864.4068 | H8: =C8/R8*1000 -> 4062.5424 | I8: =H8/G8*100 -> 105.12719 | J8: 2152.1 | K8: 2253.8 | L8: =K8/J8*100 -> 104.72562 | M8: =J8/B8*100 -> 94.390351 | N8: =K8/C8*100 -> 94.029788 | O8: =N8-M8 -> -0.3605624 | P8: 590 | Q8: 0 | R8: 590 | T8: =R8+S8 -> 590
A9: КФХ Лавров/ООО "Квартет" | B9: 393.6 | C9: 384.3 | D9: =C9/B9*100 -> 97.637195 | E9: =B9/B24*100 -> 1.7336076 | F9: =C9/C24*100 -> 1.5309415 | G9: 1944 | H9: 3541 | I9: =H9/G9*100 -> 182.15021 | J9: 325.6 | K9: 266.6 | L9: =K9/J9*100 -> 81.879607 | M9: =J9/B9*100 -> 82.723577 | N9: =K9/C9*100 -> 69.372886 | O9: =N9-M9 -> -13.350691 | P9: 194 | Q9: 0 | R9: 148 | T9: =R9+S9 -> 148
A10: АФ "Новотроицкая" | B10: 6232.4 | C10: 6457.9 | D10: =C10/B10*100 -> 103.61819 | E10: =B10/B24*100 -> 27.450549 | F10: =C10/C24*100 -> 25.72643 | G10: =B10/P10*1000 -> 6232.4 | H10: =C10/R10*1000 -> 6457.9 | I10: =H10/G10*100 -> 103.61819 | J10: 5816.7 | K10: 6024.8 | L10: =K10/J10*100 -> 103.57763 | M10: =J10/B10*100 -> 93.330017 | N10: =K10/C10*100 -> 93.293485 | O10: =N10-M10 -> -0.03653183 | P10: 1000 | Q10: 0 | R10: 1000 | T10: =R10+S10 -> 1000
A11: От. Н-Акшино АФ Окт | B11: 2873.4 | C11: 2728.9 | D11: =C11/B11*100 -> 94.971114 | E11: =B11/B24*100 -> 12.655864 | F11: =C11/C24*100 -> 10.871159 | G11: =B11/P11*1000 -> 5746.8 | H11: =C11/R11*1000 -> 5457.8 | J11: 2624.9 | K11: 2488.7 | L11: =K11/J11*100 -> 94.811231 | M11: =J11/B11*100 -> 91.351709 | N11: =K11/C11*100 -> 91.197919 | O11: =N11-M11 -> -0.1537902 | P11: 500 | R11: 500 | T11: =R11+S11 -> 500
A12: Отд Теризморга ООО Хорошее дело | B12: 3946.6 | C12: 5281 | D12: =C12/B12*100 -> 133.81138 | E12: =B12/B24*100 -> 17.382763 | F12: =C12/C24*100 -> 21.037997 | G12: =B12/P12*1000 -> 5206.5963 | H12: =C12/R12*1000 -> 6967.0185 | I12: =H12/G12*100 -> 133.81138 | J12: 3841.4 | K12: 5146.6 | L12: =K12/J12*100 -> 133.9772 | M12: =J12/B12*100 -> 97.334414 | N12: =K12/C12*100 -> 97.455027 | O12: =N12-M12 -> 0.12061302 | P12: 758 | R12: 758 | T12: =R12+S12 -> 758
A13: ООО "Агрошигонь" | C13: 24 | H13: =C13/R13*1000 -> 266.66667 | R13: 90 | T13: =R13+S13 -> 90
A14: КФХ Пантюшин С.А. | B14: 1630.5 | C14: 1641 | D14: =C14/B14*100 -> 100.64397 | E14: =B14/B24*100 -> 7.1815223 | F14: =C14/C24*100 -> 6.5372756 | G14: =B14/P14*1000 -> 5435 | H14: =C14/R14*1000 -> 5470 | I14: =H14/G14*100 -> 100.64397 | J14: 1551 | K14: 1499.5 | L14: =K14/J14*100 -> 96.679562 | M14: =J14/B14*100 -> 95.124195 | N14: =K14/C14*100 -> 91.377209 | O14: =N14-M14 -> -3.746986 | P14: 300 | Q14: 0 | R14: 300 | T14: =R14+S14 -> 300
A15: ПХ Мельцанское | B15: 1338.1 | C15: 1647 | D15: =C15/B15*100 -> 123.08497 | E15: =B15/B24*100 -> 5.8936492 | F15: =C15/C24*100 -> 6.5611779 | G15: =B15/P15*1000 -> 3823.1429 | H15: =C15/R15*1000 -> 4705.7143 | I15: =H15/G15*100 -> 123.08497 | J15: 1237.6 | K15: 1521.2 | L15: =K15/J15*100 -> 122.91532 | M15: =J15/B15*100 -> 92.489351 | N15: =K15/C15*100 -> 92.36187 | O15: =N15-M15 -> -0.1274805 | P15: 350 | R15: 350 | T15: =R15+S15 -> 350
A16: КФХ Потапов В.Н. | B16: 65.4 | C16: 66.6 | D16: =C16/B16*100 -> 101.83486 | E16: =B16/B24*100 -> 0.2880537 | F16: =C16/C24*100 -> 0.26531539 | G16: =B16/P16*1000 -> 5450 | H16: =C16/R16*1000 -> 5550 | I16: =H16/G16*100 -> 101.83486 | P16: 12 | Q16: 17 | R16: 12 | S16: 17 | T16: =R16+S16 -> 29
A17: КФХ Аксенкин А.Н. | B17: 23.8 | C17: 24 | D17: =C17/B17*100 -> 100.84034 | E17: =B17/B24*100 -> 0.10482688 | F17: =C17/C24*100 -> 0.09560915 | G17: =B17/P17*1000 -> 4760 | H17: =C17/R17*1000 -> 4800 | I17: =H17/G17*100 -> 100.84034 | P17: 5 | R17: 5 | T17: =R17+S17 -> 5
A18: КФХ Цыпцын А.В. | B18: 45 | C18: 5 | D18: =C18/B18*100 -> 11.111111 | E18: =B18/B24*100 -> 0.19820209 | F18: =C18/C24*100 -> 0.019918573 | G18: =B18/P18*1000 -> 2250 | H18: =C18/R18*1000 -> 250 | I18: =H18/G18*100 -> 11.111111 | P18: 20 | Q18: 8 | R18: 20 | S18: 8 | T18: =R18+S18 -> 28
A19: КФХ Мартынова Н.И | B19: 47.1 | C19: 52.5 | D19: 40.7 | E19: =B19/B24*100 -> 0.20745152 | F19: =C19/C24*100 -> 0.20914502 | G19: =B19/P19*1000 -> 4281.8182 | H19: =C19/R19*1000 -> 4772.7273 | I19: =H19/G19*100 -> 111.46497 | J19: 14.5 | L19: =K19/J19*100 -> 0 | M19: 0 | N19: =K19/C19*100 -> 0 | O19: =N19-M19 -> 0 | P19: 11 | R19: 11 | T19: =R19+S19 -> 11
A20: КФХ Маргарян А.П. | E20: =B20/B24*100 -> 0 | F20: =C20/C24*100 -> 0 | Q20: 20 | S20: 20 | T20: =R20+S20 -> 20
A21: КФХ Кибакова С.В. | B21: 25.5 | C21: 28.5 | D21: =C21/B21*100 -> 111.76471 | E21: =B21/B24*100 -> 0.11231452 | F21: =C21/C24*100 -> 0.11353587 | G21: =B21/P21*1000 -> 5100 | H21: =C21/R21*1000 -> 4750 | I21: =H21/G21*100 -> 93.137255 | P21: 5 | R21: 6 | T21: =R21+S21 -> 6
A22: КФХ Чечеткин А. | B22: 35.6 | C22: 41 | D22: =C22/B22*100 -> 115.16854 | E22: =B22/B24*100 -> 0.15679987 | F22: =C22/C24*100 -> 0.1633323 | G22: =B22/P22*1000 -> 3955.5556 | H22: =C22/R22*1000 -> 4555.5556 | I22: =H22/G22*100 -> 115.16854 | P22: 9 | R22: 9 | T22: =R22+S22 -> 9
A23: КФХ Чугунова В.В. | B23: 9.5 | C23: 21 | D23: =C23/B23*100 -> 221.05263 | E23: =B23/B24*100 -> 0.041842663 | F23: =C23/C24*100 -> 0.083658006 | G23: =B23/P23*1000 -> 4750 | H23: =C23/R23*1000 -> 5250 | I23: =H23/G23*100 -> 110.52632 | P23: 2 | R23: 4 | T23: =R23+S23 -> 4
A24: В С Е Г О | B24: =SUM(B5:B23) -> 22704.1 | C24: =SUM(C5:C23) -> 25102.2 | D24: =C24/B24*100 -> 110.56241 | E24: 100 | F24: 100 | G24: 4889 | H24: 5415 | I24: =H24/G24*100 -> 110.75885 | J24: =SUM(J5:J23) -> 21006.8 | K24: =SUM(K5:K23) -> 23245.3 | L24: =K24/J24*100 -> 110.65607 | M24: =J24/B24*100 -> 92.524258 | N24: =K24/C24*100 -> 92.60264 | O24: =N24-M24 -> 0.078382673 | P24: =SUM(P5:P23) -> 4656 | Q24: =SUM(Q5:Q23) -> 345 | R24: =SUM(R5:R23) -> 4553 | S24: =SUM(S5:S23) -> 345 | T24: =SUM(T5:T23) -> 4898

Sheet АПК 
A1: АНАЛИЗ ПО ЗАКУПКАМ В СЕЛЬХОЗПРЕДПРИЯТИЯХ ЗА СЕНТЯБРЬ 2018 года | Z1: Копируем с предыд месяца 2018 январь-июль
B2: ЗАКУП М О Л О К А с начала года ,тонн | H2: в том числе сентябрь | L2: ЗАКУП М Я С А с начала года ,тонн | R2: в том числе сентябрь | V2: прошлый год 2017 | Z2: молоко | AA2: 2018 | AB2: мясо | AC2: 2018
B3: Прогноз на 2018 год | C3: Прогноз с начала года | D3: Факт с начала года | E3: % выполнения | F3: % выполнения годового прогноза | G3: 2018 в % к 2017 | H3: Прогноз сентябрь | I3: Факт сентябрь | J3: % выполнения | K3: 2018 в % к 2017 | L3: Прогноз на 2018 год | M3: Прогноз с начала года | N3: Факт с начала года | O3: % выполнения | P3: % выполнения годового прогноза | Q3: 2018 в % к 2017 | R3: Прогноз сентябрь | S3: Факт сентябрь | T3: % выполнения | U3: 2018 в % к 2017 | V3: молоко | X3: мясо | Z3: Прогноз | AA3: Факт | AB3: Прогноз | AC3: Факт
V4: с нач.г. | W4: сентябрь | X4: с нач.г. | Y4: сентябрь | Z4: с н.г. | AA4: с н.г. | AB4: с н.г. | AC4: с н.г.
A5: ООО СП"Богдановское" | B5: 3928 | C5: =H5+Z5 -> 3069 | D5: =I5+AA5 -> 3341.7 | E5: =SUM(D5/C5)*100 -> 108.88563 | F5: =D5/B5*100 -> 85.073829 | G5: =D5/V5*100 -> 119.81714 | H5: 300 | I5: 318.1 | J5: =SUM(I5/H5)*100 -> 106.03333 | K5: =I5/W5*100 -> 11.251017 | L5: 10 | M5: =R5+AB5 -> 8 | N5: =AC5+S5 -> 2.2 | O5: =SUM(N5/M5)*100 -> 27.5 | P5: =N5/L5*100 -> 22 | Q5: =N5/X5*100 -> 2.8205128 | R5: 1 | V5: 2789 | W5: 2827.3 | X5: 78 | Y5: 1.8 | Z5: 2769 | AA5: 3023.6 | AB5: 7 | AC5: 2.2
A6: ООО "Союз-Агро"(Шигонь) | B6: 1100 | C6: =H6+Z6 -> 783 | D6: =I6+AA6 -> 755.5 | E6: =SUM(D6/C6)*100 -> 96.487867 | F6: =D6/B6*100 -> 68.681818 | G6: =D6/V6*100 -> 170.54176 | H6: 100 | J6: =SUM(I6/H6)*100 -> 0 | K6: =I6/W6*100 -> 0 | L6: 5 | M6: 3 | N6: =AC6+S6 -> 0 | O6: =SUM(N6/M6)*100 -> 0 | P6: =N6/L6*100 -> 0 | Q6: =N6/X6*100 -> 0 | R6: 0 | V6: 443 | W6: 622.7 | X6: 11 | Y6: 0.8 | Z6: 683 | AA6: 755.5 | AB6: 3 | AC6: 0
A7: ООО "Биосфера"(Н.Федоровка) | B7: 629 | C7: =H7+Z7 -> 474 | D7: =I7+AA7 -> 535.6 | E7: =SUM(D7/C7)*100 -> 112.99578 | F7: =D7/B7*100 -> 85.151033 | G7: =D7/V7*100 -> 157.06745 | H7: 55 | I7: 52.1 | J7: =SUM(I7/H7)*100 -> 94.727273 | K7: =I7/W7*100 -> 12.782139 | L7: 5 | M7: =R7+AB7 -> 3 | N7: =AC7+S7 -> 6.5 | O7: =SUM(N7/M7)*100 -> 216.66667 | P7: =N7/L7*100 -> 130 | Q7: =N7/X7*100 -> 27.083333 | V7: 341 | W7: 407.6 | X7: 24 | Y7: 5 | Z7: 419 | AA7: 483.5 | AB7: 3 | AC7: 6.5
A8: ООО"Конопатское" | B8: 3335 | C8: =H8+Z8 -> 2613 | D8: =I8+AA8 -> 2700 | E8: =SUM(D8/C8)*100 -> 103.32951 | F8: =D8/B8*100 -> 80.95952 | G8: =D8/V8*100 -> 116.02922 | H8: 250 | I8: 250.5 | J8: =SUM(I8/H8)*100 -> 100.2 | K8: =I8/W8*100 -> 10.348674 | L8: 45 | M8: =R8+AB8 -> 38 | N8: =AC8+S8 -> 29.7 | O8: =SUM(N8/M8)*100 -> 78.157895 | P8: =N8/L8*100 -> 66 | Q8: =N8/X8*100 -> 38.076923 | R8: 5 | S8: 0.7 | T8: =SUM(S8/R8)*100 -> 14 | U8: =S8/Y8*100 -> 4.9295775 | V8: 2327 | W8: 2420.6 | X8: 78 | Y8: 14.2 | Z8: 2363 | AA8: 2449.5 | AB8: 33 | AC8: 29
A9: ООО"Квартет"(Подверниха) | B9: 353 | C9: =H9+Z9 -> 286 | D9: =I9+AA9 -> 283.1 | E9: =SUM(D9/C9)*100 -> 98.986014 | F9: =D9/B9*100 -> 80.1983 | G9: =D9/V9*100 -> 91.028939 | H9: 25 | I9: 34.3 | J9: =SUM(I9/H9)*100 -> 137.2 | K9: =I9/W9*100 -> 9.7139621 | L9: 2 | M9: =R9+AB9 -> 2 | N9: =AC9+S9 -> 0.4 | O9: =SUM(N9/M9)*100 -> 20 | P9: =N9/L9*100 -> 20 | Q9: =N9/X9*100 -> 4.4444444 | V9: 311 | W9: 353.1 | X9: 9 | Y9: 0.8 | Z9: 261 | AA9: 248.8 | AB9: 2 | AC9: 0.4
A10: ООО АФ"Новотроицкая" | B10: 8511 | C10: =H10+Z10 -> 6421 | D10: =I10+AA10 -> 6435.5 | E10: =SUM(D10/C10)*100 -> 100.22582 | F10: =D10/B10*100 -> 75.613911 | G10: =D10/V10*100 -> 101.37839 | H10: 650 | I10: 664.4 | J10: =SUM(I10/H10)*100 -> 102.21538 | K10: =I10/W10*100 -> 10.43522 | L10: 175 | M10: =R10+AB10 -> 157 | N10: =AC10+S10 -> 166.8 | O10: =SUM(N10/M10)*100 -> 106.24204 | P10: =N10/L10*100 -> 95.314286 | Q10: =N10/X10*100 -> 94.772727 | R10: 15 | S10: 10.3 | T10: =SUM(S10/R10)*100 -> 68.666667 | U10: =S10/Y10*100 -> 8.5690516 | V10: 6348 | W10: 6366.9 | X10: 176 | Y10: 120.2 | Z10: 5771 | AA10: 5771.1 | AB10: 142 | AC10: 156.5
A11: От. Н-Акшино АФ Октябрьская | B11: 3947 | C11: =H11+Z11 -> 2979 | D11: =I11+AA11 -> 2599.1 | E11: =SUM(D11/C11)*100 -> 87.247398 | F11: =D11/B11*100 -> 65.850013 | G11: =D11/V11*100 -> 89.254808 | H11: 310 | I11: 235.1 | J11: =SUM(I11/H11)*100 -> 75.83871 | K11: =I11/W11*100 -> 7.8689293 | L11: 27 | M11: =R11+AB11 -> 25 | N11: =AC11+S11 -> 0 | O11: =SUM(N11/M11)*100 -> 0 | P11: =N11/L11*100 -> 0 | R11: 1 | V11: 2912 | W11: 2987.7 | X11: 64 | Y11: 0 | Z11: 2669 | AA11: 2364 | AB11: 24 | AC11: 0
A12: Отд АО ПФ Чамз/ООО Хор дело | B12: 7048 | C12: =H12+Z12 -> 5276 | D12: =I12+AA12 -> 5908.3 | E12: =SUM(D12/C12)*100 -> 111.98446 | F12: =D12/B12*100 -> 83.829455 | G12: =D12/V12*100 -> 181.12508 | H12: 630 | I12: 578.5 | J12: =SUM(I12/H12)*100 -> 91.825397 | K12: =I12/W12*100 -> 12.833596 | L12: 205 | M12: =R12+AB12 -> 196 | N12: =AC12+S12 -> 293.1 | O12: =SUM(N12/M12)*100 -> 149.54082 | P12: =N12/L12*100 -> 142.97561 | Q12: =N12/X12*100 -> 199.38776 | R12: 17 | S12: 17.4 | T12: =SUM(S12/R12)*100 -> 102.35294 | U12: =S12/Y12*100 -> 13.776722 | V12: 3262 | W12: 4507.7 | X12: 147 | Y12: 126.3 | Z12: 4646 | AA12: 5329.8 | AB12: 179 | AC12: 275.7
A13: ООО "Ирсетское" | C13: =H13+Z13 -> 0 | X13: 0 | Y13: 0 | Z13: 0
A14: К/х Пантюшина С.А. | B14: 2505 | C14: =H14+Z14 -> 1900 | D14: =I14+AA14 -> 1781.5 | E14: =SUM(D14/C14)*100 -> 93.763158 | F14: =D14/B14*100 -> 71.117764 | G14: =D14/V14*100 -> 101.27914 | H14: 200 | I14: 195.5 | J14: =SUM(I14/H14)*100 -> 97.75 | K14: =I14/W14*100 -> 10.473588 | L14: 5 | M14: =R14+AB14 -> 6 | N14: =AC14+S14 -> 1.2 | O14: =SUM(N14/M14)*100 -> 20 | P14: =N14/L14*100 -> 24 | Q14: =N14/X14*100 -> 3.4285714 | R14: 1 | V14: 1759 | W14: 1866.6 | X14: 35 | Y14: 1 | Z14: 1700 | AA14: 1586 | AB14: 5 | AC14: 1.2
A15: Подсобное хоз."Мельц" | B15: 2094 | C15: =H15+Z15 -> 1638 | D15: =I15+AA15 -> 1753.1 | E15: =SUM(D15/C15)*100 -> 107.02686 | F15: =D15/B15*100 -> 83.720153 | G15: =D15/V15*100 -> 117.10755 | H15: 160 | I15: 156.7 | J15: =SUM(I15/H15)*100 -> 97.9375 | K15: =I15/W15*100 -> 10.105114 | L15: 4 | M15: =R15+AB15 -> 2 | N15: =AC15+S15 -> 1.4 | O15: =SUM(N15/M15)*100 -> 70 | P15: =N15/L15*100 -> 35 | Q15: =N15/X15*100 -> 2.6923077 | R15: 1 | V15: 1497 | W15: 1550.7 | X15: 52 | Y15: 0.9 | Z15: 1478 | AA15: 1596.4 | AB15: 1 | AC15: 1.4
A16: ООО "Луч"(Лемдяй) | L16: 67 | M16: =R16+AB16 -> 52 | N16: =AC16+S16 -> 30.8 | O16: =SUM(N16/M16)*100 -> 59.230769 | P16: =N16/L16*100 -> 45.970149 | Q16: =N16/X16*100 -> 44.637681 | R16: 5 | T16: =SUM(S16/R16)*100 -> 0 | U16: =S16/Y16*100 -> 0 | X16: 69 | Y16: 67.8 | AB16: 47 | AC16: 30.8
A17: КФХ Потапов В.Н.(Конопать)
A18: КФХ Маргарян А.П.(Конопать)
A19: КФХ Мараченков (Шувары)
A20: КФХ Цыпцын А.В.(Ирсеть)
A21: КФХ Мартынова (Ст.Фед) | V21: 0 | W21: 14.5
A22: КФХ Лавров А.Ю. | D22: =I22+AA22 -> 2 | W22: 0.8 | AA22: 2
A23: В С Е Г О | B23: =SUM(B5:B21) -> 33450 | C23: =Z23+H23 -> 25439 | D23: =SUM(D5:D22) -> 26095.4 | E23: =SUM(D23/C23)*100 -> 102.58029 | F23: =D23/B23*100 -> 78.013154 | G23: =D23/V23*100 -> 118.67479 | H23: =SUM(H5:H21) -> 2680 | I23: =SUM(I5:I22) -> 2485.2 | J23: =SUM(I23/H23)*100 -> 92.731343 | K23: =I23/W23*100 -> 10.38694 | L23: =SUM(L5:L21) -> 550 | M23: =R23+AB23 -> 492 | N23: =SUM(N5:N21) -> 532.1 | O23: =SUM(N23/M23)*100 -> 108.15041 | P23: =N23/L23*100 -> 96.745455 | Q23: =N23/X23*100 -> 71.615074 | R23: =SUM(R5:R22) -> 46 | S23: =SUM(S5:S22) -> 28.4 | T23: =SUM(S23/R23)*100 -> 61.73913 | U23: =S23/Y23*100 -> 8.3825266 | V23: =SUM(V5:V22) -> 21989 | W23: =SUM(W5:W22) -> 23926.2 | X23: =SUM(X5:X22) -> 743 | Y23: =SUM(Y5:Y22) -> 338.8 | Z23: =SUM(Z5:Z22) -> 22759 | AA23: =SUM(AA5:AA22) -> 23610.2 | AB23: =SUM(AB5:AB22) -> 446 | AC23: =SUM(AC5:AC22) -> 503.7

Sheet Ввод жилья,з.пл
A1: Выполнение прогноза по вводу жилья, темп роста среднемесячной заработной платы
A2: Наименование сельского поселения | B2: Ввод жилья, кв.м. | G2: Темп роста номин.нач. среднемес. з/платы оперативная
B3: Прогноз на 2018 год | C3: Прогноз за 9 месяцев 2018 | D3: Факт за 9 месяцев 2018 | E3: % вып. квартального прогноза | F3: % вып. годового прогноза | G3: Прогноз за 9 месяцев 2018 год | H3: Факт 9 месяцев 2018 год | I3: % вып.
Q4: янв | R4: фев | S4: март | T4: апр | U4: май | V4: июнь | W4: июль- август | X4: сентябрь
A5: Богдановское | B5: 270 | C5: 210 | D5: 328.8 | E5: =D5/C5*100 -> 156.57143 | X5: 328.8
A6: Восходское
A7: Инг.Пятинское
A8: Конопатское | B8: 130 | C8: 130 | D8: 133 | E8: =D8/C8*100 -> 102.30769 | W8: 133
A9: Лемдяйское | B9: 60
A10: Леткинское
A11: Мельцанское | B11: 200 | C11: 80 | D11: 209.3 | E11: =D11/C11*100 -> 261.625 | F11: =D11/B11*100 -> 104.65 | U11: 209.3
A12: Новоакшинское | B12: 760 | C12: 620 | D12: 152.2 | E12: =D12/C12*100 -> 24.548387 | F12: =D12/B12*100 -> 20.026316 | G12: 108 | H12: 113 | I12: =H12/G12*100 -> 104.62963 | R12: 73.7 | W12: 78.5
A13: Н.Александровское
A14: Новотроицкое | B14: 550 | C14: 320 | D14: 676 | E14: =D14/C14*100 -> 211.25 | F14: =D14/B14*100 -> 122.90909 | G14: 109 | H14: 109 | I14: =H14/G14*100 -> 100 | W14: 194.3
A15: Н.Федоровское
A16: Рязановское
A17: Ст.Теризморгское | B17: 240 | C17: 120
A18: Ст.Федоровское | B18: 85 | C18: 85 | D18: 84.2 | E18: =D18/C18*100 -> 99.058824 | F18: =D18/B18*100 -> 99.058824 | W18: 84.2
A19: Ст.Шайговское | B19: 2905 | C19: 2035 | D19: 2113.2 | E19: =D19/C19*100 -> 103.84275 | F19: =D19/B19*100 -> 72.743546 | G19: 110 | H19: 108 | I19: =H19/G19*100 -> 98.181818 | Q19: 267.6 | R19: 77.9 | S19: 284.7 | U19: 107.4 | V19: 394.2 | W19: 788.8 | X19: 366.8
A20: Шигонское
A21: Шуварское
A22: Итого | B22: =SUM(B5:B21) -> 5200 | C22: =SUM(C5:C21) -> 3600 | D22: =SUM(D5:D21) -> 3696.7 | E22: =D22/C22*100 -> 102.68611 | F22: =D22/B22*100 -> 71.090385 | G22: 109 | H22: 109.1 | I22: =H22/G22*100 -> 100.09174 | Q22: =SUM(Q19:Q21) -> 267.6 | R22: =SUM(R12:R21) -> 151.6 | S22: 284.7 | U22: 316.7 | V22: 394.2 | W22: 1278.8 | X22: 695.6
Q23: 3 | R23: 2 | S23: 4 | U23: 3 | V23: 3 | W23: 13 | X23: 5
D24: 33 дома

Sheet Торговля 
A1: АНАЛИЗ ПО ТОВАРООБОРОТУ за СЕНТЯБРЬ 2018 года | N1: коп.предыдущий мес.
A2: Наименование предприятия | B2: Прогноз | C2: Прогноз с нач.года | D2: Факт 2017 с нач.года | E2: Факт 2018 с нач.года | F2: Темп роста 2018/2017 (%) | G2: % выполнения прогноза | H2: Уд.вес, % | I2: Прогноз сентябрь | J2: Факт сентябрь 2017 | K2: Факт сентябрь 2018 | L2: Темп роста 2018/2017 (%) | M2: % выполнения прогноза | N2: Прогноз | O2: Факт c н.г.
B3: на 2018 | N3: с н.г. | O3: всего | S3: сетевые | U3: ромашов
A4: Фармация | B4: 5219 | C4: =I4+N4 -> 3819 | D4: 3483 | E4: =K4+O4 -> 3874 | F4: =E4/D4*100 -> 111.22595 | G4: =(E4/C4)*100 -> 101.44017 | H4: =SUM(E4/E61)*100 -> 0.44580063 | I4: 469 | J4: 353 | K4: 404 | L4: =K4/J4*100 -> 114.44759 | M4: =K4/I4*100 -> 86.140725 | N4: 3350 | O4: 3470 | S4: =E4+E7+E12+E13+E14+E22+E23+E29 -> 188660.4 | U4: =D20+D67+D68+D69+D70+D71+D72 -> 58701 | V4: =E20+E67+E68+E69+E70+E71+E72 -> 56195 | W4: =V4/U4*100 -> 95.730907
A5: ООО Юпитер | B5: 3200 | D5: 0 | E5: =K5+O5 -> 0 | I5: 0 | K5: 0 | O5: 0
A6: Сельхозпредприятия | B6: 13744 | C6: =I6+N6 -> 10365 | D6: 9517.7 | E6: =K6+O6 -> 5283.8 | F6: =E6/D6*100 -> 55.515513 | G6: =(E6/C6)*100 -> 50.977328 | H6: =SUM(E6/E61)*100 -> 0.60803339 | I6: 1314 | J6: 2021.9 | K6: 413 | L6: =K6/J6*100 -> 20.426332 | M6: =K6/I6*100 -> 31.430746 | N6: 9051 | O6: 4870.8
A7: РУПС почта | B7: 7448 | C7: =I7+N7 -> 5521 | D7: 5689.5 | E7: =K7+O7 -> 5659.66 | F7: =E7/D7*100 -> 99.475525 | G7: =(E7/C7)*100 -> 102.5115 | H7: =SUM(E7/E61)*100 -> 0.65128549 | I7: 693 | J7: 629.2 | K7: 603.7 | L7: =K7/J7*100 -> 95.947235 | M7: =K7/I7*100 -> 87.113997 | N7: 4828 | O7: 5055.96
A8: М-н "Нива-29" Мельцаны | B8: 0 | C8: =I8+N8 -> 0 | D8: 2863 | E8: =K8+O8 -> 0 | F8: =E8/D8*100 -> 0 | H8: =SUM(E8/E61)*100 -> 0 | I8: 0 | J8: 0 | K8: 0 | L8: =K8/J8*100 -> #DIV/0! | N8: 0 | O8: 0
A9: М-н "Нива-39" Н-Федоровка | B9: 0 | C9: =I9+N9 -> 0 | D9: 445 | E9: =K9+O9 -> 0 | F9: =E9/D9*100 -> 0 | H9: =SUM(E9/E61)*100 -> 0 | I9: 0 | J9: 0 | K9: 0 | N9: 0 | O9: 0
A10: Бар ТД"Нива" | B10: 0 | C10: =I10+N10 -> 0 | D10: 82 | E10: =K10+O10 -> 0 | F10: =E10/D10*100 -> 0 | H10: =SUM(E10/E61)*100 -> 0 | I10: 0 | J10: 0 | K10: 0 | L10: =K10/J10*100 -> #DIV/0! | N10: 0 | O10: 0
A11: Кафе "Нива" | B11: 0 | C11: =I11+N11 -> 0 | D11: 1674 | E11: =K11+O11 -> 1179 | F11: =E11/D11*100 -> 70.430108 | H11: =SUM(E11/E61)*100 -> 0.13567345 | I11: 0 | J11: 168 | K11: 173 | L11: =K11/J11*100 -> 102.97619 | N11: 0 | O11: 1006
A12: ООО "Лукойл-Волганефтепродукт" | B12: 87656 | C12: =I12+N12 -> 61502 | D12: 82323.2 | E12: =K12+O12 -> 63822.738 | F12: =E12/D12*100 -> 77.527037 | G12: =(E12/C12)*100 -> 103.77344 | H12: =SUM(E12/E61)*100 -> 7.3444029 | I12: 7890 | J12: 6949.1 | K12: 7860 | M12: =K12/I12*100 -> 99.619772 | N12: 53612 | O12: 55962.738 | P12: Ст.Шайгово (прочие)
A13: М-н"Птица-28"(Ст.Шайгово) | B13: 19204 | C13: =I13+N13 -> 13394 | D13: 12330 | E13: =K13+O13 -> 12697 | F13: =E13/D13*100 -> 102.97648 | G13: =(E13/C13)*100 -> 94.796177 | H13: =SUM(E13/E61)*100 -> 1.4611075 | I13: 1750 | J13: 1700 | K13: 1817 | L13: =K13/J13*100 -> 106.88235 | M13: =K13/I13*100 -> 103.82857 | N13: 11644 | O13: 10880 | P13: =K4+K10 -> 404
A14: М-н "Птица" (Н.Акшино) | B14: 16470 | C14: =I14+N14 -> 12710 | D14: 10504 | E14: =K14+O14 -> 10907 | F14: =E14/D14*100 -> 103.83663 | G14: =(E14/C14)*100 -> 85.814319 | H14: =SUM(E14/E61)*100 -> 1.2551232 | I14: 1380 | J14: 1185 | K14: 1222 | L14: =K14/J14*100 -> 103.12236 | M14: =K14/I14*100 -> 88.550725 | N14: 11330 | O14: 9685
A15: ООО "Валда"-Продукты | B15: 15030 | C15: =I15+N15 -> 10980 | D15: 10938.7 | E15: =K15+O15 -> 11144.4 | F15: =E15/D15*100 -> 101.88048 | G15: =(E15/C15)*100 -> 101.49727 | H15: =SUM(E15/E61)*100 -> 1.2824421 | I15: 1450 | J15: 1282.4 | K15: 1485.4 | L15: =K15/J15*100 -> 115.82969 | M15: =K15/I15*100 -> 102.44138 | N15: 9530 | O15: 9659
A16: ООО "Валда"-м-н "Оксана" | B16: 9827 | C16: =I16+N16 -> 7247 | D16: 6761 | E16: =K16+O16 -> 6177.5 | F16: =E16/D16*100 -> 91.36962 | G16: =(E16/C16)*100 -> 85.242169 | H16: =SUM(E16/E61)*100 -> 0.71087594 | I16: 880 | J16: 737.1 | K16: 658.3 | L16: =K16/J16*100 -> 89.309456 | M16: =K16/I16*100 -> 74.806818 | N16: 6367 | O16: 5519.2
A17: ООО "Валда"-Хозтовары | B17: 2510 | C17: =I17+N17 -> 1910 | D17: 1403.5 | E17: =K17+O17 -> 2502.9 | F17: =E17/D17*100 -> 178.33274 | G17: =(E17/C17)*100 -> 131.04188 | H17: =SUM(E17/E61)*100 -> 0.28802127 | I17: 280 | J17: 214.7 | K17: 299.2 | L17: =K17/J17*100 -> 139.35724 | M17: =K17/I17*100 -> 106.85714 | N17: 1630 | O17: 2203.7
A18: ООО "Шишканов В.Н." | B18: 20300 | C18: =I18+N18 -> 14750 | D18: 10801 | E18: =K18+O18 -> 12915 | F18: =E18/D18*100 -> 119.57226 | G18: =(E18/C18)*100 -> 87.559322 | H18: =SUM(E18/E61)*100 -> 1.4861939 | I18: 1880 | J18: 1430 | K18: 1250 | L18: =K18/J18*100 -> 87.412587 | M18: =K18/I18*100 -> 66.489362 | N18: 12870 | O18: 11665
A19: ООО Шишканов В.Н."Интек- маркет" | B19: 5820 | D19: 400 | E19: =K19+O19 -> 2500 | F19: =E19/D19*100 -> 625 | I19: 440 | J19: 400 | K19: 250 | M19: =K19/I19*100 -> 56.818182 | O19: 2250
A20: ООО "Ромашов А.Н." | B20: 13370 | C20: =I20+N20 -> 9800 | D20: 8840 | E20: =K20+O20 -> 8640 | F20: =E20/D20*100 -> 97.737557 | G20: =(E20/C20)*100 -> 88.163265 | H20: =SUM(E20/E61)*100 -> 0.99424817 | I20: 1280 | J20: 1210 | K20: 1030 | L20: =K20/J20*100 -> 85.123967 | M20: =K20/I20*100 -> 80.46875 | N20: 8520 | O20: 7610
A21: ООО"Агрохимремонт" Продукты | B21: 923 | C21: =I21+N21 -> 685 | D21: 913 | E21: =K21+O21 -> 628 | F21: =E21/D21*100 -> 68.784228 | G21: =(E21/C21)*100 -> 91.678832 | H21: =SUM(E21/E61)*100 -> 0.072267113 | I21: 75 | J21: 63 | K21: 0 | L21: =K21/J21*100 -> 0 | M21: =K21/I21*100 -> 0 | N21: 610 | O21: 628 | P21: шайгово
A22: ЗАО"ТАНДЕР"м-н "Магнит" | B22: 74562 | C22: =I22+N22 -> 51953 | D22: 53967 | E22: =K22+O22 -> 52446 | F22: =E22/D22*100 -> 97.181611 | G22: =(E22/C22)*100 -> 100.94893 | H22: =SUM(E22/E61)*100 -> 6.0352245 | I22: 6800 | J22: 5450 | K22: 4774 | L22: =K22/J22*100 -> 87.59633 | M22: =K22/I22*100 -> 70.205882 | N22: 45153 | O22: 47672 | P22: =K15+K16+K17+K18+K20+K21+K22+K23+K24+K25+K26+K27+K28+K29+K52+K13+K12+K19+K5+K55 -> 30141.3
A23: ООО "Агроторг"-"Пятерочка" | B23: 46745 | C23: =I23+N23 -> 34590 | D23: 30355 | E23: =K23+O23 -> 28536 | F23: =E23/D23*100 -> 94.007577 | G23: =(E23/C23)*100 -> 82.497832 | H23: =SUM(E23/E61)*100 -> 3.2837808 | I23: 3800 | J23: 3005 | K23: 2531 | L23: =K23/J23*100 -> 84.22629 | M23: =K23/I23*100 -> 66.605263 | N23: 30790 | O23: 26005
A24: ООО "Вымпел" с.Ст.Шайгово | B24: 1968 | C24: =I24+N24 -> 1443 | D24: 1285.9 | E24: =K24+O24 -> 1158.2 | F24: =E24/D24*100 -> 90.069212 | G24: =(E24/C24)*100 -> 80.26334 | H24: =SUM(E24/E61)*100 -> 0.13327989 | I24: 175 | J24: 164 | K24: 133.6 | L24: =K24/J24*100 -> 81.463415 | M24: =K24/I24*100 -> 76.342857 | N24: 1268 | O24: 1024.6
A25: ООО"Сельские магазины" Ст.Шайгово | B25: 2458 | C25: =I25+N25 -> 1758 | D25: 1154 | E25: =K25+O25 -> 4100 | F25: =E25/D25*100 -> 355.28596 | G25: =(E25/C25)*100 -> 233.21957 | H25: =SUM(E25/E61)*100 -> 0.47180758 | I25: 190 | J25: 220 | K25: 500 | L25: =K25/J25*100 -> 227.27273 | M25: =K25/I25*100 -> 263.15789 | N25: 1568 | O25: 3600
A26: ООО "Креатор"(Мегафон) | B26: 11395 | C26: =I26+N26 -> 6210 | D26: 6057.4 | E26: =K26+O26 -> 7803.9 | F26: =E26/D26*100 -> 128.8325 | G26: =(E26/C26)*100 -> 125.66667 | H26: =SUM(E26/E61)*100 -> 0.89803395 | I26: 1250 | J26: 1689 | K26: 1815 | L26: =K26/J26*100 -> 107.46004 | M26: =K26/I26*100 -> 145.2 | N26: 4960 | O26: 5988.9
A27: ООО ТЦ "Рубин" | B27: 17370 | C27: =I27+N27 -> 9680 | D27: 10083 | E27: =K27+O27 -> 14519 | F27: =E27/D27*100 -> 143.99484 | G27: =(E27/C27)*100 -> 149.98967 | H27: =SUM(E27/E61)*100 -> 1.6707742 | I27: 1550 | J27: 1605 | K27: 1660 | L27: =K27/J27*100 -> 103.42679 | M27: =K27/I27*100 -> 107.09677 | N27: 8130 | O27: 12859
A28: ООО "Сартория" Ст.шайгово Лобачев | B28: 910 | C28: =I28+N28 -> 705 | D28: 866 | E28: =K28+O28 -> 631 | F28: =E28/D28*100 -> 72.863741 | G28: =(E28/C28)*100 -> 89.503546 | H28: =SUM(E28/E61)*100 -> 0.072612338 | I28: 80 | J28: 168 | K28: 0 | L28: =K28/J28*100 -> 0 | M28: =K28/I28*100 -> 0 | N28: 625 | O28: 631
A29: ООО МПК "Норовский" | B29: 14810 | C29: =I29+N29 -> 9220 | D29: 8334 | E29: =K29+O29 -> 10718 | F29: =E29/D29*100 -> 128.60571 | G29: =(E29/C29)*100 -> 116.24729 | H29: =SUM(E29/E61)*100 -> 1.2333741 | I29: 1150 | J29: 1200 | K29: 1791 | L29: =K29/J29*100 -> 149.25 | M29: =K29/I29*100 -> 155.73913 | N29: 8070 | O29: 8927
A30: ООО Калявин Н.П. | B30: 3280 | C30: =I30+N30 -> 2450 | D30: 2062 | E30: =K30+O30 -> 2345 | F30: =E30/D30*100 -> 113.72454 | G30: =(E30/C30)*100 -> 95.714286 | H30: =SUM(E30/E61)*100 -> 0.26985092 | I30: 290 | J30: 254 | K30: 280 | L30: =K30/J30*100 -> 110.23622 | M30: =K30/I30*100 -> 96.551724 | N30: 2160 | O30: 2065
A31: ООО "Сельские магазины"(Богд) | B31: 940 | C31: =I31+N31 -> 685 | D31: 540 | E31: =K31+O31 -> 8900 | F31: =E31/D31*100 -> 1648.1481 | G31: =(E31/C31)*100 -> 1299.2701 | H31: =SUM(E31/E61)*100 -> 1.0241677 | I31: 80 | J31: 60 | K31: 1500 | L31: =K31/J31*100 -> 2500 | M31: =K31/I31*100 -> 1875 | N31: 605 | O31: 7400
A32: ООО "Сельские магазины"(Летки) | B32: 926 | C32: =I32+N32 -> 697 | D32: 779.1 | E32: =K32+O32 -> 5552.6 | F32: =E32/D32*100 -> 712.69413 | G32: =(E32/C32)*100 -> 796.64275 | H32: =SUM(E32/E61)*100 -> 0.63896556 | I32: 88 | J32: 100.7 | K32: 900 | L32: =K32/J32*100 -> 893.74379 | M32: =K32/I32*100 -> 1022.7273 | N32: 609 | O32: 4652.6
A33: ООО "Транспотоксервис" (Летки) | B33: 0 | C33: =I33+N33 -> 0 | D33: 433.8 | E33: =K33+O33 -> 0 | F33: =E33/D33*100 -> 0 | H33: =SUM(E33/E61)*100 -> 0 | I33: 0 | J33: 0 | K33: 0 | L33: =K33/J33*100 -> #DIV/0! | M33: =K33/I33*100 -> #DIV/0! | N33: 0 | O33: 0
A34: ООО "Ермаков А.В." (Восход) | B34: 4451 | C34: =I34+N34 -> 3434 | D34: 2970 | E34: =K34+O34 -> 3255 | F34: =E34/D34*100 -> 109.59596 | G34: =(E34/C34)*100 -> 94.78742 | H34: =SUM(E34/E61)*100 -> 0.37456919 | I34: 374 | J34: 340 | K34: 375 | L34: =K34/J34*100 -> 110.29412 | M34: =K34/I34*100 -> 100.26738 | N34: 3060 | O34: 2880
A35: ООО "Ермаков А.В."(Рязановка) | B35: 4106 | C35: =I35+N35 -> 2996 | D35: 2800 | E35: =K35+O35 -> 2875 | F35: =E35/D35*100 -> 102.67857 | G35: =(E35/C35)*100 -> 95.961282 | H35: =SUM(E35/E61)*100 -> 0.33084068 | I35: 325 | J35: 310 | K35: 325 | L35: =K35/J35*100 -> 104.83871 | M35: =K35/I35*100 -> 100 | N35: 2671 | O35: 2550
A36: ООО "Ермаков А.В." (Ст.Теризморга) | B36: 14445 | C36: =I36+N36 -> 10748 | D36: 9850 | E36: =K36+O36 -> 10786 | F36: =E36/D36*100 -> 109.50254 | G36: =(E36/C36)*100 -> 100.35355 | H36: =SUM(E36/E61)*100 -> 1.2411992 | I36: 1305 | J36: 1220 | K36: 1327 | L36: =K36/J36*100 -> 108.77049 | M36: =K36/I36*100 -> 101.68582 | N36: 9443 | O36: 9459
A37: ООО "Ермаков А.В." (Шувары) | E37: =K37+O37 -> 600 | J37: 0 | K37: 210 | O37: 390
A38: ООО ТД"Новотроицкий" | B38: 30195 | C38: =I38+N38 -> 23145 | D38: 21300 | E38: =K38+O38 -> 25862.1 | F38: =E38/D38*100 -> 121.41831 | G38: =(E38/C38)*100 -> 111.73947 | H38: =SUM(E38/E61)*100 -> 2.9760817 | I38: 2800 | J38: 3150 | K38: 3110 | L38: =K38/J38*100 -> 98.730159 | M38: =K38/I38*100 -> 111.07143 | N38: 20345 | O38: 22752.1 | P38: ООО Новотроицк
A39: ООО "Время" (колб.цех) | B39: 58803 | C39: =I39+N39 -> 44610 | D39: 40727 | E39: =K39+O39 -> 41839 | F39: =E39/D39*100 -> 102.73038 | G39: =(E39/C39)*100 -> 93.788388 | H39: =SUM(E39/E61)*100 -> 4.8146238 | I39: 5421 | J39: 5100 | K39: 4742 | L39: =K39/J39*100 -> 92.980392 | M39: =K39/I39*100 -> 87.474636 | N39: 39189 | O39: 37097 | P39: =K38+K39+K40 -> 9852
A40: ООО "Колобок"(пекарня) | B40: 31100 | C40: =I40+N40 -> 24240 | D40: 17450 | E40: =K40+O40 -> 17900 | F40: =E40/D40*100 -> 102.5788 | G40: =(E40/C40)*100 -> 73.844884 | H40: =SUM(E40/E61)*100 -> 2.0598429 | I40: 2960 | J40: 2000 | K40: 2000 | L40: =K40/J40*100 -> 100 | M40: =K40/I40*100 -> 67.567568 | N40: 21280 | O40: 15900
...

Sheet Т.об.-расшифровка
A1: за сентябрь 2018 г
A2: Наименование | B2: прогноз | C2: Товарооборот -розница | M2: Водка
A3: с/ администр. | B3: сентябрь | C3: Лемяскин | D3: ООО | E3: РУПС | F3: СПК | G3: ИП | H3: ярмарка | I3: Прочие | J3: Общепит | K3: Итого | L3: .+,- | M3: прогноз | N3: "Нива" | O3: ООО | P3: прочие | Q3: ВСЕГО | R3: .+,-
A4: Богдановское | B4: 4150 | D4: 1780 | E4: 20.2 | F4: 105 | G4: 1150 | K4: =SUM(C4:J4) -> 3055.2 | L4: =K4-B4 -> -1094.8 | M4: 52 | O4: 65 | Q4: =SUM(N4:P4) -> 65 | R4: =Q4-M4 -> 13
A5: Восходское | B5: 412 | D5: 375 | E5: 55.7 | F5: 0 | K5: =SUM(C5:J5) -> 430.7 | L5: =K5-B5 -> 18.7 | M5: 10 | O5: 0 | Q5: =SUM(N5:P5) -> 0 | R5: =Q5-M5 -> -10
A6: Инг.Пятинское | B6: 358 | D6: 0 | E6: 15.9 | G6: 290 | K6: =SUM(C6:J6) -> 305.9 | L6: =K6-B6 -> -52.1 | M6: 9 | O6: 0 | Q6: =SUM(N6:P6) -> 0 | R6: =Q6-M6 -> -9
