Workbook

Sheet Свод
A1: ОСНОВНЫЕ ПОКАЗАТЕЛИ
A2: СОЦИАЛЬНО - ЭКОНОМИЧЕСКОГО РАЗВИТИЯ СТАРОШАЙГОВСКОГО МУНИЦИПАЛЬНОГО РАЙОНА ЗА ЯНВАРЬ-СЕНТЯБРЬ 2017 ГОДА | S2: пред месяц
A3: Наименование показателя | B3: Ед . изм. | C3: Факт 2016 | D3: Прогноз 2017 | E3: 2017 в % к 2016 | F3: Прогноз с начала года | G3: Факт с начала года | H3: % вып-я с нач. года | I3: % вып-я годового прогноза | J3: Факт 2016 г. | K3: 2017 в % к 2016 | L3: в т.ч. сентябрь | R3: Прогноз | S3: Факт | T3: Факт
L4: Прогноз | M4: Факт | N4: % вып-я | O4: факт 2016г. | P4: 2017 в % к 2016 | R4: с нач.года | S4: с нач.года | T4: 2016
A5: Объем отгруж. продукции -всего | B5: т.руб. | C5: 9453.2 | D5: 8541 | E5: =D5/C5*100 -> 90.350358 | F5: =L5+R5 -> 6264 | G5: =M5+S5 -> 5969.1 | H5: =SUM(G5/F5)*100 -> 95.292146 | I5: =G5/D5*100 -> 69.887601 | J5: 6179.6 | K5: =SUM(G5/J5)*100 -> 96.593631 | L5: 653 | M5: 702.1 | N5: =SUM(M5/L5)*100 -> 107.51914 | O5: 735 | P5: =SUM(M5/O5)*100 -> 95.52381 | Q5: Объем отгруженной продукции | R5: 5611 | S5: 5267 | T5: 5526.3
A7: Закуп молока от СХПК | B7: тонн | C7: 28194.5 | D7: 29100 | E7: =D7/C7*100 -> 103.21162 | F7: =L7+R7 -> 21989 | G7: =M7+S7 -> 23926.2 | H7: =SUM(G7/F7)*100 -> 108.80986 | I7: =G7/D7*100 -> 82.220619 | J7: =T7+O7 -> 21305.7 | K7: =SUM(G7/J7)*100 -> 112.29953 | L7: 2322 | M7: 2500.6 | N7: =SUM(M7/L7)*100 -> 107.69165 | O7: 2159.8 | P7: =SUM(M7/O7)*100 -> 115.77924 | Q7: Закуп молока от СХПК | R7: 19667 | S7: 21425.6 | T7: 19145.9
A9: Закуп мяса от СХПК | B9: тонн | C9: 928.2 | D9: 1050 | E9: =D9/C9*100 -> 113.12217 | F9: =L9+R9 -> 743 | G9: =M9+S9 -> 338.8 | H9: =SUM(G9/F9)*100 -> 45.598923 | I9: =G9/D9*100 -> 32.266667 | J9: =T9+O9 -> 746.5 | K9: =SUM(G9/J9)*100 -> 45.385131 | L9: 99 | M9: 33.2 | N9: =SUM(M9/L9)*100 -> 33.535354 | O9: 33.3 | P9: =SUM(M9/O9)*100 -> 99.6997 | Q9: Закуп мяса от СХПК | R9: 644 | S9: 305.6 | T9: 713.2
A11: Объем инвестиций за исключением бюджетных средств | B11: тыс.руб | C11: 122509 | D11: 108620 | E11: =D11/C11*100 -> 88.662874 | F11: 78630 | G11: 78911 | H11: =SUM(G11/F11)*100 -> 100.35737 | I11: =G11/D11*100 -> 72.648683 | J11: 36958 | K11: =SUM(G11/J11)*100 -> 213.51534
A13: Розничный товарооборот | B13: т.руб | C13: 984594.6 | D13: 1058787 | E13: =D13/C13*100 -> 107.53532 | F13: =L13+R13 -> 724816 | G13: =M13+S13 -> 800926 | H13: =SUM(G13/F13)*100 -> 110.5006 | I13: =G13/D13*100 -> 75.645621 | J13: =T13+O13 -> 692149.2 | K13: =SUM(G13/J13)*100 -> 115.7158 | L13: 101135 | M13: 101503 | N13: =SUM(M13/L13)*100 -> 100.36387 | O13: 84299.2 | P13: =SUM(M13/O13)*100 -> 120.40802 | Q13: Объем розничного товарооборота | R13: 623681 | S13: 699423 | T13: 607850
A15: Реализация водки производства РМ | B15: дал. | C15: 6824.1 | D15: 7268 | E15: =D15/C15*100 -> 106.50489 | F15: =L15+R15 -> 5392 | G15: =M15+S15 -> 5394.8 | H15: =SUM(G15/F15)*100 -> 100.05193 | I15: =G15/D15*100 -> 74.226747 | J15: =T15+O15 -> 4910.6 | K15: =SUM(G15/J15)*100 -> 109.8603 | L15: 636 | M15: 660.4 | N15: =SUM(M15/L15)*100 -> 103.83648 | O15: 656.4 | P15: =SUM(M15/O15)*100 -> 100.60938 | Q15: Реализация водки пр-ва РМ | R15: 4756 | S15: 4734.4 | T15: 4254.2
A17: Собствен.доходы | B17: т.руб | C17: 56837.6 | D17: 60725.8 | E17: =D17/C17*100 -> 106.84089 | F17: 45842.5 | G17: 46257.1 | H17: =SUM(G17/F17)*100 -> 100.9044 | I17: =G17/D17*100 -> 76.173719 | J17: 39526.1 | K17: =SUM(G17/J17)*100 -> 117.02925 | L17: 3697.9 | M17: 3765.1 | N17: =SUM(M17/L17)*100 -> 101.81725 | O17: 3819.4 | P17: =SUM(M17/O17)*100 -> 98.578311 | Q17: Собствен.доходы
A19: Ввод жилья | B19: кв.м. | C19: 5116.6 | D19: 5350 | E19: =D19/C19*100 -> 104.56162 | F19: 3510 | G19: =M19+S19 -> 3533.7 | H19: =SUM(G19/F19)*100 -> 100.67521 | I19: =G19/D19*100 -> 66.050467 | J19: 3384.1 | K19: =SUM(G19/J19)*100 -> 104.42067 | M19: 1294.7 | O19: 1880.1 | P19: =SUM(M19/O19)*100 -> 68.863358 | Q19: Ввод жилья | R19: 1300 | S19: 2239 | T19: 1504
A21: Условное поголовье КРС в общ.секторе | B21: усл. гол | G21: 10759.8 | J21: 10648 | K21: =SUM(G21/J21)*100 -> 101.04996
A22: Темп роста зар/пл | B22: % | C22: 107.4 | D22: 110 | E22: =D22/C22*100 -> 102.42086 | F22: 110 | G22: 105.6 | H22: =SUM(G22/F22)*100 -> 96 | J22: 108.6 | K22: =SUM(G22/J22)*100 -> 97.237569 | Q22: Темп роста заработной платы | R22: 110
A23: Увеличение числа субъектов МСП по сравнению с уровнем прош года | B23: % | D23: 1.9 | F23: 1.9 | G23: 1 | H23: =G23/F23*100 -> 52.631579
A24: Отношение численности безработных граждан,зарегистрированных в органах службы занятости на конец отчетного периода. К концу предыдущего периода | B24: % | D24: 97.9 | F24: 93.8 | G24: 82.4 | T24: безр | U24: 45 на 01.04. 48 на 01.01
A25: Начальник управления перспективного планирования с/х и комплексных программ развития района С.И. Макарова | U25: 34 на 01.07 | V25: 28 на 01.10

Sheet Месяц
A1: Выполнение показателей социально-экономического развития Старошайговского района за сентябрь 2017 года
A2: Наименование сельского поселения | B2: Закуп МЯСА от СПК , тонн | F2: Закуп МОЛОКА от СПК , тонн | J2: Розничный товарооборот , т.руб. | O2: Реализация водки пр-ва РМ , дал. | S2: Численность населения на 1.01.2017 | U2: сентябрь 2016
B3: Прогноз сентябрь | C3: Факт сентябрь | D3: %вып. прогноза | E3: 2017 в % к 2016 | F3: Прогноз сентябрь | G3: Факт сентябрь | H3: %вып.прогноза | I3: 2017 в % к 2016 | J3: Прогноз сентябрь | K3: Факт сентябрь | L3: %вып. прогноза | M3: Т/об.на 1 жителя, руб. | N3: 2017 в % к 2016 | O3: Прогноз сентябрь | P3: Факт сентябрь | Q3: %вып. прогноза | R3: 2017 в % к 2016 | U3: мясо | V3: молоко | W3: Т/оборот | X3: Реализ.
U4: СПК | V4: СПК | X4: водки
A5: Богдановское | B5: 11 | C5: 0.9 | D5: =SUM(C5/B5)*100 -> 8.1818182 | F5: 310 | G5: 259.1 | H5: =SUM(G5/F5)*100 -> 83.580645 | I5: =SUM(G5/V5)*100 -> 114.29202 | J5: 3750 | K5: 3798.3 | L5: =SUM(K5/J5)*100 -> 101.288 | M5: =SUM(K5/S5)*1000 -> 5290.1114 | N5: =SUM(K5/W5)*100 -> 113.96382 | O5: 34 | P5: 53 | Q5: =P5/O5*100 -> 155.88235 | R5: =P5/X5*100 -> 139.47368 | S5: 718 | T5: Богдановский | U5: 1.5 | V5: 226.7 | W5: 3332.9 | X5: 38
A6: Восходское | B6: 2 | C6: 1.8 | D6: =SUM(C6/B6)*100 -> 90 | E6: =SUM(C6/U6)*100 -> 100 | I6: =SUM(G6/V6)*100 -> 0 | J6: 550 | K6: 393.6 | L6: =SUM(K6/J6)*100 -> 71.563636 | M6: =SUM(K6/S6)*1000 -> 1626.4463 | N6: =SUM(K6/W6)*100 -> 96.826568 | O6: 10 | P6: 0 | Q6: =P6/O6*100 -> 0 | R6: =P6/X6*100 -> #DIV/0! | S6: 242 | T6: Восходский | U6: 1.8 | V6: 106.2 | W6: 406.5 | X6: 0
A7: Инг.Пятинское | J7: 410 | K7: 341.4 | L7: =SUM(K7/J7)*100 -> 83.268293 | M7: =SUM(K7/S7)*1000 -> 1625.7143 | N7: =SUM(K7/W7)*100 -> 105.69659 | O7: 10 | P7: 11 | Q7: =P7/O7*100 -> 110 | R7: =P7/X7*100 -> 110 | S7: 210 | T7: Инг.Пятинский | W7: 323 | X7: 10
A8: Конопатское | B8: 10 | C8: 0.9 | D8: =SUM(C8/B8)*100 -> 9 | E8: =SUM(C8/U8)*100 -> 60 | F8: 210 | G8: 226.1 | H8: =SUM(G8/F8)*100 -> 107.66667 | I8: =SUM(G8/V8)*100 -> 114.30738 | J8: 1300 | K8: 1738 | L8: =SUM(K8/J8)*100 -> 133.69231 | M8: =SUM(K8/S8)*1000 -> 6163.1206 | N8: =SUM(K8/W8)*100 -> 178.80658 | O8: 13 | P8: 7 | Q8: =P8/O8*100 -> 53.846154 | R8: =P8/X8*100 -> 53.846154 | S8: 282 | T8: Конопатский | U8: 1.5 | V8: 197.8 | W8: 972 | X8: 13
A9: Лемдяйское | B9: 8 | C9: 7 | D9: =SUM(C9/B9)*100 -> 87.5 | E9: =SUM(C9/U9)*100 -> 134.61538 | J9: 1000 | K9: 687.4 | L9: =SUM(K9/J9)*100 -> 68.74 | M9: =SUM(K9/S9)*1000 -> 1234.1113 | N9: =SUM(K9/W9)*100 -> 93.105784 | O9: 16 | P9: 10 | Q9: =P9/O9*100 -> 62.5 | R9: =P9/X9*100 -> 90.909091 | S9: 557 | T9: Лемдяйский | U9: 5.2 | W9: 738.3 | X9: 11
A10: Леткинское | J10: 1470 | K10: 1278.9 | L10: =SUM(K10/J10)*100 -> 87 | M10: =SUM(K10/S10)*1000 -> 3542.6593 | N10: =SUM(K10/W10)*100 -> 98 | O10: 14 | P10: 16 | Q10: =P10/O10*100 -> 114.28571 | R10: =P10/X10*100 -> 114.28571 | S10: 361 | T10: Леткинский | W10: 1305 | X10: 14
A11: Мельцанское | B11: 7 | C11: 0.4 | D11: =SUM(C11/B11)*100 -> 5.7142857 | F11: 163 | G11: 153 | H11: =SUM(G11/F11)*100 -> 93.865031 | I11: =SUM(G11/V11)*100 -> 109.91379 | J11: 3600 | K11: 3622 | L11: =SUM(K11/J11)*100 -> 100.61111 | M11: =SUM(K11/S11)*1000 -> 4411.6931 | N11: =SUM(K11/W11)*100 -> 126.78078 | O11: 40 | P11: 26 | Q11: =P11/O11*100 -> 65 | R11: =P11/X11*100 -> 78.787879 | S11: 821 | T11: Мельцанский | U11: 0.8 | V11: 139.2 | W11: 2856.9 | X11: 33
A12: Новоакшинское | B12: 9 | C12: 0.4 | D12: =SUM(C12/B12)*100 -> 4.4444444 | E12: =SUM(C12/U12)*100 -> 100 | F12: 358 | G12: 316.6 | H12: =SUM(G12/F12)*100 -> 88.435754 | I12: =SUM(G12/V12)*100 -> 90.508862 | J12: 6800 | K12: 6076 | L12: =SUM(K12/J12)*100 -> 89.352941 | M12: =SUM(K12/S12)*1000 -> 6463.8298 | N12: =SUM(K12/W12)*100 -> 105.39462 | O12: 40 | P12: 42 | Q12: =P12/O12*100 -> 105 | R12: =P12/X12*100 -> 55.263158 | S12: 940 | T12: Новоакшинский | U12: 0.4 | V12: 349.8 | W12: 5765 | X12: 76
A13: Н.Александровское | J13: 300 | K13: 309.7 | L13: =SUM(K13/J13)*100 -> 103.23333 | M13: =SUM(K13/S13)*1000 -> 1269.2623 | N13: =SUM(K13/W13)*100 -> 126.56314 | O13: 3 | P13: 0 | Q13: =P13/O13*100 -> 0 | R13: =P13/X13*100 -> #DIV/0! | S13: 244 | T13: Н.Александров. | W13: 244.7 | X13: 0
A14: Новотроицкое | B14: 30 | C14: 14.4 | D14: =SUM(C14/B14)*100 -> 48 | E14: =SUM(C14/U14)*100 -> 113.38583 | F14: 691 | G14: 647.9 | H14: =SUM(G14/F14)*100 -> 93.762663 | I14: =SUM(G14/V14)*100 -> 93.993907 | J14: 8900 | K14: 10413.5 | L14: =SUM(K14/J14)*100 -> 117.00562 | M14: =SUM(K14/S14)*1000 -> 20539.448 | N14: =SUM(K14/W14)*100 -> 131.58992 | O14: 28 | P14: 41 | Q14: =P14/O14*100 -> 146.42857 | R14: =P14/X14*100 -> 136.66667 | S14: 507 | T14: Новотроицкий | U14: 12.7 | V14: 689.3 | W14: 7913.6 | X14: 30
A15: Н.Федоровское | B15: 3 | C15: 0.7 | D15: =SUM(C15/B15)*100 -> 23.333333 | F15: 39 | G15: 57.3 | H15: =SUM(G15/F15)*100 -> 146.92308 | I15: =SUM(G15/V15)*100 -> 162.32295 | J15: 1650 | K15: 1910 | L15: =SUM(K15/J15)*100 -> 115.75758 | M15: =SUM(K15/S15)*1000 -> 2334.9633 | N15: =SUM(K15/W15)*100 -> 148.40715 | O15: 37 | P15: 19 | Q15: =P15/O15*100 -> 51.351351 | R15: =P15/X15*100 -> 52.777778 | S15: 818 | T15: Н.Федоровский. | U15: 0.4 | V15: 35.3 | W15: 1287 | X15: 36
A16: Рязановское | B16: 5 | C16: 5.7 | D16: =SUM(C16/B16)*100 -> 114 | E16: =SUM(C16/U16)*100 -> 70.37037 | I16: =SUM(G16/V16)*100 -> 0 | J16: 350 | K16: 310 | L16: =SUM(K16/J16)*100 -> 88.571429 | M16: =SUM(K16/S16)*1000 -> 1684.7826 | N16: =SUM(K16/W16)*100 -> 100 | O16: 10 | P16: 8 | Q16: =P16/O16*100 -> 80 | R16: =P16/X16*100 -> 133.33333 | S16: 184 | T16: Рязановский | U16: 8.1 | V16: 194.8 | W16: 310 | X16: 6
A17: Ст.Теризморгское | B17: 8 | C17: 0.1 | D17: =SUM(C17/B17)*100 -> 1.25 | F17: 326 | G17: 581.5 | H17: =SUM(G17/F17)*100 -> 178.37423 | J17: 1550 | K17: 1231.8 | L17: =SUM(K17/J17)*100 -> 79.470968 | M17: =SUM(K17/S17)*1000 -> 1749.7159 | N17: =SUM(K17/W17)*100 -> 94.210325 | O17: 37 | P17: 33 | Q17: =P17/O17*100 -> 89.189189 | R17: =P17/X17*100 -> 103.125 | S17: 704 | T17: Ст.Теризморгск. | W17: 1307.5 | X17: 32
A18: Ст.Федоровское | B18: 5 | C18: 0.5 | D18: =SUM(C18/B18)*100 -> 10 | F18: 181 | G18: 180.8 | H18: =SUM(G18/F18)*100 -> 99.889503 | I18: =SUM(G18/V18)*100 -> 101.2318 | J18: 900 | K18: 1050 | L18: =SUM(K18/J18)*100 -> 116.66667 | M18: =SUM(K18/S18)*1000 -> 2991.453 | N18: =SUM(K18/W18)*100 -> 131.25 | O18: 11 | P18: 19 | Q18: =P18/O18*100 -> 172.72727 | R18: =P18/X18*100 -> #DIV/0! | S18: 351 | T18: Ст.Федоровский | U18: 0.4 | V18: 178.6 | W18: 800 | X18: 0
A19: Ст.Шайговское | J19: 66955 | K19: 67002.5 | L19: =SUM(K19/J19)*100 -> 100.07094 | M19: =SUM(K19/S19)*1000 -> 14568.928 | N19: =SUM(K19/W19)*100 -> 120.97568 | O19: 310 | P19: 371.4 | Q19: =P19/O19*100 -> 119.80645 | R19: =P19/X19*100 -> 107.83972 | S19: 4599 | T19: Ст.Шайговский | W19: 55385.1 | X19: 344.4
A20: Шигонское | B20: 1 | C20: 0.4 | D20: =SUM(C20/B20)*100 -> 40 | F20: 44 | G20: 78.3 | H20: =SUM(G20/F20)*100 -> 177.95455 | I20: =SUM(G20/V20)*100 -> 185.98575 | J20: 790 | K20: 951 | L20: =SUM(K20/J20)*100 -> 120.37975 | M20: =SUM(K20/S20)*1000 -> 2764.5349 | N20: =SUM(K20/W20)*100 -> 151.19237 | O20: 13 | P20: 3 | Q20: =P20/O20*100 -> 23.076923 | R20: =P20/X20*100 -> 37.5 | S20: 344 | T20: Шигонский | U20: 0.5 | V20: 42.1 | W20: 629 | X20: 8
A21: Шуварское | B21: 0 | E21: =SUM(C21/U21)*100 -> #DIV/0! | F21: 0 | J21: 860 | K21: 388.9 | L21: =SUM(K21/J21)*100 -> 45.22093 | M21: =SUM(K21/S21)*1000 -> 1336.4261 | N21: =SUM(K21/W21)*100 -> 53.812094 | O21: 10 | P21: 1 | Q21: =P21/O21*100 -> 10 | R21: =P21/X21*100 -> 20 | S21: 291 | T21: Шуварский | V21: 0 | W21: 722.7 | X21: 5
A23: В С Е Г О | B23: =SUM(B5:B21) -> 99 | C23: =SUM(C5:C21) -> 33.2 | D23: =SUM(C23/B23)*100 -> 33.535354 | E23: =SUM(C23/U23)*100 -> 99.6997 | F23: =SUM(F5:F21) -> 2322 | G23: =SUM(G5:G21) -> 2500.6 | H23: =SUM(G23/F23)*100 -> 107.69165 | I23: =SUM(G23/V23)*100 -> 115.77924 | J23: =SUM(J5:J21) -> 101135 | K23: =SUM(K5:K21) -> 101503 | L23: =SUM(K23/J23)*100 -> 100.36387 | M23: =SUM(K23/S23)*1000 -> 8338.3718 | N23: =SUM(K23/W23)*100 -> 120.40802 | O23: =SUM(O5:O21) -> 636 | P23: =SUM(P5:P21) -> 660.4 | Q23: =P23/O23*100 -> 103.83648 | R23: =P23/X23*100 -> 100.60938 | S23: =SUM(S5:S22) -> 12173 | T23: В С Е Г О | U23: =SUM(U5:U21) -> 33.3 | V23: =SUM(V5:V21) -> 2159.8 | W23: =SUM(W5:W21) -> 84299.2 | X23: =SUM(X5:X21) -> 656.4

Sheet С нач.года 
A1: Выполнение показателей социально-экономического развития Старошайговского района за январь-сентябрь 2017 года
A2: Наименование сельского поселения | B2: Закуп МЯСА от СПК , тонн | F2: Закуп МОЛОКА от СПК , тонн | J2: Розничный товарооборот , т.руб. | O2: Реализация водки пр-ва РМ , дал. | S2: Численность населения на 1.01.2017 | T2: прошлый год 2016 сентябрь | X2: Закуп МЯСА от СПК ,тонн | AB2: Закуп МОЛОКА от СПК ,тонн | AF2: Розничный товарооборот ,т.руб. | AK2: Реализация водки пр-ва РМ ,дал.
B3: Прогноз с нач. года | C3: Факт с нач. года | D3: %вып.прогноза | E3: 2017 в % к 2016 | F3: Прогноз с нач. года | G3: Факт с нач. года | H3: %вып.прогноза | I3: 2017 в % к 2016 | J3: Прогноз с нач. года | K3: Факт с нач. года | L3: %вып.прогноза | M3: Т/об.на 1 жителя, руб. | N3: 2017 в % к 2016 | O3: Прогноз с нач. года | P3: Факт с нач. года | Q3: %вып.прогноза | R3: 2017 в % к 2016 | T3: мясо | U3: молоко | V3: Т/оборот | W3: Реализ. | X3: Прогноз | Y3: Факт | Z3: %вып. | AA3: 2017 в% | AB3: Прогноз | AC3: Факт | AD3: %вып. | AE3: 2017 в% | AF3: Прогноз | AG3: Факт | AH3: %вып. | AI3: Т/об.на | AJ3: 2017 в% | AK3: Прогноз | AL3: Факт | AM3: %вып. | AN3: 2017 в%
T4: СПК | U4: СПК | W4: водки | X4: с нач года | Y4: с нач года | AA4: к 2016 | AB4: с нач года | AC4: с нач года | AE4: к 2016 | AF4: с нач года | AG4: с нач года | AI4: 1жит.,руб. | AJ4: к 2016 | AK4: с нач.года | AL4: с нач.года | AN4: к 2016
A5: Богдановское | B5: =X5+Месяц!B5 -> 78 | C5: =Y5+Месяц!C5 -> 1.8 | D5: =SUM(C5/B5)*100 -> 2.3076923 | E5: =SUM(C5/T5)*100 -> 20.224719 | F5: =AB5+Месяц!F5 -> 2789 | G5: =AC5+Месяц!G5 -> 2827.3 | H5: =SUM(G5/F5)*100 -> 101.37325 | I5: =SUM(G5/U5)*100 -> 106.87609 | J5: =AF5+Месяц!J5 -> 22250 | K5: =AG5+Месяц!K5 -> 25281 | L5: =SUM(K5/J5)*100 -> 113.62247 | M5: 29920 | N5: 119.9 | O5: =AK5+Месяц!O5 -> 301 | P5: =AL5+Месяц!P5 -> 417 | Q5: =SUM(P5/O5)*100 -> 138.53821 | R5: =SUM(P5/AD5)*100 -> 402.50965 | S5: 718 | T5: 8.9 | U5: 2645.4 | V5: 21255 | W5: 325 | X5: 67 | Y5: 0.9 | Z5: 1.3 | AA5: 12.2 | AB5: 2479 | AC5: 2568.2 | AD5: 103.6 | AE5: 106.2 | AF5: 18500 | AG5: 21482.7 | AH5: 116.1 | AI5: 29920 | AJ5: 119.9 | AK5: 267 | AL5: 364 | AM5: 136.3 | AN5: 126.8
A6: Восходское | B6: =X6+Месяц!B6 -> 17 | C6: =Y6+Месяц!C6 -> 29.3 | D6: =SUM(C6/B6)*100 -> 172.35294 | E6: =SUM(C6/T6)*100 -> 332.95455 | F6: =AB6+Месяц!F6 -> 0 | H6: =SUM(G6/F6)*100 -> #DIV/0! | I6: =SUM(G6/U6)*100 -> 0 | J6: =AF6+Месяц!J6 -> 4970 | K6: =AG6+Месяц!K6 -> 3505 | L6: =SUM(K6/J6)*100 -> 70.523139 | M6: 12857 | N6: 73.1 | O6: =AK6+Месяц!O6 -> 94 | P6: =AL6+Месяц!P6 -> 0 | Q6: =SUM(P6/O6)*100 -> 0 | R6: =SUM(P6/AD6)*100 -> #DIV/0! | S6: 242 | T6: 8.8 | U6: 1082.9 | V6: 4663.8 | W6: 29 | X6: 15 | Y6: 27.5 | Z6: 183.3 | AA6: 392.9 | AB6: 0 | AD6: #DIV/0! | AE6: 0 | AF6: 4420 | AG6: 3111.4 | AH6: 70.4 | AI6: 12857 | AJ6: 73.1 | AK6: 84 | AL6: 0 | AM6: 0 | AN6: 0
A7: Инг.Пятинское | J7: =AF7+Месяц!J7 -> 3440 | K7: =AG7+Месяц!K7 -> 3323.3 | L7: =SUM(K7/J7)*100 -> 96.607558 | M7: 14200 | N7: 103 | O7: =AK7+Месяц!O7 -> 92 | P7: =AL7+Месяц!P7 -> 89 | Q7: =SUM(P7/O7)*100 -> 96.73913 | R7: =SUM(P7/AD7)*100 -> #DIV/0! | S7: 210 | V7: 3218 | W7: 114 | AF7: 3030 | AG7: 2981.9 | AH7: 98.4 | AI7: 14200 | AJ7: 103 | AK7: 82 | AL7: 78 | AM7: 95.1 | AN7: 75
A8: Конопатское | B8: =X8+Месяц!B8 -> 78 | C8: =Y8+Месяц!C8 -> 14.2 | D8: =SUM(C8/B8)*100 -> 18.205128 | E8: =SUM(C8/T8)*100 -> 40.804598 | F8: =AB8+Месяц!F8 -> 2327 | G8: =AC8+Месяц!G8 -> 2420.6 | H8: =SUM(G8/F8)*100 -> 104.02235 | I8: =SUM(G8/U8)*100 -> 107.37701 | J8: =AF8+Месяц!J8 -> 8290 | K8: =AG8+Месяц!K8 -> 11119 | L8: =SUM(K8/J8)*100 -> 134.12545 | M8: 33266 | N8: 137.8 | O8: =AK8+Месяц!O8 -> 108 | P8: =AL8+Месяц!P8 -> 71 | Q8: =SUM(P8/O8)*100 -> 65.740741 | R8: =SUM(P8/AD8)*100 -> 68.466731 | S8: 282 | T8: 34.8 | U8: 2254.3 | V8: 7781 | W8: 78 | X8: 68 | Y8: 13.3 | Z8: 19.6 | AA8: 39.9 | AB8: 2117 | AC8: 2194.5 | AD8: 103.7 | AE8: 106.7 | AF8: 6990 | AG8: 9381 | AH8: 134.2 | AI8: 33266 | AJ8: 137.8 | AK8: 95 | AL8: 64 | AM8: 67.4 | AN8: 98.5
A9: Лемдяйское | B9: =X9+Месяц!B9 -> 69 | C9: =Y9+Месяц!C9 -> 67.8 | D9: =SUM(C9/B9)*100 -> 98.26087 | E9: =SUM(C9/T9)*100 -> 133.20236 | J9: =AF9+Месяц!J9 -> 8008 | K9: =AG9+Месяц!K9 -> 6361.3 | L9: =SUM(K9/J9)*100 -> 79.436813 | M9: 10187 | N9: 83 | O9: =AK9+Месяц!O9 -> 135 | P9: =AL9+Месяц!P9 -> 102 | Q9: =SUM(P9/O9)*100 -> 75.555556 | R9: =SUM(P9/AD9)*100 -> #DIV/0! | S9: 557 | T9: 50.9 | V9: 7570.3 | W9: 83 | X9: 61 | Y9: 60.8 | Z9: 99.7 | AA9: 133 | AF9: 7008 | AG9: 5673.9 | AH9: 81 | AI9: 10187 | AJ9: 83 | AK9: 119 | AL9: 92 | AM9: 77.3 | AN9: 127.8
A10: Леткинское | B10: =X10+Месяц!B10 -> 0 | J10: =AF10+Месяц!J10 -> 9755 | K10: =AG10+Месяц!K10 -> 8492.6 | L10: =SUM(K10/J10)*100 -> 87.058944 | M10: 19983 | N10: 89.9 | O10: =AK10+Месяц!O10 -> 119 | P10: =AL10+Месяц!P10 -> 115 | Q10: =SUM(P10/O10)*100 -> 96.638655 | R10: =SUM(P10/AD10)*100 -> #DIV/0! | S10: 361 | V10: 9329.9 | W10: 120 | X10: 0 | AF10: 8285 | AG10: 7213.7 | AH10: 87.1 | AI10: 19983 | AJ10: 89.9 | AK10: 105 | AL10: 99 | AM10: 94.3 | AN10: 93.4
A11: Мельцанское | B11: =X11+Месяц!B11 -> 52 | C11: =Y11+Месяц!C11 -> 0.9 | D11: =SUM(C11/B11)*100 -> 1.7307692 | E11: =SUM(C11/T11)*100 -> 112.5 | F11: =AB11+Месяц!F11 -> 1497 | G11: =AC11+Месяц!G11 -> 1550.7 | H11: =SUM(G11/F11)*100 -> 103.58717 | I11: =SUM(G11/U11)*100 -> 107.18877 | J11: =AF11+Месяц!J11 -> 30604 | K11: =AG11+Месяц!K11 -> 30242.8 | L11: =SUM(K11/J11)*100 -> 98.819762 | M11: 32425 | N11: 102.3 | O11: =AK11+Месяц!O11 -> 339 | P11: =AL11+Месяц!P11 -> 264 | Q11: =SUM(P11/O11)*100 -> 77.876106 | R11: =SUM(P11/AD11)*100 -> 251.9084 | S11: 821 | T11: 0.8 | U11: 1446.7 | V11: 28871.2 | W11: 303 | X11: 45 | Y11: 0.5 | Z11: 1.1 | AA11: #DIV/0! | AB11: 1334 | AC11: 1397.7 | AD11: 104.8 | AE11: 106.9 | AF11: 27004 | AG11: 26620.8 | AH11: 98.6 | AI11: 32425 | AJ11: 102.3 | AK11: 299 | AL11: 238 | AM11: 79.6 | AN11: 88.1
A12: Новоакшинское | B12: =X12+Месяц!B12 -> 73 | C12: =Y12+Месяц!C12 -> 0.8 | D12: =SUM(C12/B12)*100 -> 1.0958904 | E12: =SUM(C12/T12)*100 -> 0.30406689 | F12: =AB12+Месяц!F12 -> 3223 | G12: =AC12+Месяц!G12 -> 3341.6 | H12: =SUM(G12/F12)*100 -> 103.6798 | I12: =SUM(G12/U12)*100 -> 85.693038 | J12: =AF12+Месяц!J12 -> 54474 | K12: =AG12+Месяц!K12 -> 48653 | L12: =SUM(K12/J12)*100 -> 89.314168 | M12: 45295 | N12: 91.8 | O12: =AK12+Месяц!O12 -> 346 | P12: =AL12+Месяц!P12 -> 370 | Q12: =SUM(P12/O12)*100 -> 106.93642 | R12: =SUM(P12/AD12)*100 -> 350.37879 | S12: 940 | T12: 263.1 | U12: 3899.5 | V12: 52159.2 | W12: 310.4 | X12: 64 | Y12: 0.4 | Z12: 0.6 | AA12: 0.2 | AB12: 2865 | AC12: 3025 | AD12: 105.6 | AE12: 85.2 | AF12: 47674 | AG12: 42577 | AH12: 89.3 | AI12: 45295 | AJ12: 91.8 | AK12: 306 | AL12: 328 | AM12: 107.2 | AN12: 140.2
A13: Н.Александровское | B13: =X13+Месяц!B13 -> 0 | F13: =AB13+Месяц!F13 -> 0 | J13: =AF13+Месяц!J13 -> 2107 | K13: =AG13+Месяц!K13 -> 2410.2 | L13: =SUM(K13/J13)*100 -> 114.39013 | M13: 8609 | N13: 125.2 | O13: =AK13+Месяц!O13 -> 38 | P13: =AL13+Месяц!P13 -> 0 | Q13: =SUM(P13/O13)*100 -> 0 | R13: =SUM(P13/AD13)*100 -> #DIV/0! | S13: 244 | V13: 1922.4 | W13: 6 | X13: 0 | AB13: 0 | AF13: 1807 | AG13: 2100.5 | AH13: 116.2 | AI13: 8609 | AJ13: 125.2 | AK13: 35 | AL13: 0 | AM13: 0 | AN13: 0
A14: Новотроицкое | B14: =X14+Месяц!B14 -> 176 | C14: =Y14+Месяц!C14 -> 120.2 | D14: =SUM(C14/B14)*100 -> 68.295455 | E14: =SUM(C14/T14)*100 -> 127.33051 | F14: =AB14+Месяц!F14 -> 6348 | G14: =AC14+Месяц!G14 -> 6366.8 | H14: =SUM(G14/F14)*100 -> 100.29616 | I14: =SUM(G14/U14)*100 -> 100.34358 | J14: =AF14+Месяц!J14 -> 64795 | K14: =AG14+Месяц!K14 -> 80370.3 | L14: =SUM(K14/J14)*100 -> 124.03781 | M14: 137982 | N14: 129.4 | O14: =AK14+Месяц!O14 -> 250 | P14: =AL14+Месяц!P14 -> 291 | Q14: =SUM(P14/O14)*100 -> 116.4 | R14: =SUM(P14/AD14)*100 -> 287.83383 | S14: 507 | T14: 94.4 | U14: 6345 | V14: 61976.6 | W14: 221 | X14: 146 | Y14: 105.8 | Z14: 72.5 | AA14: 129.5 | AB14: 5657 | AC14: 5718.9 | AD14: 101.1 | AE14: 101.1 | AF14: 55895 | AG14: 69956.8 | AH14: 125.2 | AI14: 137982 | AJ14: 129.4 | AK14: 222 | AL14: 250 | AM14: 112.6 | AN14: 130.9
A15: Н.Федоровское | B15: =X15+Месяц!B15 -> 24 | C15: =Y15+Месяц!C15 -> 5 | D15: =SUM(C15/B15)*100 -> 20.833333 | E15: =SUM(C15/T15)*100 -> 185.18519 | F15: =AB15+Месяц!F15 -> 341 | G15: =AC15+Месяц!G15 -> 407.7 | H15: =SUM(G15/F15)*100 -> 119.56012 | I15: =SUM(G15/U15)*100 -> 125.09972 | J15: =AF15+Месяц!J15 -> 13160 | K15: =AG15+Месяц!K15 -> 15035 | L15: =SUM(K15/J15)*100 -> 114.24772 | M15: 16045 | N15: 117.8 | O15: =AK15+Месяц!O15 -> 313 | P15: =AL15+Месяц!P15 -> 209 | Q15: =SUM(P15/O15)*100 -> 66.773163 | R15: =SUM(P15/AD15)*100 -> 180.17241 | S15: 818 | T15: 2.7 | U15: 325.9 | V15: 12433 | W15: 181 | X15: 21 | Y15: 4.3 | Z15: 20.5 | AA15: 187 | AB15: 302 | AC15: 350.4 | AD15: 116 | AE15: 120.6 | AF15: 11510 | AG15: 13125 | AH15: 114 | AI15: 16045 | AJ15: 117.8 | AK15: 276 | AL15: 190 | AM15: 68.8 | AN15: 131
A16: Рязановское | B16: =X16+Месяц!B16 -> 63 | C16: =Y16+Месяц!C16 -> 49.1 | D16: =SUM(C16/B16)*100 -> 77.936508 | E16: =SUM(C16/T16)*100 -> 22.409859 | F16: =AB16+Месяц!F16 -> 0 | J16: =AF16+Месяц!J16 -> 2548 | K16: =AG16+Месяц!K16 -> 2800 | L16: =SUM(K16/J16)*100 -> 109.89011 | M16: 13533 | N16: 116.4 | O16: =AK16+Месяц!O16 -> 94 | P16: =AL16+Месяц!P16 -> 54 | Q16: =SUM(P16/O16)*100 -> 57.446809 | R16: =SUM(P16/AD16)*100 -> #DIV/0! | S16: 184 | T16: 219.1 | U16: 863 | V16: 2450 | W16: 57 | X16: 58 | Y16: 43.4 | Z16: 74.8 | AA16: 20.6 | AB16: 0 | AF16: 2198 | AG16: 2490 | AH16: 113.3 | AI16: 13533 | AJ16: 116.4 | AK16: 84 | AL16: 46 | AM16: 54.8 | AN16: 90.2
A17: Ст.Теризморгское | B17: =X17+Месяц!B17 -> 63 | C17: =Y17+Месяц!C17 -> 47.9 | D17: =SUM(C17/B17)*100 -> 76.031746 | F17: =AB17+Месяц!F17 -> 3262 | G17: =AC17+Месяц!G17 -> 4507.7 | H17: =SUM(G17/F17)*100 -> 138.18823 | I17: =SUM(G17/U17)*100 -> #DIV/0! | J17: =AF17+Месяц!J17 -> 11487 | K17: =AG17+Месяц!K17 -> 10052.5 | L17: =SUM(K17/J17)*100 -> 87.51197 | M17: 12529 | N17: 88.8 | O17: =AK17+Месяц!O17 -> 313 | P17: =AL17+Месяц!P17 -> 264 | Q17: =SUM(P17/O17)*100 -> 84.345048 | R17: =SUM(P17/AD17)*100 -> 197.45699 | S17: 704 | V17: 11236.8 | W17: 278 | X17: 55 | Y17: 47.8 | Z17: 86.9 | AB17: 2936 | AC17: 3926.2 | AD17: 133.7 | AE17: #DIV/0! | AF17: 9937 | AG17: 8820.7 | AH17: 88.8 | AI17: 12529 | AJ17: 88.8 | AK17: 276 | AL17: 231 | AM17: 83.7 | AN17: 93.9
A18: Ст.Федоровское | B18: =X18+Месяц!B18 -> 35 | C18: =Y18+Месяц!C18 -> 1 | D18: =SUM(C18/B18)*100 -> 2.8571429 | E18: =SUM(C18/T18)*100 -> 2.6954178 | F18: =AB18+Месяц!F18 -> 1759 | G18: =AC18+Месяц!G18 -> 1881.1 | H18: =SUM(G18/F18)*100 -> 106.94144 | I18: =SUM(G18/U18)*100 -> 114.25534 | J18: =AF18+Месяц!J18 -> 6282 | K18: =AG18+Месяц!K18 -> 8718 | L18: =SUM(K18/J18)*100 -> 138.77746 | M18: 21846 | N18: 149.4 | O18: =AK18+Месяц!O18 -> 106 | P18: =AL18+Месяц!P18 -> 136.6 | Q18: =SUM(P18/O18)*100 -> 128.86792 | R18: =SUM(P18/AD18)*100 -> 127.06977 | S18: 351 | T18: 37.1 | U18: 1646.4 | V18: 5934 | W18: 0 | X18: 30 | Y18: 0.5 | Z18: 1.7 | AA18: 1.4 | AB18: 1578 | AC18: 1700.3 | AD18: 107.5 | AE18: 115.5 | AF18: 5382 | AG18: 7668 | AH18: 142.5 | AI18: 21846 | AJ18: 149.4 | AK18: 95 | AL18: 117.6 | AM18: 123.8 | AN18: #DIV/0!
A19: Ст.Шайговское | B19: =X19+Месяц!B19 -> 0 | F19: =AB19+Месяц!F19 -> 0 | J19: =AF19+Месяц!J19 -> 474792 | K19: =AG19+Месяц!K19 -> 535883.9 | L19: =SUM(K19/J19)*100 -> 112.86709 | M19: 101953 | N19: 117.6 | O19: =AK19+Месяц!O19 -> 2531 | P19: =AL19+Месяц!P19 -> 2886.2 | Q19: =SUM(P19/O19)*100 -> 114.03398 | R19: =SUM(P19/AD19)*100 -> #DIV/0! | S19: 4599 | V19: 454193 | W19: 2698.2 | X19: 0 | AB19: 0 | AF19: 407837 | AG19: 468881.4 | AH19: 115 | AI19: 101953 | AJ19: 117.6 | AK19: 2221 | AL19: 2514.8 | AM19: 113.2 | AN19: 106.8
A20: Шигонское | B20: =X20+Месяц!B20 -> 11 | C20: =Y20+Месяц!C20 -> 0.4 | D20: =SUM(C20/B20)*100 -> 3.6363636 | E20: =SUM(C20/T20)*100 -> 44.444444 | F20: =AB20+Месяц!F20 -> 443 | G20: =AC20+Месяц!G20 -> 622.7 | H20: =SUM(G20/F20)*100 -> 140.56433 | I20: =SUM(G20/U20)*100 -> 149.22118 | J20: =AF20+Месяц!J20 -> 4216 | K20: =AG20+Месяц!K20 -> 4969 | L20: =SUM(K20/J20)*100 -> 117.86053 | M20: 11680 | N20: 124.6 | O20: =AK20+Месяц!O20 -> 114 | P20: =AL20+Месяц!P20 -> 90 | Q20: =SUM(P20/O20)*100 -> 78.947368 | R20: =SUM(P20/AD20)*100 -> 65.982405 | S20: 344 | T20: 0.9 | U20: 417.3 | V20: 3854.8 | W20: 52 | X20: 10 | Y20: 0 | Z20: 0 | AA20: 0 | AB20: 399 | AC20: 544.4 | AD20: 136.4 | AE20: 145.1 | AF20: 3426 | AG20: 4018 | AH20: 117.3 | AI20: 11680 | AJ20: 124.6 | AK20: 101 | AL20: 87 | AM20: 86.1 | AN20: 197.7
A21: Шуварское | B21: =X21+Месяц!B21 -> 4 | C21: =Y21+Месяц!C21 -> 0.4 | D21: =SUM(C21/B21)*100 -> 10 | E21: =SUM(C21/T21)*100 -> 1.6 | F21: =AB21+Месяц!F21 -> 0 | J21: =AF21+Месяц!J21 -> 3638 | K21: =AG21+Месяц!K21 -> 3709.1 | L21: =SUM(K21/J21)*100 -> 101.95437 | M21: 11410 | N21: 128.8 | O21: =AK21+Месяц!O21 -> 99 | P21: =AL21+Месяц!P21 -> 36 | Q21: =SUM(P21/O21)*100 -> 36.363636 | R21: =SUM(P21/AD21)*100 -> #DIV/0! | S21: 291 | T21: 25 | U21: 379.3 | V21: 3300.5 | W21: 55 | X21: 4 | Y21: 0.4 | Z21: 10 | AA21: 1.6 | AB21: 0 | AF21: 2778 | AG21: 3320.2 | AH21: 119.5 | AI21: 11410 | AJ21: 128.8 | AK21: 89 | AL21: 35 | AM21: 39.3 | AN21: 70
F22: =AB22+Месяц!F22 -> 0 | J22: 0 | O22: =AK22+Месяц!O22 -> 0 | P22: =AL22+Месяц!P22 -> 0 | Q22: =SUM(P22/O22)*100 -> #DIV/0! | R22: =SUM(P22/AD22)*100 -> #DIV/0! | AB22: 0 | AF22: 0 | AK22: 0
A23: В С Е Г О | B23: =SUM(B5:B21) -> 743 | C23: =SUM(C5:C21) -> 338.8 | D23: =SUM(C23/B23)*100 -> 45.598923 | E23: =SUM(C23/T23)*100 -> 45.385131 | F23: =AB23+Месяц!F23 -> 21989 | G23: =SUM(G5:G21) -> 23926.2 | H23: =SUM(G23/F23)*100 -> 108.80986 | I23: =SUM(G23/U23)*100 -> 112.29953 | J23: =AF23+Месяц!J23 -> 724816 | K23: =SUM(K5:K21) -> 800926 | L23: =SUM(K23/J23)*100 -> 110.5006 | M23: =SUM(K23/S23)*1000 -> 65795.285 | N23: =SUM(K23/V23)*100 -> 115.71575 | O23: =AK23+Месяц!O23 -> 5392 | P23: =SUM(P5:P21) -> 5394.8 | Q23: =P23/O23*100 -> 100.05193 | R23: =P23/W23*100 -> 109.8603 | S23: =SUM(S5:S22) -> 12173 | T23: =SUM(T5:T21) -> 746.5 | U23: =SUM(U5:U21) -> 21305.7 | V23: =SUM(V5:V21) -> 692149.5 | W23: =SUM(W5:W21) -> 4910.6 | X23: =SUM(X5:X21) -> 644 | Y23: =SUM(Y5:Y21) -> 305.6 | Z23: =Y23/X23*100 -> 47.453416 | AA23: 36.8 | AB23: =SUM(AB5:AB21) -> 19667 | AC23: =SUM(AC5:AC21) -> 21425.6 | AD23: =AC23/AB23*100 -> 108.94188 | AE23: 112.1 | AF23: =SUM(AF5:AF21) -> 623681 | AG23: =SUM(AG5:AG21) -> 699423 | AH23: =SUM(AG23/AF23)*100 -> 112.14435 | AI23: 36766 | AJ23: 104.6 | AK23: =SUM(AK5:AK21) -> 4756 | AL23: =SUM(AL5:AL21) -> 4734.4 | AM23: =AL23/AK23*100 -> 99.545837 | AN23: 112.2

Sheet Отгрузка
A1: Объем отгруженных товаров собственного производства, выполненных работ и услуг собственными силами по предприятиям,
A2: функционирующим на территории Старошайговского муниципального района | P2: 2017 | Q2: январь-август
A3: Наименование предприятия | B3: Ед. изм. | C3: Прогноз на 2017 год | D3: Прогноз с начала года | E3: Факт с начала года | F3: % | G3: Факт с начала 2016года | H3: 2017 в % 2016 | I3: в т.ч. сентябрь | O3: Прогноз | P3: Факт | Q3: Факт
F4: вып-я | I4: Прогноз | J4: Факт | K4: % вып-я | L4: факт 2016 | M4: 2017 в % 2016 | O4: с нач.года | P4: с нач.года | Q4: 2016
A5: Ст.Шайговский участок "Электротеплосеть" | B5: т.руб. | C5: 8541 | D5: =O5+I5 -> 6264 | E5: =P5+J5 -> 5969.1 | F5: =SUM(E5/D5)*100 -> 95.292146 | G5: 6179.6 | H5: =SUM(E5/G5)*100 -> 96.593631 | I5: 653 | J5: 702.1 | K5: =SUM(J5/I5)*100 -> 107.51914 | L5: 653.3 | M5: =SUM(J5/L5)*100 -> 107.46977 | N5: Ст.Шайговский участок "Электротеплосеть" | O5: 5611 | P5: 5267 | Q5: 5526.3
A6: ВСЕГО ПО РАЙОНУ | C6: =SUM(C5:C5) -> 8541 | D6: =SUM(D5:D5) -> 6264 | E6: =SUM(E5:E5) -> 5969.1 | F6: =SUM(E6/D6)*100 -> 95.292146 | G6: =SUM(G5:G5) -> 6179.6 | H6: =SUM(E6/G6)*100 -> 96.593631 | I6: 653 | J6: =SUM(J5:J5) -> 702.1 | K6: =SUM(J6/I6)*100 -> 107.51914 | L6: =SUM(L5:L5) -> 653.3 | M6: =SUM(J6/L6)*100 -> 107.46977 | N6: ВСЕГО ПО РАЙОНУ | O6: =SUM(O5:O5) -> 5611 | P6: =SUM(P5:P5) -> 5267 | Q6: =SUM(Q5:Q5) -> 5526.3

Sheet Товарность  
A1: Анализ производства и реализации молока СПК за январь-сентябрь 2017
A2: Наименование | B2: Производство молока,тонн | E2: Удельный вес, % | G2: Надой на 1 корову, кг | J2: Закуп молока, тонн физ.в. | M2: Товарность, в % | P2: Поголовье коров
A3: сельхоз- | B3: январь-сентябрь | D3: Темп | E3: январь-сентябрь | G3: январь-сентябрь | I3: Темп | J3: январь-сентябрь | L3: Темп | M3: январь-сентябрь | O3: ,+,- | P3: 42644 | R3: 43009
A4: предприятия | B4: 2016 | C4: 2017 | D4: роста | E4: 2016 | F4: 2017 | G4: 2016 | H4: 2017 | I4: роста | J4: 2016 | K4: 2017 | L4: роста | M4: 2016 | N4: 2017 | P4: молоч. | Q4: мясн. | R4: молоч. | S4: мясн.
A5: "Богдановский" | B5: 2614.2 | C5: 2703.2 | D5: =C5/B5*100 -> 103.40448 | E5: =B5/B29*100 -> 13.081923 | F5: =C5/C29*100 -> 11.90622 | G5: =B5/P5*1000 -> 4021.8462 | H5: =C5/R5*1000 -> 4158.7692 | I5: =H5/G5*100 -> 103.40448 | J5: 2388.3 | K5: 2515.7 | L5: =K5/J5*100 -> 105.33434 | M5: =J5/B5*100 -> 91.358733 | N5: =K5/C5*100 -> 93.063776 | O5: =N5-M5 -> 1.7050432 | P5: 650 | Q5: 200 | R5: 650 | S5: 200 | T5: =R5+S5 -> 850
A6: АФ "Рязановка" | B6: 92.5 | C6: 0 | D6: =C6/B6*100 -> 0 | E6: =B6/B29*100 -> 0.46288651 | F6: =C6/C29*100 -> 0 | J6: 123 | L6: =K6/J6*100 -> 0 | M6: =J6/B6*100 -> 132.97297 | P6: 0 | Q6: 0 | T6: =R6+S6 -> 0
A7: ООО "Союз-Агро" | B7: 407 | C7: 612.6 | D7: =C7/B7*100 -> 150.51597 | E7: =B7/B29*100 -> 2.0367006 | F7: =C7/C29*100 -> 2.6981911 | G7: =B7/P7*1000 -> 2713.3333 | H7: =C7/R7*1000 -> 4084 | I7: =H7/G7*100 -> 150.51597 | J7: 374 | K7: 554.8 | L7: =K7/J7*100 -> 148.34225 | M7: =J7/B7*100 -> 91.891892 | N7: =K7/C7*100 -> 90.564806 | O7: =N7-M7 -> -1.3270861 | P7: 150 | R7: 150 | T7: =R7+S7 -> 150
A8: ООО "Биосфера" | B8: 388.9 | C8: 441.8 | D8: =C8/B8*100 -> 113.60247 | E8: =B8/B29*100 -> 1.946125 | F8: =C8/C29*100 -> 1.945904 | G8: =B8/P8*1000 -> 3889 | H8: =C8/R8*1000 -> 4418 | I8: =H8/G8*100 -> 113.60247 | J8: 299.4 | K8: 372.5 | L8: =K8/J8*100 -> 124.4155 | M8: =J8/B8*100 -> 76.986372 | N8: =K8/C8*100 -> 84.314169 | O8: =N8-M8 -> 7.3277975 | P8: 100 | Q8: 100 | R8: 100 | S8: 100 | T8: =R8+S8 -> 200
A9: ООО"Конопатское" | B9: 2152.9 | C9: 2280 | D9: =C9/B9*100 -> 105.90366 | E9: =B9/B29*100 -> 10.773496 | F9: =C9/C29*100 -> 10.042239 | G9: =B9/P9*1000 -> 3844.4643 | H9: =C9/R9*1000 -> 3864.4068 | I9: =H9/G9*100 -> 100.51873 | J9: 2024.3 | K9: 2152.1 | L9: =K9/J9*100 -> 106.31329 | M9: =J9/B9*100 -> 94.026662 | N9: =K9/C9*100 -> 94.390351 | O9: =N9-M9 -> 0.36368917 | P9: 560 | Q9: 0 | R9: 590 | T9: 590
A10: ООО "Созидание" | B10: 163.4 | C10: 0 | D10: =C10/B10*100 -> 0 | E10: =B10/B29*100 -> 0.81768277 | F10: =C10/C29*100 -> 0 | J10: 169.7 | K10: 0 | L10: =K10/J10*100 -> 0 | M10: =J10/B10*100 -> 103.85557 | P10: 0 | T10: =R10+S10 -> 0
A11: ООО "Квартет" | B11: 539 | C11: 373.4 | D11: =C11/B11*100 -> 69.276438 | E11: =B11/B29*100 -> 2.6972522 | F11: =C11/C29*100 -> 1.6446369 | G11: =B11/P11*1000 -> 3062.5 | H11: =C11/R11*1000 -> 2121.5909 | I11: =H11/G11*100 -> 69.276438 | J11: 480.2 | K11: 324.9 | L11: =K11/J11*100 -> 67.659309 | M11: =J11/B11*100 -> 89.090909 | N11: =K11/C11*100 -> 87.011248 | O11: =N11-M11 -> -2.0796611 | P11: 176 | Q11: 0 | R11: 176 | T11: =R11+S11 -> 176
A12: АФ "Новотроицкая" | B12: 5818.4 | C12: 6232.4 | D12: =C12/B12*100 -> 107.11536 | E12: =B12/B29*100 -> 29.116312 | F12: =C12/C29*100 -> 27.450549 | G12: =B12/P12*1000 -> 5818.4 | H12: =C12/R12*1000 -> 6232.4 | I12: =H12/G12*100 -> 107.11536 | J12: 5606.7 | K12: 5816.7 | L12: =K12/J12*100 -> 103.74552 | M12: =J12/B12*100 -> 96.361543 | N12: =K12/C12*100 -> 93.330017 | O12: =N12-M12 -> -3.0315254 | P12: 1000 | Q12: 80 | R12: 1000 | T12: 1000
A13: От. Н-Акшино АФ Окт | B13: 1208.1 | C13: 2873.4 | D13: =C13/B13*100 -> 237.84455 | F13: =C13/C29*100 -> 12.655864 | G13: 2413 | H13: 5747 | J13: 1234.5 | K13: 2624.9 | L13: =K13/J13*100 -> 212.62859 | N13: =K13/C13*100 -> 91.351709 | R13: 500 | T13: =R13+S13 -> 500
A14: ООО "Огаревское | B14: 1745.1 | E14: 16.6 | G14: 4175 | J14: 1678.2 | M14: =J14/B14*100 -> 96.166409 | P14: 500 | T14: =R14+S14 -> 0
A15: "Восход" | B15: 242 | C15: 0 | D15: =C15/B15*100 -> 0 | E15: =B15/B29*100 -> 1.2110112 | F15: =C15/C29*100 -> 0 | J15: 318.6 | K15: 0 | M15: =J15/B15*100 -> 131.65289 | P15: 0 | T15: =R15+S15 -> 0
A16: ООО "Ирсетское" | T16: =R16+S16 -> 0
A17: КФХ Пантюшина | B17: 1493 | C17: 1630.5 | D17: =C17/B17*100 -> 109.20965 | E17: =B17/B29*100 -> 7.4712385 | F17: =C17/C29*100 -> 7.1815223 | G17: =B17/P17*1000 -> 4976.6667 | H17: =C17/R17*1000 -> 5435 | I17: =H17/G17*100 -> 109.20965 | J17: 1396.8 | K17: 1551 | L17: =K17/J17*100 -> 111.03952 | M17: =J17/B17*100 -> 93.556597 | N17: =K17/C17*100 -> 95.124195 | O17: =N17-M17 -> 1.5675976 | P17: 300 | Q17: 53 | R17: 300 | T17: 300
A18: ПХ"Мельцанское" | B18: 1326.8 | C18: 1338.1 | D18: =C18/B18*100 -> 100.85167 | E18: =B18/B29*100 -> 6.639544 | F18: =C18/C29*100 -> 5.8936492 | G18: =B18/P18*1000 -> 3790.8571 | H18: =C18/R18*1000 -> 3823.1429 | I18: =H18/G18*100 -> 100.85167 | J18: 1214.3 | K18: 1237.6 | L18: =K18/J18*100 -> 101.9188 | M18: =J18/B18*100 -> 91.520953 | N18: =K18/C18*100 -> 92.489351 | O18: =N18-M18 -> 0.9683979 | P18: 350 | R18: 350 | T18: =R18+S18 -> 350
A19: КФХ Потапова | B19: 64.8 | C19: 65.4 | D19: =C19/B19*100 -> 100.92593 | E19: =B19/B29*100 -> 0.32427077 | F19: =C19/C29*100 -> 0.2880537 | G19: =B19/P19*1000 -> 5400 | H19: =C19/R19*1000 -> 5450 | I19: =H19/G19*100 -> 100.92593 | P19: 12 | Q19: 17 | R19: 12 | S19: 17 | T19: =R19+S19 -> 29
A20: КФХ Аксенкин | B20: 23.3 | C20: 23.8 | D20: =C20/B20*100 -> 102.14592 | E20: =B20/B29*100 -> 0.11659736 | F20: =C20/C29*100 -> 0.10482688 | G20: =B20/P20*1000 -> 4660 | H20: =C20/R20*1000 -> 4760 | I20: =H20/G20*100 -> 102.14592 | P20: 5 | R20: 5 | T20: =R20+S20 -> 5
A21: КФХ Цыпцын А.В. | B21: 38.6 | C21: 45 | E21: =B21/B29*100 -> 0.19316129 | F21: =C21/C29*100 -> 0.19820209 | G21: =B21/P21*1000 -> 1930 | H21: =C21/R21*1000 -> 2250 | I21: =H21/G21*100 -> 116.58031 | P21: 20 | Q21: 8 | R21: 20 | S21: 8 | T21: =R21+S21 -> 28
A22: КФХ Мартынова | B22: 45 | C22: 47.1 | D22: =C22/B22*100 -> 104.66667 | E22: =B22/B29*100 -> 0.22518803 | F22: =C22/C29*100 -> 0.20745152 | G22: =B22/P22*1000 -> 4090.9091 | H22: =C22/R22*1000 -> 4281.8182 | I22: =H22/G22*100 -> 104.66667 | J22: 15.8 | K22: 14.5 | L22: =K22/J22*100 -> 91.772152 | M22: 0 | N22: =K22/C22*100 -> 30.785563 | O22: =N22-M22 -> 30.785563 | P22: 11 | R22: 11 | T22: =R22+S22 -> 11
A23: КФХ Маргарян А.П. | E23: =B23/B29*100 -> 0 | F23: =C23/C29*100 -> 0 | Q23: 20 | S23: 20 | T23: =R23+S23 -> 20
A24: КФХ Кибакова С.В. | B24: 21.7 | C24: 25.5 | D24: =C24/B24*100 -> 117.51152 | E24: =B24/B29*100 -> 0.10859067 | F24: =C24/C29*100 -> 0.11231452 | G24: =B24/P24*1000 -> 4340 | H24: =C24/R24*1000 -> 5100 | I24: =H24/G24*100 -> 117.51152 | P24: 5 | R24: 5 | T24: =R24+S24 -> 5
A25: КФХ Чечеткин А. | B25: 18.9 | C25: 35.6 | D25: =C25/B25*100 -> 188.35979 | E25: =B25/B29*100 -> 0.094578973 | F25: =C25/C29*100 -> 0.15679987 | G25: =B25/P25*1000 -> 2100 | H25: =C25/R25*1000 -> 3955.5556 | I25: =H25/G25*100 -> 188.35979 | P25: 9 | R25: 9 | T25: =R25+S25 -> 9
A26: КФХ Чугунова В.В. | B26: 7.5 | C26: 9.5 | D26: =C26/B26*100 -> 126.66667 | E26: =B26/B29*100 -> 0.037531339 | F26: =C26/C29*100 -> 0.041842663 | G26: =B26/P26*1000 -> 3750 | H26: =C26/R26*1000 -> 4750 | I26: =H26/G26*100 -> 126.66667 | P26: 2 | R26: 2 | T26: =R26+S26 -> 2
A27: КФХ Лавров А.Ю. | C27: 20.2 | H27: 2885 | K27: 0.7 | R27: 18 | T27: 18
A28: ОП АФ "Чамзинская" | B28: 1572.2 | C28: 3946.6 | D28: =C28/B28*100 -> 251.02404 | E28: =B28/B29*100 -> 7.8675694 | F28: =C28/C29*100 -> 17.382763 | G28: 3815 | H28: =C28/R28*1000 -> 5206.5963 | I28: =H28/G28*100 -> 136.47697 | J28: 1317.8 | K28: 3841.4 | L28: =K28/J28*100 -> 291.50099 | N28: =K28/C28*100 -> 97.334414 | O28: =N28-M28 -> 97.334414 | P28: 668 | R28: 758 | T28: 758
A29: В С Е Г О | B29: =SUM(B5:B28) -> 19983.3 | C29: =SUM(C5:C28) -> 22704.1 | D29: =C29/B29*100 -> 113.61537 | E29: 100 | F29: 100 | G29: 4268 | H29: 4889 | I29: =H29/G29*100 -> 114.55014 | J29: =SUM(J5:J28) -> 18641.6 | K29: =SUM(K5:K28) -> 21006.8 | L29: =K29/J29*100 -> 112.68775 | M29: =J29/B29*100 -> 93.285894 | N29: =K29/C29*100 -> 92.524258 | O29: =N29-M29 -> -0.76163599 | P29: =SUM(P5:P28) -> 4518 | Q29: =SUM(Q5:Q28) -> 478 | R29: =SUM(R5:R28) -> 4656 | S29: =SUM(S5:S28) -> 345 | T29: =SUM(T5:T28) -> 5001

Sheet АПК 
A1: АНАЛИЗ ПО ЗАКУПКАМ В СЕЛЬХОЗПРЕДПРИЯТИЯХ ЗА январь-сентябрь 2017 года | Z1: Копируем с предыд месяца 2017 январь-июль
B2: ЗАКУП М О Л О К А с начала года ,тонн | H2: в том числе сентябрь | L2: ЗАКУП М Я С А с начала года ,тонн | R2: в том числе сентябрь | V2: прошлый год 2016 | Z2: молоко | AA2: 2017 | AB2: мясо | AC2: 2017
B3: Прогноз на 2017 год | C3: Прогноз с начала года | D3: Факт с начала года | E3: % выполнения | F3: % выполнения годового прогноза | G3: 2017 в % к 2016 | H3: Прогноз сентябрь | I3: Факт сентябрь | J3: % выполнения | K3: 2017 в % к 2016 | L3: Прогноз на 2017 год | M3: Прогноз с начала года | N3: Факт с начала года | O3: % выполнения | P3: % выполнения годового прогноза | Q3: 2017 в % к 2016 | R3: Прогноз сентябрь | S3: Факт сентябрь | T3: % выполнения | U3: 2017 в % к 2016 | V3: молоко | X3: мясо | Z3: Прогноз | AA3: Факт | AB3: Прогноз | AC3: Факт
V4: с нач.г. | W4: сентябрь | X4: с нач.г. | Y4: сентябрь | Z4: с н.г. | AA4: с н.г. | AB4: с н.г. | AC4: с н.г.
A5: ООО СП"Богдановское" | B5: 3755 | C5: =H5+Z5 -> 2789 | D5: =I5+AA5 -> 2827.3 | E5: =SUM(D5/C5)*100 -> 101.37325 | F5: =D5/B5*100 -> 75.294274 | G5: =D5/V5*100 -> 106.87609 | H5: 310 | I5: 259.1 | J5: =SUM(I5/H5)*100 -> 83.580645 | K5: =I5/W5*100 -> 114.29202 | L5: 114 | M5: =R5+AB5 -> 78 | N5: =AC5+S5 -> 1.8 | O5: =SUM(N5/M5)*100 -> 2.3076923 | P5: =N5/L5*100 -> 1.5789474 | Q5: =N5/X5*100 -> 20.224719 | R5: 11 | S5: 0.9 | T5: =SUM(S5/R5)*100 -> 8.1818182 | V5: 2645.4 | W5: 226.7 | X5: 8.9 | Y5: 1.5 | Z5: 2479 | AA5: 2568.2 | AB5: 67 | AC5: 0.9
A6: ООО СП"Леткинский"
A7: ООО АФ"Рязановка" | G7: =D7/V7*100 -> #DIV/0! | K7: =I7/W7*100 -> #DIV/0! | L7: 78 | M7: =R7+AB7 -> 63 | N7: =AC7+S7 -> 49.1 | O7: =SUM(N7/M7)*100 -> 77.936508 | P7: =N7/L7*100 -> 62.948718 | Q7: =N7/X7*100 -> 22.409859 | R7: 5 | S7: 5.7 | T7: =SUM(S7/R7)*100 -> 114 | U7: =S7/Y7*100 -> 70.37037 | X7: 219.1 | Y7: 8.1 | AB7: 58 | AC7: 43.4
A8: ООО "Союз-Агро"(Шигонь) | B8: 550 | C8: =H8+Z8 -> 443 | D8: =I8+AA8 -> 622.7 | E8: 42.2 | F8: =D8/B8*100 -> 113.21818 | G8: =D8/V8*100 -> 149.22118 | H8: 44 | I8: 78.3 | J8: =SUM(I8/H8)*100 -> 177.95455 | K8: =I8/W8*100 -> 185.98575 | L8: 16 | M8: =R8+AB8 -> 11 | N8: =AC8+S8 -> 0.8 | O8: =SUM(N8/M8)*100 -> 7.2727273 | P8: =N8/L8*100 -> 5 | R8: 1 | S8: 0.4 | T8: =SUM(S8/R8)*100 -> 40 | V8: 417.3 | W8: 42.1 | X8: 0.9 | Y8: 0.5 | Z8: 399 | AA8: 544.4 | AB8: 10 | AC8: 0.4
A9: ООО "Биосфера"(Н.Федоровка) | B9: 436 | C9: =H9+Z9 -> 341 | D9: =I9+AA9 -> 407.6 | E9: =SUM(D9/C9)*100 -> 119.53079 | F9: =D9/B9*100 -> 93.486239 | G9: =D9/V9*100 -> 125.06904 | H9: 39 | I9: 57.3 | J9: =SUM(I9/H9)*100 -> 146.92308 | K9: =I9/W9*100 -> 162.32295 | L9: 33 | M9: =R9+AB9 -> 24 | N9: =AC9+S9 -> 5 | O9: =SUM(N9/M9)*100 -> 20.833333 | P9: =N9/L9*100 -> 15.151515 | R9: 3 | S9: 0.7 | T9: =SUM(S9/R9)*100 -> 23.333333 | V9: 325.9 | W9: 35.3 | X9: 2.7 | Y9: 0.4 | Z9: 302 | AA9: 350.3 | AB9: 21 | AC9: 4.3
A10: ООО"Конопатский" | B10: 3046 | C10: =H10+Z10 -> 2327 | D10: =I10+AA10 -> 2420.6 | E10: =SUM(D10/C10)*100 -> 104.02235 | F10: =D10/B10*100 -> 79.468155 | G10: =D10/V10*100 -> 107.37701 | H10: 210 | I10: 226.1 | J10: =SUM(I10/H10)*100 -> 107.66667 | K10: =I10/W10*100 -> 114.30738 | L10: 114 | M10: =R10+AB10 -> 78 | N10: =AC10+S10 -> 14.2 | O10: =SUM(N10/M10)*100 -> 18.205128 | P10: =N10/L10*100 -> 12.45614 | Q10: =N10/X10*100 -> 40.804598 | R10: 10 | S10: 0.9 | T10: =SUM(S10/R10)*100 -> 9 | U10: =S10/Y10*100 -> 60 | V10: 2254.3 | W10: 197.8 | X10: 34.8 | Y10: 1.5 | Z10: 2117 | AA10: 2194.5 | AB10: 68 | AC10: 13.3
A11: ООО "Созидание"(Шувары) | G11: =D11/V11*100 -> #DIV/0! | K11: =I11/W11*100 -> #DIV/0! | L11: 4 | M11: =R11+AB11 -> 4 | N11: =AC11+S11 -> 0 | O11: =SUM(N11/M11)*100 -> 0 | P11: =N11/L11*100 -> 0 | Q11: =N11/X11*100 -> 0 | U11: =S11/Y11*100 -> #DIV/0! | X11: 25 | AB11: 4 | AC11: 0
A12: ООО"Квартет"(Подверниха) | B12: 411 | C12: =H12+Z12 -> 311 | D12: =I12+AA12 -> 353.1 | E12: =SUM(D12/C12)*100 -> 113.53698 | F12: =D12/B12*100 -> 85.912409 | G12: =D12/V12*100 -> 68.06091 | H12: 34 | I12: 31.8 | J12: =SUM(I12/H12)*100 -> 93.529412 | K12: =I12/W12*100 -> 69.736842 | L12: 12 | M12: =R12+AB12 -> 9 | N12: =AC12+S12 -> 0.8 | O12: =SUM(N12/M12)*100 -> 8.8888889 | P12: =N12/L12*100 -> 6.6666667 | Q12: =N12/X12*100 -> 11.940299 | R12: 1 | S12: 0.4 | T12: =SUM(S12/R12)*100 -> 40 | V12: 518.8 | W12: 45.6 | X12: 6.7 | Y12: 0.4 | Z12: 277 | AA12: 321.3 | AB12: 8 | AC12: 0.4
A13: ООО АФ"Новотроицкая" | B13: 8465 | C13: =H13+Z13 -> 6348 | D13: =I13+AA13 -> 6366.9 | E13: =SUM(D13/C13)*100 -> 100.29773 | F13: =D13/B13*100 -> 75.214412 | G13: =D13/V13*100 -> 100.34515 | H13: 691 | I13: 647.9 | J13: =SUM(I13/H13)*100 -> 93.762663 | K13: =I13/W13*100 -> 93.993907 | L13: 266 | M13: =R13+AB13 -> 176 | N13: =AC13+S13 -> 120.2 | O13: =SUM(N13/M13)*100 -> 68.295455 | P13: =N13/L13*100 -> 45.18797 | Q13: =N13/X13*100 -> 127.33051 | R13: 30 | S13: 14.4 | T13: =SUM(S13/R13)*100 -> 48 | U13: =S13/Y13*100 -> 113.38583 | V13: 6345 | W13: 689.3 | X13: 94.4 | Y13: 12.7 | Z13: 5657 | AA13: 5719 | AB13: 146 | AC13: 105.8
A14: От. Н-Акшино АФ Октябрьская | B14: 3869 | C14: =H14+Z14 -> 2912 | D14: =I14+AA14 -> 2987.7 | E14: =SUM(D14/C14)*100 -> 102.59959 | F14: =D14/B14*100 -> 77.221504 | G14: =D14/V14*100 -> 88.375189 | H14: 324 | I14: 284 | J14: =SUM(I14/H14)*100 -> 87.654321 | L14: 88 | M14: =R14+AB14 -> 64 | N14: =AC14+S14 -> 0 | O14: =SUM(N14/M14)*100 -> 0 | P14: =N14/L14*100 -> 0 | R14: 8 | T14: =SUM(S14/R14)*100 -> 0 | V14: 3380.7 | W14: 304.2 | X14: 256.4 | Z14: 2588 | AA14: 2703.7 | AB14: 56 | AC14: 0
A15: ООО "Огаревское" | G15: =D15/V15*100 -> #DIV/0! | K15: =I15/W15*100 -> #DIV/0! | Q15: =N15/X15*100 -> #DIV/0! | U15: =S15/Y15*100 -> #DIV/0!
A16: СПК"Восход" | G16: =D16/V16*100 -> #DIV/0! | K16: =I16/W16*100 -> #DIV/0! | L16: 23 | M16: =R16+AB16 -> 17 | N16: =AC16+S16 -> 29.3 | O16: =SUM(N16/M16)*100 -> 172.35294 | P16: =N16/L16*100 -> 127.3913 | Q16: =N16/X16*100 -> 332.95455 | R16: 2 | S16: 1.8 | T16: =SUM(S16/R16)*100 -> 90 | X16: 8.8 | Y16: 1.8 | AB16: 15 | AC16: 27.5
A17: ООО "Ирсетское"
A18: К/х Пантюшина С.А. | B18: 2302 | C18: =H18+Z18 -> 1759 | D18: =I18+AA18 -> 1866.6 | E18: =SUM(D18/C18)*100 -> 106.11711 | F18: =D18/B18*100 -> 81.086012 | G18: =D18/V18*100 -> 114.5786 | H18: 181 | I18: 179.4 | J18: =SUM(I18/H18)*100 -> 99.116022 | K18: =I18/W18*100 -> 101.24153 | L18: 48 | M18: =R18+AB18 -> 35 | N18: =AC18+S18 -> 1 | O18: =SUM(N18/M18)*100 -> 2.8571429 | P18: =N18/L18*100 -> 2.0833333 | Q18: =N18/X18*100 -> 2.6954178 | R18: 5 | S18: 0.5 | T18: =SUM(S18/R18)*100 -> 10 | U18: =S18/Y18*100 -> 125 | V18: 1629.1 | W18: 177.2 | X18: 37.1 | Y18: 0.4 | Z18: 1578 | AA18: 1687.2 | AB18: 30 | AC18: 0.5
A19: Подсобное хоз."Мельц" | B19: 1995 | C19: =H19+Z19 -> 1497 | D19: =I19+AA19 -> 1550.7 | E19: =SUM(D19/C19)*100 -> 103.58717 | F19: =D19/B19*100 -> 77.729323 | G19: =D19/V19*100 -> 107.18877 | H19: 163 | I19: 153 | J19: =SUM(I19/H19)*100 -> 93.865031 | K19: =I19/W19*100 -> 109.91379 | L19: 73 | M19: =R19+AB19 -> 52 | N19: =AC19+S19 -> 0.9 | O19: =SUM(N19/M19)*100 -> 1.7307692 | P19: =N19/L19*100 -> 1.2328767 | R19: 7 | S19: 0.4 | T19: =SUM(S19/R19)*100 -> 5.7142857 | V19: 1446.7 | W19: 139.2 | X19: 0.8 | Y19: 0.8 | Z19: 1334 | AA19: 1397.7 | AB19: 45 | AC19: 0.5
A20: ООО "Луч"(Лемдяй) | L20: 94 | M20: =R20+AB20 -> 69 | N20: =AC20+S20 -> 67.8 | O20: =SUM(N20/M20)*100 -> 98.26087 | P20: =N20/L20*100 -> 72.12766 | Q20: =N20/X20*100 -> 133.20236 | R20: 8 | S20: 7 | T20: =SUM(S20/R20)*100 -> 87.5 | V20: 0 | X20: 50.9 | Y20: 5.2 | AB20: 61 | AC20: 60.8
A21: КФХ Потапов В.Н.(Конопать) | N21: =AC21+S21 -> 0 | V21: 0 | X21: 0 | AC21: 0
A22: КФХ Маргарян А.П.(Конопать) | N22: =AC22+S22 -> 0 | V22: 0 | X22: 0 | AC22: 0
A23: КФХ Мараченков (Шувары) | N23: =AC23+S23 -> 0 | V23: 0 | X23: 0 | AC23: 0
A24: КФХ Цыпцын А.В.(Ирсеть) | N24: =AC24+S24 -> 0 | V24: 0 | X24: 0 | AC24: 0
A25: КФХ Мартынова (Ст.Фед) | C25: =H25+Z25 -> 0 | D25: =I25+AA25 -> 14.5 | G25: =D25/V25*100 -> 83.815029 | I25: 1.4 | K25: =I25/W25*100 -> 100 | V25: 17.3 | W25: 1.4 | Z25: 0 | AA25: 13.1
A26: Отд АО Птиц Чамзинская | B26: 4271 | C26: =H26+Z26 -> 3262 | D26: =I26+AA26 -> 4507.7 | E26: =SUM(D26/C26)*100 -> 138.18823 | F26: =D26/B26*100 -> 105.54203 | G26: =D26/V26*100 -> 193.86289 | H26: 326 | I26: 581.5 | J26: =SUM(I26/H26)*100 -> 178.37423 | K26: =I26/W26*100 -> 193.18937 | L26: 87 | M26: =R26+AB26 -> 63 | N26: =AC26+S26 -> 47.9 | O26: =SUM(N26/M26)*100 -> 76.031746 | P26: =N26/L26*100 -> 55.057471 | Q26: =N26/X26*100 -> #DIV/0! | R26: 8 | S26: 0.1 | T26: =SUM(S26/R26)*100 -> 1.25 | U26: =S26/Y26*100 -> #DIV/0! | V26: 2325.2 | W26: 301 | Z26: 2936 | AA26: 3926.2 | AB26: 55 | AC26: 47.8
A27: КФХ Лавров А.Ю. | C27: =H27+Z27 -> 0 | D27: =I27+AA27 -> 0.8 | I27: 0.8
A28: В С Е Г О | B28: =SUM(B5:B26) -> 29100 | C28: =Z28+H28 -> 21989 | D28: =SUM(D5:D27) -> 23926.2 | E28: =SUM(D28/C28)*100 -> 108.80986 | F28: =D28/B28*100 -> 82.220619 | G28: =D28/V28*100 -> 112.29953 | H28: =SUM(H5:H26) -> 2322 | I28: =SUM(I5:I27) -> 2500.6 | J28: =SUM(I28/H28)*100 -> 107.69165 | K28: =I28/W28*100 -> 115.77924 | L28: =SUM(L5:L26) -> 1050 | M28: =R28+AB28 -> 743 | N28: =SUM(N5:N26) -> 338.8 | O28: =SUM(N28/M28)*100 -> 45.598923 | P28: =N28/L28*100 -> 32.266667 | Q28: =N28/X28*100 -> 45.385131 | R28: =SUM(R5:R26) -> 99 | S28: =SUM(S5:S26) -> 33.2 | T28: =SUM(S28/R28)*100 -> 33.535354 | U28: =S28/Y28*100 -> 99.6997 | V28: =SUM(V5:V26) -> 21305.7 | W28: =SUM(W5:W26) -> 2159.8 | X28: =SUM(X5:X26) -> 746.5 | Y28: =SUM(Y5:Y26) -> 33.3 | Z28: =SUM(Z5:Z26) -> 19667 | AA28: =SUM(AA5:AA26) -> 21425.6 | AB28: =SUM(AB5:AB26) -> 644 | AC28: =SUM(AC5:AC26) -> 305.6

Sheet Ввод жилья,з.пл
A1: Выполнение прогноза по вводу жилья, темп роста среднемесячной заработной платы
A2: Наименование сельского поселения | B2: Ввод жилья, кв.м. | G2: Темп роста номин.нач. среднемес. з/платы
B3: Прогноз на 2017 год | C3: Прогноз за 9 мес. | D3: Факт за 9 месяцев | E3: % вып. 12 мес. прогноза | F3: % вып. годового прогноза | G3: Прогноз на 2017 год | H3: Факт за 7 месяцев | I3: % вып.
J4: апрель | K4: май | L4: июнь | M4: июль | N4: август | O4: сент
A5: Богдановское | B5: 120 | C5: 60 | D5: 200.7 | K5: 119.6 | O5: 81.1
A6: Восходское
A7: Инг.Пятинское | B7: 72 | C7: 72 | D7: 86.3 | J7: 86.3 | K7: 86.3 | O7: 86.3
A8: Конопатское | B8: 132 | C8: 60 | G8: 110 | H8: 105.8
A9: Лемдяйское | B9: 60 | C9: 0 | D9: 203.3 | N9: 85.2 | O9: 118.1
A10: Леткинское
A11: Мельцанское | B11: 270 | C11: 150
A12: Новоакшинское | B12: 760 | C12: 620 | D12: 648.8 | E12: =D12/C12*100 -> 104.64516 | F12: =D12/B12*100 -> 85.368421 | J12: 168.5 | K12: 74.8 | N12: 90.7 | O12: 33.8
A13: Н.Александровское
A14: Новотроицкое | B14: 610 | C14: 340 | D14: 617.2 | E14: =D14/C14*100 -> 181.52941 | F14: =D14/B14*100 -> 101.18033 | G14: 109 | H14: 104.6 | K14: 83.8 | L14: 83.8
A15: Н.Федоровское | B15: 60 | C15: 60
A16: Рязановское
A17: Ст.Теризморгское | B17: 240 | C17: 120 | D17: 82.4 | O17: 82.4
A18: Ст.Федоровское
A19: Ст.Шайговское | B19: 3026 | C19: 2028 | D19: 1609.6 | E19: =D19/C19*100 -> 79.368836 | G19: 110 | H19: 107.2 | J19: 115.2 | M19: 99.9 | N19: 501.6 | O19: 893
A20: Шигонское | D20: 85.3 | K20: 85.3
A21: Шуварское
A22: Итого | B22: =SUM(B5:B21) -> 5350 | C22: =SUM(C5:C21) -> 3510 | D22: =SUM(D5:D21) -> 3533.6 | E22: =D22/C22*100 -> 100.67236 | F22: =D22/B22*100 -> 66.048598 | G22: 110 | H22: 105.6 | J22: 283.7 | K22: 363.5 | L22: 83.8 | M22: 99.9 | N22: =SUM(N9:N21) -> 677.5 | O22: =SUM(O5:O21) -> 1294.7
D24: 1294.7

Sheet Торговля 
A1: АНАЛИЗ ПО ТОВАРООБОРОТУ за сентябрь 2017 года | N1: коп.предид.мес.
A2: Наименование предприятия | B2: Прогноз | C2: Прогноз с нач.года | D2: Факт 2016 с нач.года | E2: Факт 2017 с нач.года | F2: Темп роста 2017/2016 (%) | G2: % выполнения прогноза | H2: Уд.вес, % | I2: Прогноз сентябрь | J2: Факт сентябрь 2016 | K2: Факт сентябрь 2017 | L2: Темп роста 2017/2016 (%) | M2: % выполнения прогноза | N2: Прогноз | O2: Факт c н.г.
B3: на 2017 | N3: с н.г. | O3: всего
A4: Фармация | B4: 9404 | C4: =I4+N4 -> 6578 | D4: 3615 | E4: =K4+O4 -> 3483 | F4: =E4/D4*100 -> 96.348548 | G4: =(E4/C4)*100 -> 52.949225 | H4: =SUM(E4/E58)*100 -> 0.43286056 | I4: 872 | J4: 50 | K4: 353 | L4: =K4/J4*100 -> 706 | M4: =K4/I4*100 -> 40.481651 | N4: 5706 | O4: 3130
A5: Сельхозпредприятия | B5: 10137 | C5: =I5+N5 -> 6756 | D5: 10158.4 | E5: =K5+O5 -> 9517.7 | F5: =E5/D5*100 -> 93.692904 | G5: =(E5/C5)*100 -> 140.87774 | H5: =SUM(E5/E58)*100 -> 1.1828415 | I5: 1045 | J5: 922.3 | K5: 2021.9 | L5: =K5/J5*100 -> 219.22368 | M5: =K5/I5*100 -> 193.48325 | N5: 5711 | O5: 7495.8
A6: РУПС почта | B6: 9110 | C6: =I6+N6 -> 6700 | D6: 5704.2 | E6: =K6+O6 -> 5689.5 | F6: =E6/D6*100 -> 99.742295 | G6: =(E6/C6)*100 -> 84.91791 | H6: =SUM(E6/E58)*100 -> 0.70708015 | I6: 754 | J6: 546.4 | K6: 629.2 | L6: =K6/J6*100 -> 115.15373 | M6: =K6/I6*100 -> 83.448276 | N6: 5946 | O6: 5060.3
A7: М-н "Нива-29" Мельцаны | B7: 10249 | C7: =I7+N7 -> 7774 | D7: 7923 | E7: =K7+O7 -> 2863 | F7: =E7/D7*100 -> 36.135302 | G7: =(E7/C7)*100 -> 36.827888 | H7: =SUM(E7/E58)*100 -> 0.35580815 | I7: 910 | J7: 718 | K7: 0 | L7: =K7/J7*100 -> 0 | M7: =K7/I7*100 -> 0 | N7: 6864 | O7: 2863
A8: М-н "Нива-39" Н-Федоровка | B8: 2681 | C8: =I8+N8 -> 1944 | D8: 1886 | E8: =K8+O8 -> 445 | F8: =E8/D8*100 -> 23.59491 | G8: =(E8/C8)*100 -> 22.890947 | H8: =SUM(E8/E58)*100 -> 0.055303747 | I8: 240 | J8: 194 | K8: 0 | L8: =K8/J8*100 -> 0 | M8: =K8/I8*100 -> 0 | N8: 1704 | O8: 445
A9: Бар ТД"Нива" | B9: 272 | C9: =I9+N9 -> 192 | D9: 203 | E9: =K9+O9 -> 82 | F9: =E9/D9*100 -> 40.394089 | G9: =(E9/C9)*100 -> 42.708333 | H9: =SUM(E9/E58)*100 -> 0.010190803 | I9: 25 | J9: 0 | K9: 0 | L9: =K9/J9*100 -> #DIV/0! | M9: =K9/I9*100 -> 0 | N9: 167 | O9: 82
A10: Кафе "Нива" | C10: =I10+N10 -> 0 | D10: 1823 | E10: =K10+O10 -> 1674 | F10: =E10/D10*100 -> 91.826659 | H10: =SUM(E10/E58)*100 -> 0.20804151 | J10: 221 | K10: 168 | L10: =K10/J10*100 -> 76.0181 | N10: 0 | O10: 1506
A11: ООО "Лукойл-Волганефтепродукт" | B11: 96395 | C11: =I11+N11 -> 68570 | D11: 67982 | E11: =K11+O11 -> 82323.2 | F11: =E11/D11*100 -> 121.09558 | G11: =(E11/C11)*100 -> 120.05717 | H11: =SUM(E11/E58)*100 -> 10.230969 | I11: 8890 | J11: 7771 | K11: 6949.1 | L11: =K11/J11*100 -> 89.423498 | M11: =K11/I11*100 -> 78.167604 | N11: 59680 | O11: 75374.1 | P11: Ст.Шайгово (прочие)
A12: М-н"Птица-28"(Ст.Шайгово) | B12: 16154 | C12: =I12+N12 -> 10004 | D12: 11950.2 | E12: =K12+O12 -> 12330 | F12: =E12/D12*100 -> 103.17819 | G12: =(E12/C12)*100 -> 123.2507 | H12: =SUM(E12/E58)*100 -> 1.5323488 | I12: 1550 | J12: 1200 | K12: 1700 | L12: =K12/J12*100 -> 141.66667 | M12: =K12/I12*100 -> 109.67742 | N12: 8454 | O12: 10630 | P12: =K4+K9 -> 353
A13: М-н "Птица" (Н.Акшино) | B13: 15797 | C13: =I13+N13 -> 10664 | D13: 9516 | E13: =K13+O13 -> 10504 | F13: =E13/D13*100 -> 110.38251 | G13: =(E13/C13)*100 -> 98.499625 | H13: =SUM(E13/E58)*100 -> 1.305417 | I13: 1371 | J13: 1021 | K13: 1185 | L13: =K13/J13*100 -> 116.06268 | M13: =K13/I13*100 -> 86.43326 | N13: 9293 | O13: 9319
A14: ООО "Валда"-Продукты | B14: 16010 | C14: =I14+N14 -> 10830 | D14: 9792.6 | E14: =K14+O14 -> 10938.7 | F14: =E14/D14*100 -> 111.70374 | G14: =(E14/C14)*100 -> 101.00369 | H14: =SUM(E14/E58)*100 -> 1.3594407 | I14: 1550 | J14: 1311.4 | K14: 1282.4 | L14: =K14/J14*100 -> 97.788623 | M14: =K14/I14*100 -> 82.735484 | N14: 9280 | O14: 9656.3
A15: ООО "Валда"-м-н "Оксана" | B15: 10757 | C15: =I15+N15 -> 6907 | D15: 6591.9 | E15: =K15+O15 -> 6761 | F15: =E15/D15*100 -> 102.56527 | G15: =(E15/C15)*100 -> 97.886202 | H15: =SUM(E15/E58)*100 -> 0.84024412 | I15: 950 | J15: 745.9 | K15: 737.1 | L15: =K15/J15*100 -> 98.820217 | M15: =K15/I15*100 -> 77.589474 | N15: 5957 | O15: 6023.9
A16: ООО "Валда"-Хозтовары | B16: 5280 | C16: =I16+N16 -> 3390 | D16: 2885.7 | E16: =K16+O16 -> 1403.5 | F16: =E16/D16*100 -> 48.636379 | G16: =(E16/C16)*100 -> 41.40118 | H16: =SUM(E16/E58)*100 -> 0.17442429 | I16: 550 | J16: 361.6 | K16: 214.7 | L16: =K16/J16*100 -> 59.375 | M16: =K16/I16*100 -> 39.036364 | N16: 2840 | O16: 1188.8
A17: ООО "Шишканов В.Н." | B17: 20980 | C17: =I17+N17 -> 12328 | D17: 4981 | E17: =K17+O17 -> 10801 | F17: =E17/D17*100 -> 216.84401 | G17: =(E17/C17)*100 -> 87.613563 | H17: =SUM(E17/E58)*100 -> 1.3423276 | I17: 2215 | J17: 530 | K17: 1430 | L17: =K17/J17*100 -> 269.81132 | M17: =K17/I17*100 -> 64.559819 | N17: 10113 | O17: 9371
A18: ООО Шишканов В.Н."Интек- маркет" | E18: =K18+O18 -> 400 | K18: 400
A19: ООО "Ромашов А.Н." | B19: 9030 | C19: =I19+N19 -> 6420 | D19: 6497 | E19: =K19+O19 -> 8840 | F19: =E19/D19*100 -> 136.0628 | G19: =(E19/C19)*100 -> 137.6947 | H19: =SUM(E19/E58)*100 -> 1.0986183 | I19: 820 | J19: 675 | K19: 1210 | L19: =K19/J19*100 -> 179.25926 | M19: =K19/I19*100 -> 147.56098 | N19: 5600 | O19: 7630
A20: ООО"Агрохимремонт" Продукты | B20: 2656 | C20: =I20+N20 -> 1696 | D20: 1478 | E20: =K20+O20 -> 913 | F20: =E20/D20*100 -> 61.772666 | G20: =(E20/C20)*100 -> 53.832547 | H20: =SUM(E20/E58)*100 -> 0.11346589 | I20: 310 | J20: 160 | K20: 63 | M20: =K20/I20*100 -> 20.322581 | N20: 1386 | O20: 850 | P20: шайгово
A21: ЗАО"ТАНДЕР"м-н "Магнит" | B21: 80499 | C21: =I21+N21 -> 55829 | D21: 53305 | E21: =K21+O21 -> 53967 | F21: =E21/D21*100 -> 101.24191 | G21: =(E21/C21)*100 -> 96.664816 | H21: =SUM(E21/E58)*100 -> 6.7069153 | I21: 6800 | J21: 5325 | K21: 5450 | L21: =K21/J21*100 -> 102.34742 | M21: =K21/I21*100 -> 80.147059 | N21: 49029 | O21: 48517 | P21: =K14+K15+K16+K17+K19+K20+K21+K22+K23+K24+K25+K26+K27+K28+K53+K12+K11+K18 -> 27987.3
A22: ООО "Агроторг"-"Пятерочка" | B22: 35105 | C22: =I22+N22 -> 24540 | D22: 25794 | E22: =K22+O22 -> 30355 | F22: =E22/D22*100 -> 117.68241 | G22: =(E22/C22)*100 -> 123.69601 | H22: =SUM(E22/E58)*100 -> 3.7724612 | I22: 3250 | J22: 2531 | K22: 3005 | L22: =K22/J22*100 -> 118.72778 | M22: =K22/I22*100 -> 92.461538 | N22: 21290 | O22: 27350
A23: ООО "Вымпел" с.Ст.Шайгово | B23: 1281 | C23: =I23+N23 -> 861 | D23: 777.9 | E23: =K23+O23 -> 1285.9 | F23: =E23/D23*100 -> 165.30402 | G23: =(E23/C23)*100 -> 149.34959 | H23: =SUM(E23/E58)*100 -> 0.15980919 | I23: 100 | J23: 85.5 | K23: 164 | L23: =K23/J23*100 -> 191.81287 | M23: =K23/I23*100 -> 164 | N23: 761 | O23: 1121.9
A24: ООО"Сельские магазины" Ст.Шайгово | B24: 2035 | C24: =I24+N24 -> 1625 | D24: 2018.9 | E24: =K24+O24 -> 1154 | F24: =E24/D24*100 -> 57.15984 | G24: =(E24/C24)*100 -> 71.015385 | H24: =SUM(E24/E58)*100 -> 0.14341691 | I24: 190 | J24: 180 | K24: 220 | L24: =K24/J24*100 -> 122.22222 | M24: =K24/I24*100 -> 115.78947 | N24: 1435 | O24: 934
A25: ООО "Креатор"(Мегафон) | B25: 5349 | C25: =I25+N25 -> 3395 | D25: 2163.4 | E25: =K25+O25 -> 6057.4 | F25: =E25/D25*100 -> 279.99445 | G25: =(E25/C25)*100 -> 178.42121 | H25: =SUM(E25/E58)*100 -> 0.75280206 | I25: 750 | J25: 200.8 | K25: 1689 | L25: =K25/J25*100 -> 841.13546 | M25: =K25/I25*100 -> 225.2 | N25: 2645 | O25: 4368.4
A26: ООО ТЦ "Рубин" | B26: 12850 | C26: =I26+N26 -> 7010 | D26: 3016 | E26: =K26+O26 -> 10083 | F26: =E26/D26*100 -> 334.31698 | G26: =(E26/C26)*100 -> 143.83738 | H26: =SUM(E26/E58)*100 -> 1.2530959 | I26: 1550 | J26: 406 | K26: 1605 | L26: =K26/J26*100 -> 395.3202 | M26: =K26/I26*100 -> 103.54839 | N26: 5460 | O26: 8478
A27: ООО "Сартория" Ст.шайгово Лобачев | B27: 736 | C27: =I27+N27 -> 531 | D27: 619 | E27: =K27+O27 -> 866 | F27: =E27/D27*100 -> 139.90307 | G27: =(E27/C27)*100 -> 163.08851 | H27: =SUM(E27/E58)*100 -> 0.10762482 | I27: 80 | J27: 78 | K27: 168 | L27: =K27/J27*100 -> 215.38462 | M27: =K27/I27*100 -> 210 | N27: 451 | O27: 698
A28: ООО МПК "Норовский" | B28: 8624 | C28: =I28+N28 -> 4205 | D28: 5847 | E28: =K28+O28 -> 8334 | F28: =E28/D28*100 -> 142.53463 | G28: =(E28/C28)*100 -> 198.19263 | H28: =SUM(E28/E58)*100 -> 1.0357335 | I28: 950 | J28: 800 | K28: 1200 | L28: =K28/J28*100 -> 150 | M28: =K28/I28*100 -> 126.31579 | N28: 3255 | O28: 7134
A29: ООО Калявин Н.П. | B29: 2035 | C29: =I29+N29 -> 1358 | D29: 1273 | E29: =K29+O29 -> 2062 | F29: =E29/D29*100 -> 161.97958 | G29: =(E29/C29)*100 -> 151.84094 | H29: =SUM(E29/E58)*100 -> 0.25626141 | I29: 213 | J29: 110 | K29: 254 | L29: =K29/J29*100 -> 230.90909 | M29: =K29/I29*100 -> 119.24883 | N29: 1145 | O29: 1808
A30: ООО "Сельские магазины"(Богд) | B30: 873 | C30: =I30+N30 -> 581 | D30: 615 | E30: =K30+O30 -> 540 | F30: =E30/D30*100 -> 87.804878 | G30: =(E30/C30)*100 -> 92.943201 | H30: =SUM(E30/E58)*100 -> 0.067110165 | I30: 92 | J30: 120 | K30: 60 | L30: =K30/J30*100 -> 50 | M30: =K30/I30*100 -> 65.217391 | N30: 489 | O30: 480
A31: ООО "Сельские магазины"(Летки) | B31: 1031 | C31: =I31+N31 -> 686 | D31: 773.7 | E31: =K31+O31 -> 779.1 | F31: =E31/D31*100 -> 100.69794 | G31: =(E31/C31)*100 -> 113.57143 | H31: =SUM(E31/E58)*100 -> 0.096825054 | I31: 98 | J31: 95.4 | K31: 100.7 | L31: =K31/J31*100 -> 105.55556 | M31: =K31/I31*100 -> 102.7551 | N31: 588 | O31: 678.4
A32: ООО "Транспотоксервис" (Летки) | B32: 1120 | C32: =I32+N32 -> 827 | D32: 1241.6 | E32: =K32+O32 -> 433.8 | F32: =E32/D32*100 -> 34.938789 | G32: =(E32/C32)*100 -> 52.454655 | H32: =SUM(E32/E58)*100 -> 0.053911832 | I32: 98 | J32: 145 | K32: 0 | L32: =K32/J32*100 -> 0 | M32: =K32/I32*100 -> 0 | N32: 729 | O32: 433.8
A33: ООО "Ермаков А.В." (Восход) | B33: 5958 | C33: =I33+N33 -> 4515 | D33: 2880 | E33: =K33+O33 -> 2970 | F33: =E33/D33*100 -> 103.125 | G33: =(E33/C33)*100 -> 65.780731 | H33: =SUM(E33/E58)*100 -> 0.36910591 | I33: 512 | J33: 340 | K33: 340 | L33: =K33/J33*100 -> 100 | M33: =K33/I33*100 -> 66.40625 | N33: 4003 | O33: 2630
A34: ООО "Ермаков А.В."(Рязановка) | B34: 3458 | C34: =I34+N34 -> 2548 | D34: 2450 | E34: =K34+O34 -> 2800 | F34: =E34/D34*100 -> 114.28571 | G34: =(E34/C34)*100 -> 109.89011 | H34: =SUM(E34/E58)*100 -> 0.34797863 | I34: 350 | J34: 310 | K34: 310 | L34: =K34/J34*100 -> 100 | M34: =K34/I34*100 -> 88.571429 | N34: 2198 | O34: 2490
A35: ООО "Ермаков А.В." (Ст.Теризморга) | B35: 15204 | C35: =I35+N35 -> 11278 | D35: 8280 | E35: =K35+O35 -> 9850 | F35: =E35/D35*100 -> 118.96135 | G35: =(E35/C35)*100 -> 87.338181 | H35: =SUM(E35/E58)*100 -> 1.2241391 | I35: 1525 | J35: 1080 | K35: 1220 | L35: =K35/J35*100 -> 112.96296 | M35: =K35/I35*100 -> 80 | N35: 9753 | O35: 8630
